BEGIN:VCALENDAR
VERSION:2.0
PRODID:-//Castro Valley Marketplace - ECPv6.15.18//NONSGML v1.0//EN
CALSCALE:GREGORIAN
METHOD:PUBLISH
X-WR-CALNAME:Castro Valley Marketplace
X-ORIGINAL-URL:https://castrovalleymarketplace.com
X-WR-CALDESC:Events for Castro Valley Marketplace
REFRESH-INTERVAL;VALUE=DURATION:PT1H
X-Robots-Tag:noindex
X-PUBLISHED-TTL:PT1H
BEGIN:VTIMEZONE
TZID:America/Los_Angeles
BEGIN:DAYLIGHT
TZOFFSETFROM:-0800
TZOFFSETTO:-0700
TZNAME:PDT
DTSTART:20220313T100000
END:DAYLIGHT
BEGIN:STANDARD
TZOFFSETFROM:-0700
TZOFFSETTO:-0800
TZNAME:PST
DTSTART:20221106T090000
END:STANDARD
BEGIN:DAYLIGHT
TZOFFSETFROM:-0800
TZOFFSETTO:-0700
TZNAME:PDT
DTSTART:20230312T100000
END:DAYLIGHT
BEGIN:STANDARD
TZOFFSETFROM:-0700
TZOFFSETTO:-0800
TZNAME:PST
DTSTART:20231105T090000
END:STANDARD
BEGIN:DAYLIGHT
TZOFFSETFROM:-0800
TZOFFSETTO:-0700
TZNAME:PDT
DTSTART:20240310T100000
END:DAYLIGHT
BEGIN:STANDARD
TZOFFSETFROM:-0700
TZOFFSETTO:-0800
TZNAME:PST
DTSTART:20241103T090000
END:STANDARD
END:VTIMEZONE
BEGIN:VEVENT
DTSTART;TZID=America/Los_Angeles:20231202T140000
DTEND;TZID=America/Los_Angeles:20231202T160000
DTSTAMP:20260420T080234
CREATED:20231113T185125Z
LAST-MODIFIED:20231129T203409Z
UID:10000925-1701525600-1701532800@castrovalleymarketplace.com
SUMMARY:Fresh Evergreen Wreath Workshop
DESCRIPTION:Join Bluebird Farm and immerse yourself in the joy of the season as you create your very own custom\, beautiful\, and fragrant fresh evergreen holiday wreath. Bluebird Farm provides the perfect setting\, seasonal beverages\, delicious snacks\, and all the materials and expertise you need to craft a wreath that’s as unique as you are. No experience is necessary\, as the talented Malaika Bishop\, founder of Bluebird Farm will guide you. Malaika’s profound connection to the land and her love for nurturing it shine through in her role as your wreath-making guide. With over 20 years of experience as a dedicated advocate for sustainable and just food systems\, she brings a wealth of expertise to the table. This deep-rooted commitment to both the environment and creative expression leads the way in weaving nature’s beauty into your holiday wreath.Don’t miss this opportunity to learn from Malaika and create something truly special at our upcoming wreath making event!
URL:https://castrovalleymarketplace.com/calendar/fresh-evergreen-wreath-workshop/
LOCATION:Castro Valley Marketplace\, 3295 Castro Valley Boulevard\, Castro Valley\, CA\, 94546\, United States
CATEGORIES:Marketplace Events,Workshop
ATTACH;FMTTYPE=image/jpeg:https://castrovalleymarketplace.com/wp-content/uploads/2023/11/wreath-workshop-header.jpg
ORGANIZER;CN="Bluebird Farm":MAILTO:malaika@bluebirdfarm.net
GEO:37.69557;-122.078496
X-APPLE-STRUCTURED-LOCATION;VALUE=URI;X-ADDRESS=Castro Valley Marketplace 3295 Castro Valley Boulevard Castro Valley CA 94546 United States;X-APPLE-RADIUS=500;X-TITLE=3295 Castro Valley Boulevard:geo:-122.078496,37.69557
END:VEVENT
END:VCALENDAR