BEGIN:VCALENDAR
VERSION:2.0
PRODID:-//Castro Valley Marketplace - ECPv6.15.18//NONSGML v1.0//EN
CALSCALE:GREGORIAN
METHOD:PUBLISH
X-WR-CALNAME:Castro Valley Marketplace
X-ORIGINAL-URL:https://castrovalleymarketplace.com
X-WR-CALDESC:Events for Castro Valley Marketplace
REFRESH-INTERVAL;VALUE=DURATION:PT1H
X-Robots-Tag:noindex
X-PUBLISHED-TTL:PT1H
BEGIN:VTIMEZONE
TZID:America/Los_Angeles
BEGIN:DAYLIGHT
TZOFFSETFROM:-0800
TZOFFSETTO:-0700
TZNAME:PDT
DTSTART:20210314T100000
END:DAYLIGHT
BEGIN:STANDARD
TZOFFSETFROM:-0700
TZOFFSETTO:-0800
TZNAME:PST
DTSTART:20211107T090000
END:STANDARD
BEGIN:DAYLIGHT
TZOFFSETFROM:-0800
TZOFFSETTO:-0700
TZNAME:PDT
DTSTART:20220313T100000
END:DAYLIGHT
BEGIN:STANDARD
TZOFFSETFROM:-0700
TZOFFSETTO:-0800
TZNAME:PST
DTSTART:20221106T090000
END:STANDARD
BEGIN:DAYLIGHT
TZOFFSETFROM:-0800
TZOFFSETTO:-0700
TZNAME:PDT
DTSTART:20230312T100000
END:DAYLIGHT
BEGIN:STANDARD
TZOFFSETFROM:-0700
TZOFFSETTO:-0800
TZNAME:PST
DTSTART:20231105T090000
END:STANDARD
END:VTIMEZONE
BEGIN:VEVENT
DTSTART;TZID=America/Los_Angeles:20220916T160000
DTEND;TZID=America/Los_Angeles:20220916T200000
DTSTAMP:20260425T181718
CREATED:20220826T225812Z
LAST-MODIFIED:20221003T002028Z
UID:10000898-1663344000-1663358400@castrovalleymarketplace.com
SUMMARY:Habibis Birria
DESCRIPTION:Enjoy Habibi’s Birria on the paseo.
URL:https://castrovalleymarketplace.com/calendar/habibis-birria/2022-09-16/
LOCATION:The Paseo\, 3295 Castro Valley Blvd\, Castro Valley\, 94546
ATTACH;FMTTYPE=image/jpeg:https://castrovalleymarketplace.com/wp-content/uploads/2022/08/IMG_2941-1.jpg
END:VEVENT
BEGIN:VEVENT
DTSTART;TZID=America/Los_Angeles:20220916T110000
DTEND;TZID=America/Los_Angeles:20220916T140000
DTSTAMP:20260425T181718
CREATED:20220819T194430Z
LAST-MODIFIED:20220916T195544Z
UID:10000877-1663326000-1663336800@castrovalleymarketplace.com
SUMMARY:Shayi Tea Pop Up
DESCRIPTION:Shayi will be offering their unique spice blend to the Paseo from 11am – 5:30pm
URL:https://castrovalleymarketplace.com/calendar/shayi-tea-pop-up/2022-09-16/
LOCATION:Castro Valley Marketplace\, 3295 Castro Valley Boulevard\, Castro Valley\, CA\, 94546\, United States
CATEGORIES:Marketplace Events,Paseo Events
ATTACH;FMTTYPE=image/jpeg:https://castrovalleymarketplace.com/wp-content/uploads/2022/08/thumbnail_image0.jpg
GEO:37.69557;-122.078496
X-APPLE-STRUCTURED-LOCATION;VALUE=URI;X-ADDRESS=Castro Valley Marketplace 3295 Castro Valley Boulevard Castro Valley CA 94546 United States;X-APPLE-RADIUS=500;X-TITLE=3295 Castro Valley Boulevard:geo:-122.078496,37.69557
END:VEVENT
BEGIN:VEVENT
DTSTART;TZID=America/Los_Angeles:20220915T180000
DTEND;TZID=America/Los_Angeles:20220915T203000
DTSTAMP:20260425T181718
CREATED:20220829T033108Z
LAST-MODIFIED:20220829T033108Z
UID:10000784-1663264800-1663273800@castrovalleymarketplace.com
SUMMARY:Farm to Table Cooking Class
DESCRIPTION:A long-time vegetarian\, Chef Margaret Riesen was raised in Switzerland among people who grew most of their own food. Meat was not often on the menu\, and her preference for plant-based meals began early in life. As the owner of a plant-based catering business\, Riesen loves demonstrating that healthy meals do not have to be boring\, and that healthy meals in fact can be delicious! Her educational background is in Biology\, and she taught cooking classes for 12 years at Santa Barbara Community College’s Continuing Education program. \nJoin us for a culinary cooking experience where we partner with local farms.
URL:https://castrovalleymarketplace.com/calendar/farm-to-table-cooking-class/
LOCATION:Pop Out Kitchen #203\, 3295 Castro Valley Boulevard\, Suite 203\, Castro Valley\, CA\, 94546\, United States
END:VEVENT
BEGIN:VEVENT
DTSTART;TZID=America/Los_Angeles:20220914T170000
DTEND;TZID=America/Los_Angeles:20220914T200000
DTSTAMP:20260425T181718
CREATED:20220914T174629Z
LAST-MODIFIED:20220914T174629Z
UID:10000707-1663174800-1663185600@castrovalleymarketplace.com
SUMMARY:Performing on the Paseo: Evan Platis
DESCRIPTION:Folk singer Evan Platis (aka The Long Haired Greek) was raised in the coastal woods of West Marin County. Over the past 7 years\, Evan has cut his teeth in the North County San Diego music scene\, writing and performing among peers. His bluegrass inspired style is begotten of a folk-mass background\, and is heavily influenced by Bob Dylan. Having recently moved to Castro Valley\, he is looking forward to being a part of the greater Bay Area scene and beyond. He has released 2 live videos on YouTube and expects to release more music over the coarse of 2022. Come out and see him perform 5-8pm!
URL:https://castrovalleymarketplace.com/calendar/performing-on-the-paseo-evan-platis/
LOCATION:Castro Valley Marketplace\, 3295 Castro Valley Boulevard\, Castro Valley\, CA\, 94546\, United States
CATEGORIES:Live Music,Night Owl
ATTACH;FMTTYPE=image/jpeg:https://castrovalleymarketplace.com/wp-content/uploads/2022/08/Evan-Platis-image-2.jpg
GEO:37.69557;-122.078496
X-APPLE-STRUCTURED-LOCATION;VALUE=URI;X-ADDRESS=Castro Valley Marketplace 3295 Castro Valley Boulevard Castro Valley CA 94546 United States;X-APPLE-RADIUS=500;X-TITLE=3295 Castro Valley Boulevard:geo:-122.078496,37.69557
END:VEVENT
BEGIN:VEVENT
DTSTART;TZID=America/Los_Angeles:20220914T170000
DTEND;TZID=America/Los_Angeles:20220914T200000
DTSTAMP:20260425T181718
CREATED:20220826T165134Z
LAST-MODIFIED:20220826T183601Z
UID:10000852-1663174800-1663185600@castrovalleymarketplace.com
SUMMARY:Castro Valley Marketplace Art Walk
DESCRIPTION:Join us every Wednesday from 5:00pm-8:00pm to experience the best of the local art community.
URL:https://castrovalleymarketplace.com/calendar/art-walk-3/2022-09-14/
LOCATION:Castro Valley Marketplace\, 3295 Castro Valley Boulevard\, Castro Valley\, CA\, 94546\, United States
GEO:37.69557;-122.078496
X-APPLE-STRUCTURED-LOCATION;VALUE=URI;X-ADDRESS=Castro Valley Marketplace 3295 Castro Valley Boulevard Castro Valley CA 94546 United States;X-APPLE-RADIUS=500;X-TITLE=3295 Castro Valley Boulevard:geo:-122.078496,37.69557
END:VEVENT
BEGIN:VEVENT
DTSTART;TZID=America/Los_Angeles:20220913T170000
DTEND;TZID=America/Los_Angeles:20220913T200000
DTSTAMP:20260425T181718
CREATED:20220628T184006Z
LAST-MODIFIED:20220629T191617Z
UID:10000779-1663088400-1663099200@castrovalleymarketplace.com
SUMMARY:Club Anywhere Game Night
DESCRIPTION:Join us every Tuesday night\, to play games outside on the Paseo\, with DJ Robert Hoffman.
URL:https://castrovalleymarketplace.com/calendar/club-anywhere-game-night/2022-09-13/
LOCATION:Castro Valley Marketplace\, 3295 Castro Valley Boulevard\, Castro Valley\, CA\, 94546\, United States
ATTACH;FMTTYPE=image/jpeg:https://castrovalleymarketplace.com/wp-content/uploads/2022/06/thumbnail_ClubAnywhere_Logo_color-RED-pdf.jpg
GEO:37.69557;-122.078496
X-APPLE-STRUCTURED-LOCATION;VALUE=URI;X-ADDRESS=Castro Valley Marketplace 3295 Castro Valley Boulevard Castro Valley CA 94546 United States;X-APPLE-RADIUS=500;X-TITLE=3295 Castro Valley Boulevard:geo:-122.078496,37.69557
END:VEVENT
BEGIN:VEVENT
DTSTART;TZID=America/Los_Angeles:20220911T160000
DTEND;TZID=America/Los_Angeles:20220911T200000
DTSTAMP:20260425T181718
CREATED:20220826T225812Z
LAST-MODIFIED:20221003T002028Z
UID:10000897-1662912000-1662926400@castrovalleymarketplace.com
SUMMARY:Habibis Birria
DESCRIPTION:Enjoy Habibi’s Birria on the paseo.
URL:https://castrovalleymarketplace.com/calendar/habibis-birria/2022-09-11/
LOCATION:The Paseo\, 3295 Castro Valley Blvd\, Castro Valley\, 94546
ATTACH;FMTTYPE=image/jpeg:https://castrovalleymarketplace.com/wp-content/uploads/2022/08/IMG_2941-1.jpg
END:VEVENT
BEGIN:VEVENT
DTSTART;TZID=America/Los_Angeles:20220910T203000
DTEND;TZID=America/Los_Angeles:20220910T223000
DTSTAMP:20260425T181718
CREATED:20220831T183332Z
LAST-MODIFIED:20220831T183332Z
UID:10000786-1662841800-1662849000@castrovalleymarketplace.com
SUMMARY:Night Owl Entertainment Presents: Bliss
DESCRIPTION:We are excited to be hosting Bliss again\, Saturday\, September 10th! This local trio featuring a piano\, guitar and vocals will perform on the mezzanine from 8:30-10:30pm! Mark your calendars\, and come enjoy a drink and live music!
URL:https://castrovalleymarketplace.com/calendar/night-owl-entertainment-presents-bliss-2/
LOCATION:Castro Valley Marketplace\, 3295 Castro Valley Boulevard\, Castro Valley\, CA\, 94546\, United States
CATEGORIES:Live Music,Night Owl
ATTACH;FMTTYPE=image/jpeg:https://castrovalleymarketplace.com/wp-content/uploads/2022/08/IMG_1445.jpg
GEO:37.69557;-122.078496
X-APPLE-STRUCTURED-LOCATION;VALUE=URI;X-ADDRESS=Castro Valley Marketplace 3295 Castro Valley Boulevard Castro Valley CA 94546 United States;X-APPLE-RADIUS=500;X-TITLE=3295 Castro Valley Boulevard:geo:-122.078496,37.69557
END:VEVENT
BEGIN:VEVENT
DTSTART;TZID=America/Los_Angeles:20220910T160000
DTEND;TZID=America/Los_Angeles:20220910T200000
DTSTAMP:20260425T181718
CREATED:20220826T225812Z
LAST-MODIFIED:20221003T002028Z
UID:10000896-1662825600-1662840000@castrovalleymarketplace.com
SUMMARY:Habibis Birria
DESCRIPTION:Enjoy Habibi’s Birria on the paseo.
URL:https://castrovalleymarketplace.com/calendar/habibis-birria/2022-09-10/
LOCATION:The Paseo\, 3295 Castro Valley Blvd\, Castro Valley\, 94546
ATTACH;FMTTYPE=image/jpeg:https://castrovalleymarketplace.com/wp-content/uploads/2022/08/IMG_2941-1.jpg
END:VEVENT
BEGIN:VEVENT
DTSTART;TZID=America/Los_Angeles:20220910T110000
DTEND;TZID=America/Los_Angeles:20220910T140000
DTSTAMP:20260425T181718
CREATED:20220819T194430Z
LAST-MODIFIED:20220916T195544Z
UID:10000876-1662807600-1662818400@castrovalleymarketplace.com
SUMMARY:Shayi Tea Pop Up
DESCRIPTION:Shayi will be offering their unique spice blend to the Paseo from 11am – 5:30pm
URL:https://castrovalleymarketplace.com/calendar/shayi-tea-pop-up/2022-09-10/
LOCATION:Castro Valley Marketplace\, 3295 Castro Valley Boulevard\, Castro Valley\, CA\, 94546\, United States
CATEGORIES:Marketplace Events,Paseo Events
ATTACH;FMTTYPE=image/jpeg:https://castrovalleymarketplace.com/wp-content/uploads/2022/08/thumbnail_image0.jpg
GEO:37.69557;-122.078496
X-APPLE-STRUCTURED-LOCATION;VALUE=URI;X-ADDRESS=Castro Valley Marketplace 3295 Castro Valley Boulevard Castro Valley CA 94546 United States;X-APPLE-RADIUS=500;X-TITLE=3295 Castro Valley Boulevard:geo:-122.078496,37.69557
END:VEVENT
BEGIN:VEVENT
DTSTART;TZID=America/Los_Angeles:20220910T100000
DTEND;TZID=America/Los_Angeles:20220910T150000
DTSTAMP:20260425T181718
CREATED:20220826T185422Z
LAST-MODIFIED:20220826T185422Z
UID:10000832-1662804000-1662822000@castrovalleymarketplace.com
SUMMARY:Maker's Market
DESCRIPTION:Come enjoy our outdoor\, open air marketplace and shop from local makers in your community. Featuring makers of jewelry\, apparel\, body products\, home goods & more!
URL:https://castrovalleymarketplace.com/calendar/makers-market-6/2022-09-10/
LOCATION:Castro Valley Marketplace\, 3295 Castro Valley Boulevard\, Castro Valley\, CA\, 94546\, United States
GEO:37.69557;-122.078496
X-APPLE-STRUCTURED-LOCATION;VALUE=URI;X-ADDRESS=Castro Valley Marketplace 3295 Castro Valley Boulevard Castro Valley CA 94546 United States;X-APPLE-RADIUS=500;X-TITLE=3295 Castro Valley Boulevard:geo:-122.078496,37.69557
END:VEVENT
BEGIN:VEVENT
DTSTART;TZID=America/Los_Angeles:20220909T180000
DTEND;TZID=America/Los_Angeles:20220909T200000
DTSTAMP:20260425T181718
CREATED:20220819T182610Z
LAST-MODIFIED:20220819T182610Z
UID:10000865-1662746400-1662753600@castrovalleymarketplace.com
SUMMARY:Outdoor on the Paseo: Castro Valley School of Music
DESCRIPTION:Enjoy Castro Valley School of Music live on the paseo this Friday evening\, 6-8pm!
URL:https://castrovalleymarketplace.com/calendar/outdoor-on-the-paseo-castro-valley-school-of-music/2022-09-09/
LOCATION:Castro Valley Marketplace\, 3295 Castro Valley Boulevard\, Castro Valley\, CA\, 94546\, United States
CATEGORIES:Live Music,Paseo Events
ATTACH;FMTTYPE=image/jpeg:https://castrovalleymarketplace.com/wp-content/uploads/2022/08/cvsom-logo-vert-final-v5-3.jpg
GEO:37.69557;-122.078496
X-APPLE-STRUCTURED-LOCATION;VALUE=URI;X-ADDRESS=Castro Valley Marketplace 3295 Castro Valley Boulevard Castro Valley CA 94546 United States;X-APPLE-RADIUS=500;X-TITLE=3295 Castro Valley Boulevard:geo:-122.078496,37.69557
END:VEVENT
BEGIN:VEVENT
DTSTART;TZID=America/Los_Angeles:20220909T160000
DTEND;TZID=America/Los_Angeles:20220909T200000
DTSTAMP:20260425T181718
CREATED:20220826T225812Z
LAST-MODIFIED:20221003T002028Z
UID:10000895-1662739200-1662753600@castrovalleymarketplace.com
SUMMARY:Habibis Birria
DESCRIPTION:Enjoy Habibi’s Birria on the paseo.
URL:https://castrovalleymarketplace.com/calendar/habibis-birria/2022-09-09/
LOCATION:The Paseo\, 3295 Castro Valley Blvd\, Castro Valley\, 94546
ATTACH;FMTTYPE=image/jpeg:https://castrovalleymarketplace.com/wp-content/uploads/2022/08/IMG_2941-1.jpg
END:VEVENT
BEGIN:VEVENT
DTSTART;TZID=America/Los_Angeles:20220909T110000
DTEND;TZID=America/Los_Angeles:20220909T140000
DTSTAMP:20260425T181718
CREATED:20220819T194430Z
LAST-MODIFIED:20220916T195544Z
UID:10000875-1662721200-1662732000@castrovalleymarketplace.com
SUMMARY:Shayi Tea Pop Up
DESCRIPTION:Shayi will be offering their unique spice blend to the Paseo from 11am – 5:30pm
URL:https://castrovalleymarketplace.com/calendar/shayi-tea-pop-up/2022-09-09/
LOCATION:Castro Valley Marketplace\, 3295 Castro Valley Boulevard\, Castro Valley\, CA\, 94546\, United States
CATEGORIES:Marketplace Events,Paseo Events
ATTACH;FMTTYPE=image/jpeg:https://castrovalleymarketplace.com/wp-content/uploads/2022/08/thumbnail_image0.jpg
GEO:37.69557;-122.078496
X-APPLE-STRUCTURED-LOCATION;VALUE=URI;X-ADDRESS=Castro Valley Marketplace 3295 Castro Valley Boulevard Castro Valley CA 94546 United States;X-APPLE-RADIUS=500;X-TITLE=3295 Castro Valley Boulevard:geo:-122.078496,37.69557
END:VEVENT
BEGIN:VEVENT
DTSTART;TZID=America/Los_Angeles:20220907T170000
DTEND;TZID=America/Los_Angeles:20220907T200000
DTSTAMP:20260425T181718
CREATED:20220826T165134Z
LAST-MODIFIED:20220826T183601Z
UID:10000851-1662570000-1662580800@castrovalleymarketplace.com
SUMMARY:Castro Valley Marketplace Art Walk
DESCRIPTION:Join us every Wednesday from 5:00pm-8:00pm to experience the best of the local art community.
URL:https://castrovalleymarketplace.com/calendar/art-walk-3/2022-09-07/
LOCATION:Castro Valley Marketplace\, 3295 Castro Valley Boulevard\, Castro Valley\, CA\, 94546\, United States
GEO:37.69557;-122.078496
X-APPLE-STRUCTURED-LOCATION;VALUE=URI;X-ADDRESS=Castro Valley Marketplace 3295 Castro Valley Boulevard Castro Valley CA 94546 United States;X-APPLE-RADIUS=500;X-TITLE=3295 Castro Valley Boulevard:geo:-122.078496,37.69557
END:VEVENT
BEGIN:VEVENT
DTSTART;TZID=America/Los_Angeles:20220906T170000
DTEND;TZID=America/Los_Angeles:20220906T200000
DTSTAMP:20260425T181718
CREATED:20220628T184006Z
LAST-MODIFIED:20220629T191617Z
UID:10000778-1662483600-1662494400@castrovalleymarketplace.com
SUMMARY:Club Anywhere Game Night
DESCRIPTION:Join us every Tuesday night\, to play games outside on the Paseo\, with DJ Robert Hoffman.
URL:https://castrovalleymarketplace.com/calendar/club-anywhere-game-night/2022-09-06/
LOCATION:Castro Valley Marketplace\, 3295 Castro Valley Boulevard\, Castro Valley\, CA\, 94546\, United States
ATTACH;FMTTYPE=image/jpeg:https://castrovalleymarketplace.com/wp-content/uploads/2022/06/thumbnail_ClubAnywhere_Logo_color-RED-pdf.jpg
GEO:37.69557;-122.078496
X-APPLE-STRUCTURED-LOCATION;VALUE=URI;X-ADDRESS=Castro Valley Marketplace 3295 Castro Valley Boulevard Castro Valley CA 94546 United States;X-APPLE-RADIUS=500;X-TITLE=3295 Castro Valley Boulevard:geo:-122.078496,37.69557
END:VEVENT
BEGIN:VEVENT
DTSTART;TZID=America/Los_Angeles:20220904T160000
DTEND;TZID=America/Los_Angeles:20220904T200000
DTSTAMP:20260425T181718
CREATED:20220826T225812Z
LAST-MODIFIED:20221003T002028Z
UID:10000894-1662307200-1662321600@castrovalleymarketplace.com
SUMMARY:Habibis Birria
DESCRIPTION:Enjoy Habibi’s Birria on the paseo.
URL:https://castrovalleymarketplace.com/calendar/habibis-birria/2022-09-04/
LOCATION:The Paseo\, 3295 Castro Valley Blvd\, Castro Valley\, 94546
ATTACH;FMTTYPE=image/jpeg:https://castrovalleymarketplace.com/wp-content/uploads/2022/08/IMG_2941-1.jpg
END:VEVENT
BEGIN:VEVENT
DTSTART;TZID=America/Los_Angeles:20220903T160000
DTEND;TZID=America/Los_Angeles:20220903T200000
DTSTAMP:20260425T181718
CREATED:20220826T225812Z
LAST-MODIFIED:20221003T002028Z
UID:10000893-1662220800-1662235200@castrovalleymarketplace.com
SUMMARY:Habibis Birria
DESCRIPTION:Enjoy Habibi’s Birria on the paseo.
URL:https://castrovalleymarketplace.com/calendar/habibis-birria/2022-09-03/
LOCATION:The Paseo\, 3295 Castro Valley Blvd\, Castro Valley\, 94546
ATTACH;FMTTYPE=image/jpeg:https://castrovalleymarketplace.com/wp-content/uploads/2022/08/IMG_2941-1.jpg
END:VEVENT
BEGIN:VEVENT
DTSTART;TZID=America/Los_Angeles:20220903T110000
DTEND;TZID=America/Los_Angeles:20220903T140000
DTSTAMP:20260425T181718
CREATED:20220819T194430Z
LAST-MODIFIED:20220916T195544Z
UID:10000874-1662202800-1662213600@castrovalleymarketplace.com
SUMMARY:Shayi Tea Pop Up
DESCRIPTION:Shayi will be offering their unique spice blend to the Paseo from 11am – 5:30pm
URL:https://castrovalleymarketplace.com/calendar/shayi-tea-pop-up/2022-09-03/
LOCATION:Castro Valley Marketplace\, 3295 Castro Valley Boulevard\, Castro Valley\, CA\, 94546\, United States
CATEGORIES:Marketplace Events,Paseo Events
ATTACH;FMTTYPE=image/jpeg:https://castrovalleymarketplace.com/wp-content/uploads/2022/08/thumbnail_image0.jpg
GEO:37.69557;-122.078496
X-APPLE-STRUCTURED-LOCATION;VALUE=URI;X-ADDRESS=Castro Valley Marketplace 3295 Castro Valley Boulevard Castro Valley CA 94546 United States;X-APPLE-RADIUS=500;X-TITLE=3295 Castro Valley Boulevard:geo:-122.078496,37.69557
END:VEVENT
BEGIN:VEVENT
DTSTART;TZID=America/Los_Angeles:20220903T100000
DTEND;TZID=America/Los_Angeles:20220903T150000
DTSTAMP:20260425T181718
CREATED:20220826T185422Z
LAST-MODIFIED:20220826T185422Z
UID:10000831-1662199200-1662217200@castrovalleymarketplace.com
SUMMARY:Maker's Market
DESCRIPTION:Come enjoy our outdoor\, open air marketplace and shop from local makers in your community. Featuring makers of jewelry\, apparel\, body products\, home goods & more!
URL:https://castrovalleymarketplace.com/calendar/makers-market-6/2022-09-03/
LOCATION:Castro Valley Marketplace\, 3295 Castro Valley Boulevard\, Castro Valley\, CA\, 94546\, United States
GEO:37.69557;-122.078496
X-APPLE-STRUCTURED-LOCATION;VALUE=URI;X-ADDRESS=Castro Valley Marketplace 3295 Castro Valley Boulevard Castro Valley CA 94546 United States;X-APPLE-RADIUS=500;X-TITLE=3295 Castro Valley Boulevard:geo:-122.078496,37.69557
END:VEVENT
BEGIN:VEVENT
DTSTART;TZID=America/Los_Angeles:20220902T180000
DTEND;TZID=America/Los_Angeles:20220902T200000
DTSTAMP:20260425T181718
CREATED:20220819T182610Z
LAST-MODIFIED:20220819T182610Z
UID:10000864-1662141600-1662148800@castrovalleymarketplace.com
SUMMARY:Outdoor on the Paseo: Castro Valley School of Music
DESCRIPTION:Enjoy Castro Valley School of Music live on the paseo this Friday evening\, 6-8pm!
URL:https://castrovalleymarketplace.com/calendar/outdoor-on-the-paseo-castro-valley-school-of-music/2022-09-02/
LOCATION:Castro Valley Marketplace\, 3295 Castro Valley Boulevard\, Castro Valley\, CA\, 94546\, United States
CATEGORIES:Live Music,Paseo Events
ATTACH;FMTTYPE=image/jpeg:https://castrovalleymarketplace.com/wp-content/uploads/2022/08/cvsom-logo-vert-final-v5-3.jpg
GEO:37.69557;-122.078496
X-APPLE-STRUCTURED-LOCATION;VALUE=URI;X-ADDRESS=Castro Valley Marketplace 3295 Castro Valley Boulevard Castro Valley CA 94546 United States;X-APPLE-RADIUS=500;X-TITLE=3295 Castro Valley Boulevard:geo:-122.078496,37.69557
END:VEVENT
BEGIN:VEVENT
DTSTART;TZID=America/Los_Angeles:20220902T160000
DTEND;TZID=America/Los_Angeles:20220902T200000
DTSTAMP:20260425T181718
CREATED:20220826T225812Z
LAST-MODIFIED:20221003T002028Z
UID:10000892-1662134400-1662148800@castrovalleymarketplace.com
SUMMARY:Habibis Birria
DESCRIPTION:Enjoy Habibi’s Birria on the paseo.
URL:https://castrovalleymarketplace.com/calendar/habibis-birria/2022-09-02/
LOCATION:The Paseo\, 3295 Castro Valley Blvd\, Castro Valley\, 94546
ATTACH;FMTTYPE=image/jpeg:https://castrovalleymarketplace.com/wp-content/uploads/2022/08/IMG_2941-1.jpg
END:VEVENT
BEGIN:VEVENT
DTSTART;TZID=America/Los_Angeles:20220902T110000
DTEND;TZID=America/Los_Angeles:20220902T140000
DTSTAMP:20260425T181718
CREATED:20220819T194430Z
LAST-MODIFIED:20220916T195544Z
UID:10000873-1662116400-1662127200@castrovalleymarketplace.com
SUMMARY:Shayi Tea Pop Up
DESCRIPTION:Shayi will be offering their unique spice blend to the Paseo from 11am – 5:30pm
URL:https://castrovalleymarketplace.com/calendar/shayi-tea-pop-up/2022-09-02/
LOCATION:Castro Valley Marketplace\, 3295 Castro Valley Boulevard\, Castro Valley\, CA\, 94546\, United States
CATEGORIES:Marketplace Events,Paseo Events
ATTACH;FMTTYPE=image/jpeg:https://castrovalleymarketplace.com/wp-content/uploads/2022/08/thumbnail_image0.jpg
GEO:37.69557;-122.078496
X-APPLE-STRUCTURED-LOCATION;VALUE=URI;X-ADDRESS=Castro Valley Marketplace 3295 Castro Valley Boulevard Castro Valley CA 94546 United States;X-APPLE-RADIUS=500;X-TITLE=3295 Castro Valley Boulevard:geo:-122.078496,37.69557
END:VEVENT
BEGIN:VEVENT
DTSTART;TZID=America/Los_Angeles:20220901T200000
DTEND;TZID=America/Los_Angeles:20220901T220000
DTSTAMP:20260425T181718
CREATED:20220318T170022Z
LAST-MODIFIED:20220318T170022Z
UID:10000671-1662062400-1662069600@castrovalleymarketplace.com
SUMMARY:Plethos Comedy Lab by Plethos Productions
DESCRIPTION:The Plethos Comedy Lab is a monthly stand-up comedy show where up-and-coming comics from around the Bay gather to make you laugh! Upstairs in Lab 200 at the Castro Valley Marketplace.
URL:https://castrovalleymarketplace.com/calendar/plethos-comedy-lab-by-plethos-productions-5/2022-09-01/
LOCATION:Lab 200\, 3295 Castro Valley Blvd\, Suite 200\, Castro Valley\, 94546
CATEGORIES:LAB 200
ATTACH;FMTTYPE=image/jpeg:https://castrovalleymarketplace.com/wp-content/uploads/2022/03/Plethos2.jpg
ORGANIZER;CN="Plethos Productions":MAILTO:Info@plethos.org
END:VEVENT
BEGIN:VEVENT
DTSTART;TZID=America/Los_Angeles:20220831T170000
DTEND;TZID=America/Los_Angeles:20220831T200000
DTSTAMP:20260425T181718
CREATED:20220826T165134Z
LAST-MODIFIED:20220826T183601Z
UID:10000850-1661965200-1661976000@castrovalleymarketplace.com
SUMMARY:Castro Valley Marketplace Art Walk
DESCRIPTION:Join us every Wednesday from 5:00pm-8:00pm to experience the best of the local art community.
URL:https://castrovalleymarketplace.com/calendar/art-walk-3/2022-08-31/
LOCATION:Castro Valley Marketplace\, 3295 Castro Valley Boulevard\, Castro Valley\, CA\, 94546\, United States
GEO:37.69557;-122.078496
X-APPLE-STRUCTURED-LOCATION;VALUE=URI;X-ADDRESS=Castro Valley Marketplace 3295 Castro Valley Boulevard Castro Valley CA 94546 United States;X-APPLE-RADIUS=500;X-TITLE=3295 Castro Valley Boulevard:geo:-122.078496,37.69557
END:VEVENT
BEGIN:VEVENT
DTSTART;TZID=America/Los_Angeles:20220830T170000
DTEND;TZID=America/Los_Angeles:20220830T200000
DTSTAMP:20260425T181718
CREATED:20220628T184006Z
LAST-MODIFIED:20220629T191617Z
UID:10000777-1661878800-1661889600@castrovalleymarketplace.com
SUMMARY:Club Anywhere Game Night
DESCRIPTION:Join us every Tuesday night\, to play games outside on the Paseo\, with DJ Robert Hoffman.
URL:https://castrovalleymarketplace.com/calendar/club-anywhere-game-night/2022-08-30/
LOCATION:Castro Valley Marketplace\, 3295 Castro Valley Boulevard\, Castro Valley\, CA\, 94546\, United States
ATTACH;FMTTYPE=image/jpeg:https://castrovalleymarketplace.com/wp-content/uploads/2022/06/thumbnail_ClubAnywhere_Logo_color-RED-pdf.jpg
GEO:37.69557;-122.078496
X-APPLE-STRUCTURED-LOCATION;VALUE=URI;X-ADDRESS=Castro Valley Marketplace 3295 Castro Valley Boulevard Castro Valley CA 94546 United States;X-APPLE-RADIUS=500;X-TITLE=3295 Castro Valley Boulevard:geo:-122.078496,37.69557
END:VEVENT
BEGIN:VEVENT
DTSTART;TZID=America/Los_Angeles:20220829T173000
DTEND;TZID=America/Los_Angeles:20220829T210000
DTSTAMP:20260425T181718
CREATED:20220818T182321Z
LAST-MODIFIED:20220818T182321Z
UID:10000860-1661794200-1661806800@castrovalleymarketplace.com
SUMMARY:Chef’s Dinner with Basil Hayden
DESCRIPTION:Join us for a Night Owl Chef’s Dinner\, as we take a tour of American Whiskey featuring Basil Hayden. \nWorld renown Chef Shaun Gethin’s culinary talents will showcase Basil Hayden signature touches. \nNight Owl’s Bar Manager & Chief Mixologist\, Brandon Blackmon\, will add the magic to Basil Hayden inspired cocktails paired with each course. \n  \nMenu \nEincorn Biscuits \nSlow Roasted TomatoPlum Compote | Lardo | Goat Cheese | BH Toast Syrup \nSlow Roasted Trout \nCornbread Puree | Braised Greens \nRye Glazed Pork \nOnion Ash \nOak Smoked Beef Tenderloin \nBaby Broccoli | Aligot Potatoe \nSubtle Smoke Vanilla Anglaise \nBurnt Peaches | BH Bourbon Caramel | Candied Almond
URL:https://castrovalleymarketplace.com/calendar/chefs-dinner-with-basil-hayden/
LOCATION:Lab 200\, 3295 Castro Valley Blvd\, Suite 200\, Castro Valley\, 94546
CATEGORIES:LAB 200,Night Owl,Pop Out Kitchen
ORGANIZER;CN="Night Owl Bar":MAILTO:info@nightowlcastrovalley.com
END:VEVENT
BEGIN:VEVENT
DTSTART;TZID=America/Los_Angeles:20220828T160000
DTEND;TZID=America/Los_Angeles:20220828T200000
DTSTAMP:20260425T181718
CREATED:20220826T225812Z
LAST-MODIFIED:20221003T002028Z
UID:10000891-1661702400-1661716800@castrovalleymarketplace.com
SUMMARY:Habibis Birria
DESCRIPTION:Enjoy Habibi’s Birria on the paseo.
URL:https://castrovalleymarketplace.com/calendar/habibis-birria/2022-08-28/
LOCATION:The Paseo\, 3295 Castro Valley Blvd\, Castro Valley\, 94546
ATTACH;FMTTYPE=image/jpeg:https://castrovalleymarketplace.com/wp-content/uploads/2022/08/IMG_2941-1.jpg
END:VEVENT
BEGIN:VEVENT
DTSTART;TZID=America/Los_Angeles:20220828T160000
DTEND;TZID=America/Los_Angeles:20220828T200000
DTSTAMP:20260425T181718
CREATED:20220705T190359Z
LAST-MODIFIED:20220809T000632Z
UID:10000642-1661702400-1661716800@castrovalleymarketplace.com
SUMMARY:Snow Fresca Pop Up
DESCRIPTION:Meet Snow Fresca Fridays\, Saturdays\, and Sundays from 4 pm to 8 pm during August.
URL:https://castrovalleymarketplace.com/calendar/snow-fresca-pop-up-8/2022-08-28/
LOCATION:Castro Valley Marketplace\, 3295 Castro Valley Boulevard\, Castro Valley\, CA\, 94546\, United States
CATEGORIES:Marketplace Events,Paseo Events
ATTACH;FMTTYPE=image/jpeg:https://castrovalleymarketplace.com/wp-content/uploads/2022/03/IMG_2548.jpg
GEO:37.69557;-122.078496
X-APPLE-STRUCTURED-LOCATION;VALUE=URI;X-ADDRESS=Castro Valley Marketplace 3295 Castro Valley Boulevard Castro Valley CA 94546 United States;X-APPLE-RADIUS=500;X-TITLE=3295 Castro Valley Boulevard:geo:-122.078496,37.69557
END:VEVENT
BEGIN:VEVENT
DTSTART;TZID=America/Los_Angeles:20220827T203000
DTEND;TZID=America/Los_Angeles:20220827T223000
DTSTAMP:20260425T181718
CREATED:20220825T170213Z
LAST-MODIFIED:20220825T170213Z
UID:10000847-1661632200-1661639400@castrovalleymarketplace.com
SUMMARY:Night Owl Entertainment Presents: Luna Jenn
DESCRIPTION:Luna Jenn is a 21 year old Latine artist from Oakland\, Ca. They share songs that come from a place of experiencing social injustice\, church-hurt and cultural displacement\, to intentionally take up and open more spaces for other BIPOC disabled queer individuals. Their favorite genres to cover are Bolero\, R&B\, Reggaeton\, and Folk. We are so excited to have her play this Saturday\, August 27th\, from 8:30-10:30pm! Come out and enjoy live music from this talented local artist.
URL:https://castrovalleymarketplace.com/calendar/night-owl-entertainment-presents-luna-jenn/
LOCATION:Castro Valley Marketplace\, 3295 Castro Valley Boulevard\, Castro Valley\, CA\, 94546\, United States
CATEGORIES:Live Music,Night Owl
ATTACH;FMTTYPE=image/jpeg:https://castrovalleymarketplace.com/wp-content/uploads/2022/08/Luna-Jenn-Promo-Pic.jpg
GEO:37.69557;-122.078496
X-APPLE-STRUCTURED-LOCATION;VALUE=URI;X-ADDRESS=Castro Valley Marketplace 3295 Castro Valley Boulevard Castro Valley CA 94546 United States;X-APPLE-RADIUS=500;X-TITLE=3295 Castro Valley Boulevard:geo:-122.078496,37.69557
END:VEVENT
END:VCALENDAR