BEGIN:VCALENDAR
VERSION:2.0
PRODID:-//Castro Valley Marketplace - ECPv6.15.18//NONSGML v1.0//EN
CALSCALE:GREGORIAN
METHOD:PUBLISH
X-WR-CALNAME:Castro Valley Marketplace
X-ORIGINAL-URL:https://castrovalleymarketplace.com
X-WR-CALDESC:Events for Castro Valley Marketplace
REFRESH-INTERVAL;VALUE=DURATION:PT1H
X-Robots-Tag:noindex
X-PUBLISHED-TTL:PT1H
BEGIN:VTIMEZONE
TZID:America/Los_Angeles
BEGIN:DAYLIGHT
TZOFFSETFROM:-0800
TZOFFSETTO:-0700
TZNAME:PDT
DTSTART:20210314T100000
END:DAYLIGHT
BEGIN:STANDARD
TZOFFSETFROM:-0700
TZOFFSETTO:-0800
TZNAME:PST
DTSTART:20211107T090000
END:STANDARD
BEGIN:DAYLIGHT
TZOFFSETFROM:-0800
TZOFFSETTO:-0700
TZNAME:PDT
DTSTART:20220313T100000
END:DAYLIGHT
BEGIN:STANDARD
TZOFFSETFROM:-0700
TZOFFSETTO:-0800
TZNAME:PST
DTSTART:20221106T090000
END:STANDARD
BEGIN:DAYLIGHT
TZOFFSETFROM:-0800
TZOFFSETTO:-0700
TZNAME:PDT
DTSTART:20230312T100000
END:DAYLIGHT
BEGIN:STANDARD
TZOFFSETFROM:-0700
TZOFFSETTO:-0800
TZNAME:PST
DTSTART:20231105T090000
END:STANDARD
END:VTIMEZONE
BEGIN:VEVENT
DTSTART;TZID=America/Los_Angeles:20221007T203000
DTEND;TZID=America/Los_Angeles:20221007T223000
DTSTAMP:20260425T102839
CREATED:20220822T181146Z
LAST-MODIFIED:20220822T181146Z
UID:10000882-1665174600-1665181800@castrovalleymarketplace.com
SUMMARY:Night Owl Entertainment Presents: Marlo
DESCRIPTION:The Night Owl is so excited to host Marlo on the mezzanine\, Friday October 7th\, from 8:30-10:30pm! \nMarlo is a 14 year old local artist\, producer\, songwriter\, and multi-instrumentalist who will be sharing the stage with other talented musicians to perform an electrifying set! Her music is a mix of jazz and pop\, and although she is new to performing\, she can see lots of it in her future! \nYou can find her music on most music platforms under “Marlo.” Having recently released her debut EP “Macro Salad\,” she is a show you don’t want to miss.
URL:https://castrovalleymarketplace.com/calendar/night-owl-entertainment-presents-marlo/
LOCATION:Castro Valley Marketplace\, 3295 Castro Valley Boulevard\, Castro Valley\, CA\, 94546\, United States
CATEGORIES:Live Music,Night Owl
ATTACH;FMTTYPE=image/jpeg:https://castrovalleymarketplace.com/wp-content/uploads/2022/08/Marlo-image-pic-scaled.jpg
GEO:37.69557;-122.078496
X-APPLE-STRUCTURED-LOCATION;VALUE=URI;X-ADDRESS=Castro Valley Marketplace 3295 Castro Valley Boulevard Castro Valley CA 94546 United States;X-APPLE-RADIUS=500;X-TITLE=3295 Castro Valley Boulevard:geo:-122.078496,37.69557
END:VEVENT
BEGIN:VEVENT
DTSTART;TZID=America/Los_Angeles:20221007T160000
DTEND;TZID=America/Los_Angeles:20221007T200000
DTSTAMP:20260425T102839
CREATED:20220826T225812Z
LAST-MODIFIED:20221003T002028Z
UID:10000907-1665158400-1665172800@castrovalleymarketplace.com
SUMMARY:Habibis Birria
DESCRIPTION:Enjoy Habibi’s Birria on the paseo.
URL:https://castrovalleymarketplace.com/calendar/habibis-birria/2022-10-07/
LOCATION:The Paseo\, 3295 Castro Valley Blvd\, Castro Valley\, 94546
ATTACH;FMTTYPE=image/jpeg:https://castrovalleymarketplace.com/wp-content/uploads/2022/08/IMG_2941-1.jpg
END:VEVENT
BEGIN:VEVENT
DTSTART;TZID=America/Los_Angeles:20221005T170000
DTEND;TZID=America/Los_Angeles:20221005T200000
DTSTAMP:20260425T102839
CREATED:20220826T165134Z
LAST-MODIFIED:20220826T183601Z
UID:10000855-1664989200-1665000000@castrovalleymarketplace.com
SUMMARY:Castro Valley Marketplace Art Walk
DESCRIPTION:Join us every Wednesday from 5:00pm-8:00pm to experience the best of the local art community.
URL:https://castrovalleymarketplace.com/calendar/art-walk-3/2022-10-05/
LOCATION:Castro Valley Marketplace\, 3295 Castro Valley Boulevard\, Castro Valley\, CA\, 94546\, United States
GEO:37.69557;-122.078496
X-APPLE-STRUCTURED-LOCATION;VALUE=URI;X-ADDRESS=Castro Valley Marketplace 3295 Castro Valley Boulevard Castro Valley CA 94546 United States;X-APPLE-RADIUS=500;X-TITLE=3295 Castro Valley Boulevard:geo:-122.078496,37.69557
END:VEVENT
BEGIN:VEVENT
DTSTART;TZID=America/Los_Angeles:20221002T160000
DTEND;TZID=America/Los_Angeles:20221002T200000
DTSTAMP:20260425T102839
CREATED:20220826T225812Z
LAST-MODIFIED:20221003T002028Z
UID:10000906-1664726400-1664740800@castrovalleymarketplace.com
SUMMARY:Habibis Birria
DESCRIPTION:Enjoy Habibi’s Birria on the paseo.
URL:https://castrovalleymarketplace.com/calendar/habibis-birria/2022-10-02/
LOCATION:The Paseo\, 3295 Castro Valley Blvd\, Castro Valley\, 94546
ATTACH;FMTTYPE=image/jpeg:https://castrovalleymarketplace.com/wp-content/uploads/2022/08/IMG_2941-1.jpg
END:VEVENT
BEGIN:VEVENT
DTSTART;TZID=America/Los_Angeles:20221001T203000
DTEND;TZID=America/Los_Angeles:20221001T220000
DTSTAMP:20260425T102839
CREATED:20220928T182159Z
LAST-MODIFIED:20220928T182159Z
UID:10000711-1664656200-1664661600@castrovalleymarketplace.com
SUMMARY:Night Owl Entertainment Presents: Amaya Jiao
DESCRIPTION:Amaya Jiao is a Singer/Songwriter and Guitarist who enjoys playing and writing music of her own. A senior at Castro Valley High School\, she is already accomplishing big things\, and recently released an EP called “Playing With the Light” on Apple Music and Spotify. Her hope is to make people smile with her music\, and is not a show you want to miss!
URL:https://castrovalleymarketplace.com/calendar/night-owl-entertainment-presents-amaya-jiao/
LOCATION:Castro Valley Marketplace\, 3295 Castro Valley Boulevard\, Castro Valley\, CA\, 94546\, United States
CATEGORIES:LAB 200,Live Music,Night Owl
ATTACH;FMTTYPE=image/jpeg:https://castrovalleymarketplace.com/wp-content/uploads/2022/09/IMG_3979.jpg
GEO:37.69557;-122.078496
X-APPLE-STRUCTURED-LOCATION;VALUE=URI;X-ADDRESS=Castro Valley Marketplace 3295 Castro Valley Boulevard Castro Valley CA 94546 United States;X-APPLE-RADIUS=500;X-TITLE=3295 Castro Valley Boulevard:geo:-122.078496,37.69557
END:VEVENT
BEGIN:VEVENT
DTSTART;TZID=America/Los_Angeles:20221001T160000
DTEND;TZID=America/Los_Angeles:20221001T200000
DTSTAMP:20260425T102839
CREATED:20220826T225812Z
LAST-MODIFIED:20221003T002028Z
UID:10000905-1664640000-1664654400@castrovalleymarketplace.com
SUMMARY:Habibis Birria
DESCRIPTION:Enjoy Habibi’s Birria on the paseo.
URL:https://castrovalleymarketplace.com/calendar/habibis-birria/2022-10-01/
LOCATION:The Paseo\, 3295 Castro Valley Blvd\, Castro Valley\, 94546
ATTACH;FMTTYPE=image/jpeg:https://castrovalleymarketplace.com/wp-content/uploads/2022/08/IMG_2941-1.jpg
END:VEVENT
BEGIN:VEVENT
DTSTART;TZID=America/Los_Angeles:20221001T100000
DTEND;TZID=America/Los_Angeles:20221001T150000
DTSTAMP:20260425T102839
CREATED:20220826T185422Z
LAST-MODIFIED:20220826T185422Z
UID:10000835-1664618400-1664636400@castrovalleymarketplace.com
SUMMARY:Maker's Market
DESCRIPTION:Come enjoy our outdoor\, open air marketplace and shop from local makers in your community. Featuring makers of jewelry\, apparel\, body products\, home goods & more!
URL:https://castrovalleymarketplace.com/calendar/makers-market-6/2022-10-01/
LOCATION:Castro Valley Marketplace\, 3295 Castro Valley Boulevard\, Castro Valley\, CA\, 94546\, United States
GEO:37.69557;-122.078496
X-APPLE-STRUCTURED-LOCATION;VALUE=URI;X-ADDRESS=Castro Valley Marketplace 3295 Castro Valley Boulevard Castro Valley CA 94546 United States;X-APPLE-RADIUS=500;X-TITLE=3295 Castro Valley Boulevard:geo:-122.078496,37.69557
END:VEVENT
BEGIN:VEVENT
DTSTART;TZID=America/Los_Angeles:20220930T203000
DTEND;TZID=America/Los_Angeles:20220930T220000
DTSTAMP:20260425T102839
CREATED:20220927T022933Z
LAST-MODIFIED:20220927T022933Z
UID:10000710-1664569800-1664575200@castrovalleymarketplace.com
SUMMARY:Night Owl Entertainment Presents: The Long Haired Greek
DESCRIPTION:Folk singer Evan Platis (aka The Long Haired Greek) was raised in the coastal woods of West Marin County. Over the past 7 years\, Evan has cut his teeth in the North County San Diego music scene\, writing and performing among peers. His bluegrass inspired style is begotten of a folk-mass background\, and is heavily influenced by Bob Dylan. Having recently moved to Castro Valley\, he is looking forward to being a part of the greater Bay Area scene and beyond. He has released 2 live videos on YouTube and expects to release more music over the coarse of 2022. \nWe are excited to be hosting him again on our mezzanine\, Friday September 30th\, from 8:30-10pm. Be sure to grab a drink\, bring some friends\, and enjoy good music.
URL:https://castrovalleymarketplace.com/calendar/night-owl-entertainment-presents-the-long-haired-greek/
LOCATION:Castro Valley Marketplace\, 3295 Castro Valley Boulevard\, Castro Valley\, CA\, 94546\, United States
CATEGORIES:LAB 200,Live Music,Night Owl
ATTACH;FMTTYPE=image/jpeg:https://castrovalleymarketplace.com/wp-content/uploads/2022/09/IMG_3910.jpg
GEO:37.69557;-122.078496
X-APPLE-STRUCTURED-LOCATION;VALUE=URI;X-ADDRESS=Castro Valley Marketplace 3295 Castro Valley Boulevard Castro Valley CA 94546 United States;X-APPLE-RADIUS=500;X-TITLE=3295 Castro Valley Boulevard:geo:-122.078496,37.69557
END:VEVENT
BEGIN:VEVENT
DTSTART;TZID=America/Los_Angeles:20220930T180000
DTEND;TZID=America/Los_Angeles:20220930T200000
DTSTAMP:20260425T102839
CREATED:20220819T182610Z
LAST-MODIFIED:20220819T182610Z
UID:10000868-1664560800-1664568000@castrovalleymarketplace.com
SUMMARY:Outdoor on the Paseo: Castro Valley School of Music
DESCRIPTION:Enjoy Castro Valley School of Music live on the paseo this Friday evening\, 6-8pm!
URL:https://castrovalleymarketplace.com/calendar/outdoor-on-the-paseo-castro-valley-school-of-music/2022-09-30/
LOCATION:Castro Valley Marketplace\, 3295 Castro Valley Boulevard\, Castro Valley\, CA\, 94546\, United States
CATEGORIES:Live Music,Paseo Events
ATTACH;FMTTYPE=image/jpeg:https://castrovalleymarketplace.com/wp-content/uploads/2022/08/cvsom-logo-vert-final-v5-3.jpg
GEO:37.69557;-122.078496
X-APPLE-STRUCTURED-LOCATION;VALUE=URI;X-ADDRESS=Castro Valley Marketplace 3295 Castro Valley Boulevard Castro Valley CA 94546 United States;X-APPLE-RADIUS=500;X-TITLE=3295 Castro Valley Boulevard:geo:-122.078496,37.69557
END:VEVENT
BEGIN:VEVENT
DTSTART;TZID=America/Los_Angeles:20220930T160000
DTEND;TZID=America/Los_Angeles:20220930T200000
DTSTAMP:20260425T102839
CREATED:20220826T225812Z
LAST-MODIFIED:20221003T002028Z
UID:10000904-1664553600-1664568000@castrovalleymarketplace.com
SUMMARY:Habibis Birria
DESCRIPTION:Enjoy Habibi’s Birria on the paseo.
URL:https://castrovalleymarketplace.com/calendar/habibis-birria/2022-09-30/
LOCATION:The Paseo\, 3295 Castro Valley Blvd\, Castro Valley\, 94546
ATTACH;FMTTYPE=image/jpeg:https://castrovalleymarketplace.com/wp-content/uploads/2022/08/IMG_2941-1.jpg
END:VEVENT
BEGIN:VEVENT
DTSTART;TZID=America/Los_Angeles:20220930T110000
DTEND;TZID=America/Los_Angeles:20220930T140000
DTSTAMP:20260425T102839
CREATED:20220819T194430Z
LAST-MODIFIED:20220916T195544Z
UID:10000881-1664535600-1664546400@castrovalleymarketplace.com
SUMMARY:Shayi Tea Pop Up
DESCRIPTION:Shayi will be offering their unique spice blend to the Paseo from 11am – 5:30pm
URL:https://castrovalleymarketplace.com/calendar/shayi-tea-pop-up/2022-09-30/
LOCATION:Castro Valley Marketplace\, 3295 Castro Valley Boulevard\, Castro Valley\, CA\, 94546\, United States
CATEGORIES:Marketplace Events,Paseo Events
ATTACH;FMTTYPE=image/jpeg:https://castrovalleymarketplace.com/wp-content/uploads/2022/08/thumbnail_image0.jpg
GEO:37.69557;-122.078496
X-APPLE-STRUCTURED-LOCATION;VALUE=URI;X-ADDRESS=Castro Valley Marketplace 3295 Castro Valley Boulevard Castro Valley CA 94546 United States;X-APPLE-RADIUS=500;X-TITLE=3295 Castro Valley Boulevard:geo:-122.078496,37.69557
END:VEVENT
BEGIN:VEVENT
DTSTART;TZID=America/Los_Angeles:20220928T170000
DTEND;TZID=America/Los_Angeles:20220928T200000
DTSTAMP:20260425T102839
CREATED:20220826T165134Z
LAST-MODIFIED:20220826T183601Z
UID:10000854-1664384400-1664395200@castrovalleymarketplace.com
SUMMARY:Castro Valley Marketplace Art Walk
DESCRIPTION:Join us every Wednesday from 5:00pm-8:00pm to experience the best of the local art community.
URL:https://castrovalleymarketplace.com/calendar/art-walk-3/2022-09-28/
LOCATION:Castro Valley Marketplace\, 3295 Castro Valley Boulevard\, Castro Valley\, CA\, 94546\, United States
GEO:37.69557;-122.078496
X-APPLE-STRUCTURED-LOCATION;VALUE=URI;X-ADDRESS=Castro Valley Marketplace 3295 Castro Valley Boulevard Castro Valley CA 94546 United States;X-APPLE-RADIUS=500;X-TITLE=3295 Castro Valley Boulevard:geo:-122.078496,37.69557
END:VEVENT
BEGIN:VEVENT
DTSTART;TZID=America/Los_Angeles:20220927T170000
DTEND;TZID=America/Los_Angeles:20220927T200000
DTSTAMP:20260425T102839
CREATED:20220628T184006Z
LAST-MODIFIED:20220629T191617Z
UID:10000781-1664298000-1664308800@castrovalleymarketplace.com
SUMMARY:Club Anywhere Game Night
DESCRIPTION:Join us every Tuesday night\, to play games outside on the Paseo\, with DJ Robert Hoffman.
URL:https://castrovalleymarketplace.com/calendar/club-anywhere-game-night/2022-09-27/
LOCATION:Castro Valley Marketplace\, 3295 Castro Valley Boulevard\, Castro Valley\, CA\, 94546\, United States
ATTACH;FMTTYPE=image/jpeg:https://castrovalleymarketplace.com/wp-content/uploads/2022/06/thumbnail_ClubAnywhere_Logo_color-RED-pdf.jpg
GEO:37.69557;-122.078496
X-APPLE-STRUCTURED-LOCATION;VALUE=URI;X-ADDRESS=Castro Valley Marketplace 3295 Castro Valley Boulevard Castro Valley CA 94546 United States;X-APPLE-RADIUS=500;X-TITLE=3295 Castro Valley Boulevard:geo:-122.078496,37.69557
END:VEVENT
BEGIN:VEVENT
DTSTART;TZID=America/Los_Angeles:20220925T160000
DTEND;TZID=America/Los_Angeles:20220925T200000
DTSTAMP:20260425T102839
CREATED:20220826T225812Z
LAST-MODIFIED:20221003T002028Z
UID:10000903-1664121600-1664136000@castrovalleymarketplace.com
SUMMARY:Habibis Birria
DESCRIPTION:Enjoy Habibi’s Birria on the paseo.
URL:https://castrovalleymarketplace.com/calendar/habibis-birria/2022-09-25/
LOCATION:The Paseo\, 3295 Castro Valley Blvd\, Castro Valley\, 94546
ATTACH;FMTTYPE=image/jpeg:https://castrovalleymarketplace.com/wp-content/uploads/2022/08/IMG_2941-1.jpg
END:VEVENT
BEGIN:VEVENT
DTSTART;TZID=America/Los_Angeles:20220924T203000
DTEND;TZID=America/Los_Angeles:20220924T223000
DTSTAMP:20260425T102839
CREATED:20220819T184544Z
LAST-MODIFIED:20220819T184544Z
UID:10000869-1664051400-1664058600@castrovalleymarketplace.com
SUMMARY:Night Owl Entertainment Presents: Double Shot
DESCRIPTION:Enjoy live music from Double Shot\, Saturday 9/24 from 8:30-10:30pm. \nDouble Shot\, the best Bay Area classic rock cover band since the Beatles\,  covers hit songs from a wide variety of artist. These songs\, from the 60’s\, 70’s\, 80’s and 90’s\, include covers from Johnny Cash\, Led Zeppelin\, The Rolling Stones\, Tom Petty\, Billy Joel\, Lynyrd Skynyrd\, Y&T\, and many more. Be sure to catch them live!
URL:https://castrovalleymarketplace.com/calendar/night-owl-entertainment-presents-double-shot/
LOCATION:Castro Valley Marketplace\, 3295 Castro Valley Boulevard\, Castro Valley\, CA\, 94546\, United States
CATEGORIES:Live Music,Night Owl
ATTACH;FMTTYPE=image/jpeg:https://castrovalleymarketplace.com/wp-content/uploads/2022/06/IMG_3312.jpg
GEO:37.69557;-122.078496
X-APPLE-STRUCTURED-LOCATION;VALUE=URI;X-ADDRESS=Castro Valley Marketplace 3295 Castro Valley Boulevard Castro Valley CA 94546 United States;X-APPLE-RADIUS=500;X-TITLE=3295 Castro Valley Boulevard:geo:-122.078496,37.69557
END:VEVENT
BEGIN:VEVENT
DTSTART;TZID=America/Los_Angeles:20220924T160000
DTEND;TZID=America/Los_Angeles:20220924T200000
DTSTAMP:20260425T102839
CREATED:20220826T225812Z
LAST-MODIFIED:20221003T002028Z
UID:10000902-1664035200-1664049600@castrovalleymarketplace.com
SUMMARY:Habibis Birria
DESCRIPTION:Enjoy Habibi’s Birria on the paseo.
URL:https://castrovalleymarketplace.com/calendar/habibis-birria/2022-09-24/
LOCATION:The Paseo\, 3295 Castro Valley Blvd\, Castro Valley\, 94546
ATTACH;FMTTYPE=image/jpeg:https://castrovalleymarketplace.com/wp-content/uploads/2022/08/IMG_2941-1.jpg
END:VEVENT
BEGIN:VEVENT
DTSTART;TZID=America/Los_Angeles:20220924T110000
DTEND;TZID=America/Los_Angeles:20220924T140000
DTSTAMP:20260425T102839
CREATED:20220819T194430Z
LAST-MODIFIED:20220916T195544Z
UID:10000880-1664017200-1664028000@castrovalleymarketplace.com
SUMMARY:Shayi Tea Pop Up
DESCRIPTION:Shayi will be offering their unique spice blend to the Paseo from 11am – 5:30pm
URL:https://castrovalleymarketplace.com/calendar/shayi-tea-pop-up/2022-09-24/
LOCATION:Castro Valley Marketplace\, 3295 Castro Valley Boulevard\, Castro Valley\, CA\, 94546\, United States
CATEGORIES:Marketplace Events,Paseo Events
ATTACH;FMTTYPE=image/jpeg:https://castrovalleymarketplace.com/wp-content/uploads/2022/08/thumbnail_image0.jpg
GEO:37.69557;-122.078496
X-APPLE-STRUCTURED-LOCATION;VALUE=URI;X-ADDRESS=Castro Valley Marketplace 3295 Castro Valley Boulevard Castro Valley CA 94546 United States;X-APPLE-RADIUS=500;X-TITLE=3295 Castro Valley Boulevard:geo:-122.078496,37.69557
END:VEVENT
BEGIN:VEVENT
DTSTART;TZID=America/Los_Angeles:20220924T100000
DTEND;TZID=America/Los_Angeles:20220924T150000
DTSTAMP:20260425T102839
CREATED:20220826T185422Z
LAST-MODIFIED:20220826T185422Z
UID:10000834-1664013600-1664031600@castrovalleymarketplace.com
SUMMARY:Maker's Market
DESCRIPTION:Come enjoy our outdoor\, open air marketplace and shop from local makers in your community. Featuring makers of jewelry\, apparel\, body products\, home goods & more!
URL:https://castrovalleymarketplace.com/calendar/makers-market-6/2022-09-24/
LOCATION:Castro Valley Marketplace\, 3295 Castro Valley Boulevard\, Castro Valley\, CA\, 94546\, United States
GEO:37.69557;-122.078496
X-APPLE-STRUCTURED-LOCATION;VALUE=URI;X-ADDRESS=Castro Valley Marketplace 3295 Castro Valley Boulevard Castro Valley CA 94546 United States;X-APPLE-RADIUS=500;X-TITLE=3295 Castro Valley Boulevard:geo:-122.078496,37.69557
END:VEVENT
BEGIN:VEVENT
DTSTART;TZID=America/Los_Angeles:20220923T203000
DTEND;TZID=America/Los_Angeles:20220923T223000
DTSTAMP:20260425T102839
CREATED:20220826T215743Z
LAST-MODIFIED:20220826T215743Z
UID:10000845-1663965000-1663972200@castrovalleymarketplace.com
SUMMARY:Night Owl Entertainment Presents: The Bonafides
DESCRIPTION:Jazz\, Funk\, RnB\, and Soul is how Jon Cleary describes New Orleans music. That is the spirit “The Bonafides” bring to the bandstand. From Prof. Longhair and Dr. John\, to Jon Cleary and Allen Toussaint (with a side trip to T. Monk and H. Hancock\,) this trio will have something for everyone.  \nBe sure to catch them live on the mezzanine\, September 23rd from 8:30-10:30pm! It’s a show you don’t want to miss.
URL:https://castrovalleymarketplace.com/calendar/night-owl-entertainment-presents-the-bonafides/
LOCATION:Castro Valley Marketplace\, 3295 Castro Valley Boulevard\, Castro Valley\, CA\, 94546\, United States
CATEGORIES:Live Music,Night Owl
ATTACH;FMTTYPE=image/jpeg:https://castrovalleymarketplace.com/wp-content/uploads/2022/08/Bonafide-Trio_4521-A©Irene-Young-scaled.jpg
GEO:37.69557;-122.078496
X-APPLE-STRUCTURED-LOCATION;VALUE=URI;X-ADDRESS=Castro Valley Marketplace 3295 Castro Valley Boulevard Castro Valley CA 94546 United States;X-APPLE-RADIUS=500;X-TITLE=3295 Castro Valley Boulevard:geo:-122.078496,37.69557
END:VEVENT
BEGIN:VEVENT
DTSTART;TZID=America/Los_Angeles:20220923T180000
DTEND;TZID=America/Los_Angeles:20220923T200000
DTSTAMP:20260425T102839
CREATED:20220819T182610Z
LAST-MODIFIED:20220819T182610Z
UID:10000867-1663956000-1663963200@castrovalleymarketplace.com
SUMMARY:Outdoor on the Paseo: Castro Valley School of Music
DESCRIPTION:Enjoy Castro Valley School of Music live on the paseo this Friday evening\, 6-8pm!
URL:https://castrovalleymarketplace.com/calendar/outdoor-on-the-paseo-castro-valley-school-of-music/2022-09-23/
LOCATION:Castro Valley Marketplace\, 3295 Castro Valley Boulevard\, Castro Valley\, CA\, 94546\, United States
CATEGORIES:Live Music,Paseo Events
ATTACH;FMTTYPE=image/jpeg:https://castrovalleymarketplace.com/wp-content/uploads/2022/08/cvsom-logo-vert-final-v5-3.jpg
GEO:37.69557;-122.078496
X-APPLE-STRUCTURED-LOCATION;VALUE=URI;X-ADDRESS=Castro Valley Marketplace 3295 Castro Valley Boulevard Castro Valley CA 94546 United States;X-APPLE-RADIUS=500;X-TITLE=3295 Castro Valley Boulevard:geo:-122.078496,37.69557
END:VEVENT
BEGIN:VEVENT
DTSTART;TZID=America/Los_Angeles:20220923T160000
DTEND;TZID=America/Los_Angeles:20220923T200000
DTSTAMP:20260425T102839
CREATED:20220826T225812Z
LAST-MODIFIED:20221003T002028Z
UID:10000901-1663948800-1663963200@castrovalleymarketplace.com
SUMMARY:Habibis Birria
DESCRIPTION:Enjoy Habibi’s Birria on the paseo.
URL:https://castrovalleymarketplace.com/calendar/habibis-birria/2022-09-23/
LOCATION:The Paseo\, 3295 Castro Valley Blvd\, Castro Valley\, 94546
ATTACH;FMTTYPE=image/jpeg:https://castrovalleymarketplace.com/wp-content/uploads/2022/08/IMG_2941-1.jpg
END:VEVENT
BEGIN:VEVENT
DTSTART;TZID=America/Los_Angeles:20220923T110000
DTEND;TZID=America/Los_Angeles:20220923T140000
DTSTAMP:20260425T102839
CREATED:20220819T194430Z
LAST-MODIFIED:20220916T195544Z
UID:10000879-1663930800-1663941600@castrovalleymarketplace.com
SUMMARY:Shayi Tea Pop Up
DESCRIPTION:Shayi will be offering their unique spice blend to the Paseo from 11am – 5:30pm
URL:https://castrovalleymarketplace.com/calendar/shayi-tea-pop-up/2022-09-23/
LOCATION:Castro Valley Marketplace\, 3295 Castro Valley Boulevard\, Castro Valley\, CA\, 94546\, United States
CATEGORIES:Marketplace Events,Paseo Events
ATTACH;FMTTYPE=image/jpeg:https://castrovalleymarketplace.com/wp-content/uploads/2022/08/thumbnail_image0.jpg
GEO:37.69557;-122.078496
X-APPLE-STRUCTURED-LOCATION;VALUE=URI;X-ADDRESS=Castro Valley Marketplace 3295 Castro Valley Boulevard Castro Valley CA 94546 United States;X-APPLE-RADIUS=500;X-TITLE=3295 Castro Valley Boulevard:geo:-122.078496,37.69557
END:VEVENT
BEGIN:VEVENT
DTSTART;TZID=America/Los_Angeles:20220921T170000
DTEND;TZID=America/Los_Angeles:20220921T200000
DTSTAMP:20260425T102839
CREATED:20220826T165134Z
LAST-MODIFIED:20220826T183601Z
UID:10000853-1663779600-1663790400@castrovalleymarketplace.com
SUMMARY:Castro Valley Marketplace Art Walk
DESCRIPTION:Join us every Wednesday from 5:00pm-8:00pm to experience the best of the local art community.
URL:https://castrovalleymarketplace.com/calendar/art-walk-3/2022-09-21/
LOCATION:Castro Valley Marketplace\, 3295 Castro Valley Boulevard\, Castro Valley\, CA\, 94546\, United States
GEO:37.69557;-122.078496
X-APPLE-STRUCTURED-LOCATION;VALUE=URI;X-ADDRESS=Castro Valley Marketplace 3295 Castro Valley Boulevard Castro Valley CA 94546 United States;X-APPLE-RADIUS=500;X-TITLE=3295 Castro Valley Boulevard:geo:-122.078496,37.69557
END:VEVENT
BEGIN:VEVENT
DTSTART;TZID=America/Los_Angeles:20220920T170000
DTEND;TZID=America/Los_Angeles:20220920T200000
DTSTAMP:20260425T102839
CREATED:20220628T184006Z
LAST-MODIFIED:20220629T191617Z
UID:10000780-1663693200-1663704000@castrovalleymarketplace.com
SUMMARY:Club Anywhere Game Night
DESCRIPTION:Join us every Tuesday night\, to play games outside on the Paseo\, with DJ Robert Hoffman.
URL:https://castrovalleymarketplace.com/calendar/club-anywhere-game-night/2022-09-20/
LOCATION:Castro Valley Marketplace\, 3295 Castro Valley Boulevard\, Castro Valley\, CA\, 94546\, United States
ATTACH;FMTTYPE=image/jpeg:https://castrovalleymarketplace.com/wp-content/uploads/2022/06/thumbnail_ClubAnywhere_Logo_color-RED-pdf.jpg
GEO:37.69557;-122.078496
X-APPLE-STRUCTURED-LOCATION;VALUE=URI;X-ADDRESS=Castro Valley Marketplace 3295 Castro Valley Boulevard Castro Valley CA 94546 United States;X-APPLE-RADIUS=500;X-TITLE=3295 Castro Valley Boulevard:geo:-122.078496,37.69557
END:VEVENT
BEGIN:VEVENT
DTSTART;TZID=America/Los_Angeles:20220918T160000
DTEND;TZID=America/Los_Angeles:20220918T200000
DTSTAMP:20260425T102839
CREATED:20220826T225812Z
LAST-MODIFIED:20221003T002028Z
UID:10000900-1663516800-1663531200@castrovalleymarketplace.com
SUMMARY:Habibis Birria
DESCRIPTION:Enjoy Habibi’s Birria on the paseo.
URL:https://castrovalleymarketplace.com/calendar/habibis-birria/2022-09-18/
LOCATION:The Paseo\, 3295 Castro Valley Blvd\, Castro Valley\, 94546
ATTACH;FMTTYPE=image/jpeg:https://castrovalleymarketplace.com/wp-content/uploads/2022/08/IMG_2941-1.jpg
END:VEVENT
BEGIN:VEVENT
DTSTART;TZID=America/Los_Angeles:20220917T203000
DTEND;TZID=America/Los_Angeles:20220917T223000
DTSTAMP:20260425T102839
CREATED:20220905T051627Z
LAST-MODIFIED:20220905T051627Z
UID:10000706-1663446600-1663453800@castrovalleymarketplace.com
SUMMARY:Night Owl Entertainment Presents: Kevin Seal & Sean Baca
DESCRIPTION:The Night Owl is so excited to have this electric duo on the mezzanine\, September 17th from 8:30-10:30pm! Make sure to mark your calendars\, and come out to enjoy a drink and live music from local musicians Kevin Seal and Sean Baca.
URL:https://castrovalleymarketplace.com/calendar/night-owl-entertainment-presents-kevin-seal-sean-baca/
LOCATION:Castro Valley Marketplace\, 3295 Castro Valley Boulevard\, Castro Valley\, CA\, 94546\, United States
CATEGORIES:Live Music,Night Owl
ATTACH;FMTTYPE=image/jpeg:https://castrovalleymarketplace.com/wp-content/uploads/2022/09/SEALDUO_01-scaled.jpg
GEO:37.69557;-122.078496
X-APPLE-STRUCTURED-LOCATION;VALUE=URI;X-ADDRESS=Castro Valley Marketplace 3295 Castro Valley Boulevard Castro Valley CA 94546 United States;X-APPLE-RADIUS=500;X-TITLE=3295 Castro Valley Boulevard:geo:-122.078496,37.69557
END:VEVENT
BEGIN:VEVENT
DTSTART;TZID=America/Los_Angeles:20220917T160000
DTEND;TZID=America/Los_Angeles:20220917T200000
DTSTAMP:20260425T102839
CREATED:20220826T225812Z
LAST-MODIFIED:20221003T002028Z
UID:10000899-1663430400-1663444800@castrovalleymarketplace.com
SUMMARY:Habibis Birria
DESCRIPTION:Enjoy Habibi’s Birria on the paseo.
URL:https://castrovalleymarketplace.com/calendar/habibis-birria/2022-09-17/
LOCATION:The Paseo\, 3295 Castro Valley Blvd\, Castro Valley\, 94546
ATTACH;FMTTYPE=image/jpeg:https://castrovalleymarketplace.com/wp-content/uploads/2022/08/IMG_2941-1.jpg
END:VEVENT
BEGIN:VEVENT
DTSTART;TZID=America/Los_Angeles:20220917T110000
DTEND;TZID=America/Los_Angeles:20220917T140000
DTSTAMP:20260425T102839
CREATED:20220819T194430Z
LAST-MODIFIED:20220916T195544Z
UID:10000878-1663412400-1663423200@castrovalleymarketplace.com
SUMMARY:Shayi Tea Pop Up
DESCRIPTION:Shayi will be offering their unique spice blend to the Paseo from 11am – 5:30pm
URL:https://castrovalleymarketplace.com/calendar/shayi-tea-pop-up/2022-09-17/
LOCATION:Castro Valley Marketplace\, 3295 Castro Valley Boulevard\, Castro Valley\, CA\, 94546\, United States
CATEGORIES:Marketplace Events,Paseo Events
ATTACH;FMTTYPE=image/jpeg:https://castrovalleymarketplace.com/wp-content/uploads/2022/08/thumbnail_image0.jpg
GEO:37.69557;-122.078496
X-APPLE-STRUCTURED-LOCATION;VALUE=URI;X-ADDRESS=Castro Valley Marketplace 3295 Castro Valley Boulevard Castro Valley CA 94546 United States;X-APPLE-RADIUS=500;X-TITLE=3295 Castro Valley Boulevard:geo:-122.078496,37.69557
END:VEVENT
BEGIN:VEVENT
DTSTART;TZID=America/Los_Angeles:20220917T100000
DTEND;TZID=America/Los_Angeles:20220917T150000
DTSTAMP:20260425T102839
CREATED:20220826T185422Z
LAST-MODIFIED:20220826T185422Z
UID:10000833-1663408800-1663426800@castrovalleymarketplace.com
SUMMARY:Maker's Market
DESCRIPTION:Come enjoy our outdoor\, open air marketplace and shop from local makers in your community. Featuring makers of jewelry\, apparel\, body products\, home goods & more!
URL:https://castrovalleymarketplace.com/calendar/makers-market-6/2022-09-17/
LOCATION:Castro Valley Marketplace\, 3295 Castro Valley Boulevard\, Castro Valley\, CA\, 94546\, United States
GEO:37.69557;-122.078496
X-APPLE-STRUCTURED-LOCATION;VALUE=URI;X-ADDRESS=Castro Valley Marketplace 3295 Castro Valley Boulevard Castro Valley CA 94546 United States;X-APPLE-RADIUS=500;X-TITLE=3295 Castro Valley Boulevard:geo:-122.078496,37.69557
END:VEVENT
BEGIN:VEVENT
DTSTART;TZID=America/Los_Angeles:20220916T203000
DTEND;TZID=America/Los_Angeles:20220916T223000
DTSTAMP:20260425T102839
CREATED:20220824T192139Z
LAST-MODIFIED:20220824T192139Z
UID:10000828-1663360200-1663367400@castrovalleymarketplace.com
SUMMARY:Night Owl Entertainment Presents: The Oarsmen
DESCRIPTION:The Bay Area Oarsmen Band sound contains guitar\, fiddle\, and vocal harmonies that would make even the most hardened sea captain weep. Be sure to mark your calendars\, grab a drink and come out to enjoy this dynamic local-duo live\, 8:30-10:30pm!
URL:https://castrovalleymarketplace.com/calendar/night-owl-entertainment-presents-the-oarsmen/2022-09-16/
LOCATION:Castro Valley Marketplace\, 3295 Castro Valley Boulevard\, Castro Valley\, CA\, 94546\, United States
ATTACH;FMTTYPE=image/png:https://castrovalleymarketplace.com/wp-content/uploads/2022/08/Oarsmen-Promo-Image-v4.png
GEO:37.69557;-122.078496
X-APPLE-STRUCTURED-LOCATION;VALUE=URI;X-ADDRESS=Castro Valley Marketplace 3295 Castro Valley Boulevard Castro Valley CA 94546 United States;X-APPLE-RADIUS=500;X-TITLE=3295 Castro Valley Boulevard:geo:-122.078496,37.69557
END:VEVENT
END:VCALENDAR