BEGIN:VCALENDAR
VERSION:2.0
PRODID:-//Castro Valley Marketplace - ECPv6.15.18//NONSGML v1.0//EN
CALSCALE:GREGORIAN
METHOD:PUBLISH
X-WR-CALNAME:Castro Valley Marketplace
X-ORIGINAL-URL:https://castrovalleymarketplace.com
X-WR-CALDESC:Events for Castro Valley Marketplace
REFRESH-INTERVAL;VALUE=DURATION:PT1H
X-Robots-Tag:noindex
X-PUBLISHED-TTL:PT1H
BEGIN:VTIMEZONE
TZID:America/Los_Angeles
BEGIN:DAYLIGHT
TZOFFSETFROM:-0800
TZOFFSETTO:-0700
TZNAME:PDT
DTSTART:20210314T100000
END:DAYLIGHT
BEGIN:STANDARD
TZOFFSETFROM:-0700
TZOFFSETTO:-0800
TZNAME:PST
DTSTART:20211107T090000
END:STANDARD
BEGIN:DAYLIGHT
TZOFFSETFROM:-0800
TZOFFSETTO:-0700
TZNAME:PDT
DTSTART:20220313T100000
END:DAYLIGHT
BEGIN:STANDARD
TZOFFSETFROM:-0700
TZOFFSETTO:-0800
TZNAME:PST
DTSTART:20221106T090000
END:STANDARD
BEGIN:DAYLIGHT
TZOFFSETFROM:-0800
TZOFFSETTO:-0700
TZNAME:PDT
DTSTART:20230312T100000
END:DAYLIGHT
BEGIN:STANDARD
TZOFFSETFROM:-0700
TZOFFSETTO:-0800
TZNAME:PST
DTSTART:20231105T090000
END:STANDARD
END:VTIMEZONE
BEGIN:VEVENT
DTSTART;TZID=America/Los_Angeles:20221115T173000
DTEND;TZID=America/Los_Angeles:20221115T190000
DTSTAMP:20260425T090121
CREATED:20220902T012339Z
LAST-MODIFIED:20221018T235140Z
UID:10000789-1668533400-1668538800@castrovalleymarketplace.com
SUMMARY:Rotary Club Social Event
DESCRIPTION:Come mix and mingle with our Rotarians and find out more about the Castro Valley Rotary Club. \nThe Castro Valley Rotary Club is humanitarian service organization that brings together business and professional leaders in order to provide community service\, promote integrity\, and advance goodwill\, peace\, and understanding in the world. It is a non-political and non-religious organization. \nEnjoy hors d’oeuvres and a no-host bar with us! We also have a special event planned for the evening\, and yes\, you’ll have to show up to find out what that is.
URL:https://castrovalleymarketplace.com/calendar/rotary-club-social-event/2022-11-15/
LOCATION:Castro Valley Marketplace\, 3295 Castro Valley Boulevard\, Castro Valley\, CA\, 94546\, United States
ATTACH;FMTTYPE=image/png:https://castrovalleymarketplace.com/wp-content/uploads/2022/09/Mark-of-Excellence-4992-e1662081795547.png
GEO:37.69557;-122.078496
X-APPLE-STRUCTURED-LOCATION;VALUE=URI;X-ADDRESS=Castro Valley Marketplace 3295 Castro Valley Boulevard Castro Valley CA 94546 United States;X-APPLE-RADIUS=500;X-TITLE=3295 Castro Valley Boulevard:geo:-122.078496,37.69557
END:VEVENT
BEGIN:VEVENT
DTSTART;TZID=America/Los_Angeles:20221104T203000
DTEND;TZID=America/Los_Angeles:20221104T223000
DTSTAMP:20260425T090121
CREATED:20221028T035500Z
LAST-MODIFIED:20221028T035517Z
UID:10000735-1667593800-1667601000@castrovalleymarketplace.com
SUMMARY:Night Owl Entertainment Presents: Marlo
DESCRIPTION:The Night Owl is so excited to host Marlo on the mezzanine\, Friday October 7th\, from 8:30-10:30pm! \nMarlo is a 14 year old local artist\, producer\, songwriter\, and multi-instrumentalist who will be sharing the stage with other talented musicians to perform an electrifying set! Her second performance on our mezzanine is guaranteed to be jam packed with all your favorites. \nYou can find her music on most music platforms under “Marlo.” Having recently released her debut EP “Macro Salad\,” she is a show you don’t want to miss.
URL:https://castrovalleymarketplace.com/calendar/night-owl-entertainment-presents-marlo-2/
LOCATION:Lab 200\, 3295 Castro Valley Blvd\, Suite 200\, Castro Valley\, 94546
CATEGORIES:LAB 200,Live Music,Night Owl
ATTACH;FMTTYPE=image/jpeg:https://castrovalleymarketplace.com/wp-content/uploads/2022/10/Marlo-image-pic-scaled.jpg
END:VEVENT
BEGIN:VEVENT
DTSTART;TZID=America/Los_Angeles:20221103T200000
DTEND;TZID=America/Los_Angeles:20221103T220000
DTSTAMP:20260425T090121
CREATED:20220318T170022Z
LAST-MODIFIED:20220318T170022Z
UID:10000672-1667505600-1667512800@castrovalleymarketplace.com
SUMMARY:Plethos Comedy Lab by Plethos Productions
DESCRIPTION:The Plethos Comedy Lab is a monthly stand-up comedy show where up-and-coming comics from around the Bay gather to make you laugh! Upstairs in Lab 200 at the Castro Valley Marketplace.
URL:https://castrovalleymarketplace.com/calendar/plethos-comedy-lab-by-plethos-productions-5/2022-11-03/
LOCATION:Lab 200\, 3295 Castro Valley Blvd\, Suite 200\, Castro Valley\, 94546
CATEGORIES:LAB 200
ATTACH;FMTTYPE=image/jpeg:https://castrovalleymarketplace.com/wp-content/uploads/2022/03/Plethos2.jpg
ORGANIZER;CN="Plethos Productions":MAILTO:Info@plethos.org
END:VEVENT
BEGIN:VEVENT
DTSTART;TZID=America/Los_Angeles:20221030T173000
DTEND;TZID=America/Los_Angeles:20221030T183000
DTSTAMP:20260425T090121
CREATED:20221029T213502Z
LAST-MODIFIED:20221029T213502Z
UID:10000737-1667151000-1667154600@castrovalleymarketplace.com
SUMMARY:Halloween Hustle Fundraiser Event
DESCRIPTION:Spend the night learning to dance the hustle with an expert team of instructors. This event is all to donate to a great organization\, the Putnam Clubhouse. \nThe Putnam Clubhouse (www.putnamclubhouse.org) is a mental health nonprofit fighting to improve health\, increase opportunity\, and end social and economic isolation for people most affected by mental illness. It is a beautiful program full of wonderful people and has had a personal impact in my own family and so many others. \nThere are many ways to support this effort. You can share this information with others\, donate through the website at https://reachforthestarsdance.org/stephenandbridget\, send me a check\, Venmo\, PayPal\, or Zelle. Perhaps your business wants to be a sponsor for the event\, or your employer has a matching donation program.
URL:https://castrovalleymarketplace.com/calendar/halloween-hustle-fundraiser-event/
LOCATION:Lab 200\, 3295 Castro Valley Blvd\, Suite 200\, Castro Valley\, 94546
ATTACH;FMTTYPE=image/png:https://castrovalleymarketplace.com/wp-content/uploads/2022/10/CCCI_-_Gala_Logo_FULL_LOGO_COLOR.png
END:VEVENT
BEGIN:VEVENT
DTSTART;TZID=America/Los_Angeles:20221030T160000
DTEND;TZID=America/Los_Angeles:20221030T200000
DTSTAMP:20260425T090121
CREATED:20220826T225812Z
LAST-MODIFIED:20221003T002028Z
UID:10000918-1667145600-1667160000@castrovalleymarketplace.com
SUMMARY:Habibis Birria
DESCRIPTION:Enjoy Habibi’s Birria on the paseo.
URL:https://castrovalleymarketplace.com/calendar/habibis-birria/2022-10-30/
LOCATION:The Paseo\, 3295 Castro Valley Blvd\, Castro Valley\, 94546
ATTACH;FMTTYPE=image/jpeg:https://castrovalleymarketplace.com/wp-content/uploads/2022/08/IMG_2941-1.jpg
END:VEVENT
BEGIN:VEVENT
DTSTART;TZID=America/Los_Angeles:20221029T160000
DTEND;TZID=America/Los_Angeles:20221029T200000
DTSTAMP:20260425T090121
CREATED:20220826T225812Z
LAST-MODIFIED:20221003T002028Z
UID:10000917-1667059200-1667073600@castrovalleymarketplace.com
SUMMARY:Habibis Birria
DESCRIPTION:Enjoy Habibi’s Birria on the paseo.
URL:https://castrovalleymarketplace.com/calendar/habibis-birria/2022-10-29/
LOCATION:The Paseo\, 3295 Castro Valley Blvd\, Castro Valley\, 94546
ATTACH;FMTTYPE=image/jpeg:https://castrovalleymarketplace.com/wp-content/uploads/2022/08/IMG_2941-1.jpg
END:VEVENT
BEGIN:VEVENT
DTSTART;TZID=America/Los_Angeles:20221029T100000
DTEND;TZID=America/Los_Angeles:20221029T150000
DTSTAMP:20260425T090121
CREATED:20220826T185422Z
LAST-MODIFIED:20220826T185422Z
UID:10000839-1667037600-1667055600@castrovalleymarketplace.com
SUMMARY:Maker's Market
DESCRIPTION:Come enjoy our outdoor\, open air marketplace and shop from local makers in your community. Featuring makers of jewelry\, apparel\, body products\, home goods & more!
URL:https://castrovalleymarketplace.com/calendar/makers-market-6/2022-10-29/
LOCATION:Castro Valley Marketplace\, 3295 Castro Valley Boulevard\, Castro Valley\, CA\, 94546\, United States
GEO:37.69557;-122.078496
X-APPLE-STRUCTURED-LOCATION;VALUE=URI;X-ADDRESS=Castro Valley Marketplace 3295 Castro Valley Boulevard Castro Valley CA 94546 United States;X-APPLE-RADIUS=500;X-TITLE=3295 Castro Valley Boulevard:geo:-122.078496,37.69557
END:VEVENT
BEGIN:VEVENT
DTSTART;TZID=America/Los_Angeles:20221028T203000
DTEND;TZID=America/Los_Angeles:20221028T220000
DTSTAMP:20260425T090121
CREATED:20221028T033414Z
LAST-MODIFIED:20221028T033414Z
UID:10000715-1666989000-1666994400@castrovalleymarketplace.com
SUMMARY:Night Owl Entertainment Presents: Ross Hoyt + Ed Lloyd
DESCRIPTION:ROSS HOYT is an American multi–instrumentalist\, composer\, and improviser. Each of HOYT’s carefully curated releases showcases his unique approach to multi-instrumental improvisation and electro-acoustic composition\, featuring collaborations with and contributions from fellow SF Bay Area artists and beyond. We are very excited to be hosting both him and Ed Lloyd Friday\, October 28th\, from 8:30-10pm. Mark your calendars and make sure you come out and enjoy this show!
URL:https://castrovalleymarketplace.com/calendar/night-owl-entertainment-presents-ross-hoyt-ed-lloyd/
LOCATION:CA
CATEGORIES:LAB 200,Live Music,Night Owl
ATTACH;FMTTYPE=image/jpeg:https://castrovalleymarketplace.com/wp-content/uploads/2022/10/Hoyt-and-LLoyd-Press-Photo-small.jpg
END:VEVENT
BEGIN:VEVENT
DTSTART;TZID=America/Los_Angeles:20221028T180000
DTEND;TZID=America/Los_Angeles:20221028T200000
DTSTAMP:20260425T090121
CREATED:20221028T034850Z
LAST-MODIFIED:20221028T034850Z
UID:10000733-1666980000-1666987200@castrovalleymarketplace.com
SUMMARY:Playing the Paseo: Castro Valley School of Music
DESCRIPTION:Come out and enjoy dinner and live music from the talented students who represent Castro Valley School of Music! Playing 6-8pm on our Paseo tomorrow night.
URL:https://castrovalleymarketplace.com/calendar/playing-the-paseo-castro-valley-school-of-music/
LOCATION:CA
ATTACH;FMTTYPE=image/jpeg:https://castrovalleymarketplace.com/wp-content/uploads/2022/10/cvsom-logo-vert-final-v5-3.jpg
END:VEVENT
BEGIN:VEVENT
DTSTART;TZID=America/Los_Angeles:20221028T160000
DTEND;TZID=America/Los_Angeles:20221028T200000
DTSTAMP:20260425T090121
CREATED:20220826T225812Z
LAST-MODIFIED:20221003T002028Z
UID:10000916-1666972800-1666987200@castrovalleymarketplace.com
SUMMARY:Habibis Birria
DESCRIPTION:Enjoy Habibi’s Birria on the paseo.
URL:https://castrovalleymarketplace.com/calendar/habibis-birria/2022-10-28/
LOCATION:The Paseo\, 3295 Castro Valley Blvd\, Castro Valley\, 94546
ATTACH;FMTTYPE=image/jpeg:https://castrovalleymarketplace.com/wp-content/uploads/2022/08/IMG_2941-1.jpg
END:VEVENT
BEGIN:VEVENT
DTSTART;TZID=America/Los_Angeles:20221026T180000
DTEND;TZID=America/Los_Angeles:20221026T200000
DTSTAMP:20260425T090121
CREATED:20221024T221813Z
LAST-MODIFIED:20221026T224119Z
UID:10000713-1666807200-1666814400@castrovalleymarketplace.com
SUMMARY:Shaken\, Not Stirred: The James Bond Martini Class
DESCRIPTION:Vodka\, Gin + Where the Vermouth Goes and Why\n\n\nJoin us for an adventurous evening of making hand crafted cocktails. In this class\, we’ll be perfecting three James Bond inspired cocktails: The Vesper\, Vodka vs. Gin\, and Espresso Martini. Learn when to shake\, when to stir\, and when to use a mixing glass or a shaker tin. Light bites and fun included!
URL:https://castrovalleymarketplace.com/calendar/shaken-not-stirred-the-james-bond-martini-class/
LOCATION:Night Owl\, 3295 Castro Valley Boulevard\, #Suite 204\, Castro Valley\, CA\, 94546\, United States
END:VEVENT
BEGIN:VEVENT
DTSTART;TZID=America/Los_Angeles:20221026T170000
DTEND;TZID=America/Los_Angeles:20221026T200000
DTSTAMP:20260425T090121
CREATED:20220826T165134Z
LAST-MODIFIED:20220826T183601Z
UID:10000858-1666803600-1666814400@castrovalleymarketplace.com
SUMMARY:Castro Valley Marketplace Art Walk
DESCRIPTION:Join us every Wednesday from 5:00pm-8:00pm to experience the best of the local art community.
URL:https://castrovalleymarketplace.com/calendar/art-walk-3/2022-10-26/
LOCATION:Castro Valley Marketplace\, 3295 Castro Valley Boulevard\, Castro Valley\, CA\, 94546\, United States
GEO:37.69557;-122.078496
X-APPLE-STRUCTURED-LOCATION;VALUE=URI;X-ADDRESS=Castro Valley Marketplace 3295 Castro Valley Boulevard Castro Valley CA 94546 United States;X-APPLE-RADIUS=500;X-TITLE=3295 Castro Valley Boulevard:geo:-122.078496,37.69557
END:VEVENT
BEGIN:VEVENT
DTSTART;TZID=America/Los_Angeles:20221023T160000
DTEND;TZID=America/Los_Angeles:20221023T200000
DTSTAMP:20260425T090121
CREATED:20220826T225812Z
LAST-MODIFIED:20221003T002028Z
UID:10000915-1666540800-1666555200@castrovalleymarketplace.com
SUMMARY:Habibis Birria
DESCRIPTION:Enjoy Habibi’s Birria on the paseo.
URL:https://castrovalleymarketplace.com/calendar/habibis-birria/2022-10-23/
LOCATION:The Paseo\, 3295 Castro Valley Blvd\, Castro Valley\, 94546
ATTACH;FMTTYPE=image/jpeg:https://castrovalleymarketplace.com/wp-content/uploads/2022/08/IMG_2941-1.jpg
END:VEVENT
BEGIN:VEVENT
DTSTART;TZID=America/Los_Angeles:20221022T160000
DTEND;TZID=America/Los_Angeles:20221022T200000
DTSTAMP:20260425T090121
CREATED:20220826T225812Z
LAST-MODIFIED:20221003T002028Z
UID:10000914-1666454400-1666468800@castrovalleymarketplace.com
SUMMARY:Habibis Birria
DESCRIPTION:Enjoy Habibi’s Birria on the paseo.
URL:https://castrovalleymarketplace.com/calendar/habibis-birria/2022-10-22/
LOCATION:The Paseo\, 3295 Castro Valley Blvd\, Castro Valley\, 94546
ATTACH;FMTTYPE=image/jpeg:https://castrovalleymarketplace.com/wp-content/uploads/2022/08/IMG_2941-1.jpg
END:VEVENT
BEGIN:VEVENT
DTSTART;TZID=America/Los_Angeles:20221022T100000
DTEND;TZID=America/Los_Angeles:20221022T150000
DTSTAMP:20260425T090121
CREATED:20220826T185422Z
LAST-MODIFIED:20220826T185422Z
UID:10000838-1666432800-1666450800@castrovalleymarketplace.com
SUMMARY:Maker's Market
DESCRIPTION:Come enjoy our outdoor\, open air marketplace and shop from local makers in your community. Featuring makers of jewelry\, apparel\, body products\, home goods & more!
URL:https://castrovalleymarketplace.com/calendar/makers-market-6/2022-10-22/
LOCATION:Castro Valley Marketplace\, 3295 Castro Valley Boulevard\, Castro Valley\, CA\, 94546\, United States
GEO:37.69557;-122.078496
X-APPLE-STRUCTURED-LOCATION;VALUE=URI;X-ADDRESS=Castro Valley Marketplace 3295 Castro Valley Boulevard Castro Valley CA 94546 United States;X-APPLE-RADIUS=500;X-TITLE=3295 Castro Valley Boulevard:geo:-122.078496,37.69557
END:VEVENT
BEGIN:VEVENT
DTSTART;TZID=America/Los_Angeles:20221021T203000
DTEND;TZID=America/Los_Angeles:20221021T223000
DTSTAMP:20260425T090121
CREATED:20220824T192139Z
LAST-MODIFIED:20220824T192139Z
UID:10000829-1666384200-1666391400@castrovalleymarketplace.com
SUMMARY:Night Owl Entertainment Presents: The Oarsmen
DESCRIPTION:The Bay Area Oarsmen Band sound contains guitar\, fiddle\, and vocal harmonies that would make even the most hardened sea captain weep. Be sure to mark your calendars\, grab a drink and come out to enjoy this dynamic local-duo live\, 8:30-10:30pm!
URL:https://castrovalleymarketplace.com/calendar/night-owl-entertainment-presents-the-oarsmen/2022-10-21/
LOCATION:Castro Valley Marketplace\, 3295 Castro Valley Boulevard\, Castro Valley\, CA\, 94546\, United States
ATTACH;FMTTYPE=image/png:https://castrovalleymarketplace.com/wp-content/uploads/2022/08/Oarsmen-Promo-Image-v4.png
GEO:37.69557;-122.078496
X-APPLE-STRUCTURED-LOCATION;VALUE=URI;X-ADDRESS=Castro Valley Marketplace 3295 Castro Valley Boulevard Castro Valley CA 94546 United States;X-APPLE-RADIUS=500;X-TITLE=3295 Castro Valley Boulevard:geo:-122.078496,37.69557
END:VEVENT
BEGIN:VEVENT
DTSTART;TZID=America/Los_Angeles:20221021T160000
DTEND;TZID=America/Los_Angeles:20221021T200000
DTSTAMP:20260425T090121
CREATED:20220826T225812Z
LAST-MODIFIED:20221003T002028Z
UID:10000913-1666368000-1666382400@castrovalleymarketplace.com
SUMMARY:Habibis Birria
DESCRIPTION:Enjoy Habibi’s Birria on the paseo.
URL:https://castrovalleymarketplace.com/calendar/habibis-birria/2022-10-21/
LOCATION:The Paseo\, 3295 Castro Valley Blvd\, Castro Valley\, 94546
ATTACH;FMTTYPE=image/jpeg:https://castrovalleymarketplace.com/wp-content/uploads/2022/08/IMG_2941-1.jpg
END:VEVENT
BEGIN:VEVENT
DTSTART;TZID=America/Los_Angeles:20221020T180000
DTEND;TZID=America/Los_Angeles:20221020T213000
DTSTAMP:20260425T090121
CREATED:20220921T160417Z
LAST-MODIFIED:20221011T181103Z
UID:10000709-1666288800-1666301400@castrovalleymarketplace.com
SUMMARY:A Night Owl Luau
DESCRIPTION:Join us for live performances\, delicious food and cocktails\, a whole pig roast\, giveaways\, and more!\n\n\nNight Owl is excited to present its first ever Luau! We welcome you to enjoy unlimited food and drink\, with a special focus on our handcrafted Tiki Cocktails and Copali Rum imported from Southern Belize. The evening will be filled with live music and performances\, giveaways\, a limbo contest\, a whole-pig roast\, and more!
URL:https://castrovalleymarketplace.com/calendar/a-night-owl-luau-2/
LOCATION:Night Owl\, 3295 Castro Valley Boulevard\, #Suite 204\, Castro Valley\, CA\, 94546\, United States
CATEGORIES:LAB 200,Night Owl,Pop Out Kitchen
ATTACH;FMTTYPE=image/jpeg:https://castrovalleymarketplace.com/wp-content/uploads/2022/09/b1ec69f5e122877dfbbd27573853c116.jpg
END:VEVENT
BEGIN:VEVENT
DTSTART;TZID=America/Los_Angeles:20221019T170000
DTEND;TZID=America/Los_Angeles:20221019T200000
DTSTAMP:20260425T090121
CREATED:20220826T165134Z
LAST-MODIFIED:20220826T183601Z
UID:10000857-1666198800-1666209600@castrovalleymarketplace.com
SUMMARY:Castro Valley Marketplace Art Walk
DESCRIPTION:Join us every Wednesday from 5:00pm-8:00pm to experience the best of the local art community.
URL:https://castrovalleymarketplace.com/calendar/art-walk-3/2022-10-19/
LOCATION:Castro Valley Marketplace\, 3295 Castro Valley Boulevard\, Castro Valley\, CA\, 94546\, United States
GEO:37.69557;-122.078496
X-APPLE-STRUCTURED-LOCATION;VALUE=URI;X-ADDRESS=Castro Valley Marketplace 3295 Castro Valley Boulevard Castro Valley CA 94546 United States;X-APPLE-RADIUS=500;X-TITLE=3295 Castro Valley Boulevard:geo:-122.078496,37.69557
END:VEVENT
BEGIN:VEVENT
DTSTART;TZID=America/Los_Angeles:20221018T173000
DTEND;TZID=America/Los_Angeles:20221018T190000
DTSTAMP:20260425T090121
CREATED:20220902T012339Z
LAST-MODIFIED:20221018T235140Z
UID:10000788-1666114200-1666119600@castrovalleymarketplace.com
SUMMARY:Rotary Club Social Event
DESCRIPTION:Come mix and mingle with our Rotarians and find out more about the Castro Valley Rotary Club. \nThe Castro Valley Rotary Club is humanitarian service organization that brings together business and professional leaders in order to provide community service\, promote integrity\, and advance goodwill\, peace\, and understanding in the world. It is a non-political and non-religious organization. \nEnjoy hors d’oeuvres and a no-host bar with us! We also have a special event planned for the evening\, and yes\, you’ll have to show up to find out what that is.
URL:https://castrovalleymarketplace.com/calendar/rotary-club-social-event/2022-10-18/
LOCATION:Castro Valley Marketplace\, 3295 Castro Valley Boulevard\, Castro Valley\, CA\, 94546\, United States
ATTACH;FMTTYPE=image/png:https://castrovalleymarketplace.com/wp-content/uploads/2022/09/Mark-of-Excellence-4992-e1662081795547.png
GEO:37.69557;-122.078496
X-APPLE-STRUCTURED-LOCATION;VALUE=URI;X-ADDRESS=Castro Valley Marketplace 3295 Castro Valley Boulevard Castro Valley CA 94546 United States;X-APPLE-RADIUS=500;X-TITLE=3295 Castro Valley Boulevard:geo:-122.078496,37.69557
END:VEVENT
BEGIN:VEVENT
DTSTART;TZID=America/Los_Angeles:20221016T160000
DTEND;TZID=America/Los_Angeles:20221016T200000
DTSTAMP:20260425T090121
CREATED:20220826T225812Z
LAST-MODIFIED:20221003T002028Z
UID:10000912-1665936000-1665950400@castrovalleymarketplace.com
SUMMARY:Habibis Birria
DESCRIPTION:Enjoy Habibi’s Birria on the paseo.
URL:https://castrovalleymarketplace.com/calendar/habibis-birria/2022-10-16/
LOCATION:The Paseo\, 3295 Castro Valley Blvd\, Castro Valley\, 94546
ATTACH;FMTTYPE=image/jpeg:https://castrovalleymarketplace.com/wp-content/uploads/2022/08/IMG_2941-1.jpg
END:VEVENT
BEGIN:VEVENT
DTSTART;TZID=America/Los_Angeles:20221015T160000
DTEND;TZID=America/Los_Angeles:20221015T200000
DTSTAMP:20260425T090121
CREATED:20220826T225812Z
LAST-MODIFIED:20221003T002028Z
UID:10000911-1665849600-1665864000@castrovalleymarketplace.com
SUMMARY:Habibis Birria
DESCRIPTION:Enjoy Habibi’s Birria on the paseo.
URL:https://castrovalleymarketplace.com/calendar/habibis-birria/2022-10-15/
LOCATION:The Paseo\, 3295 Castro Valley Blvd\, Castro Valley\, 94546
ATTACH;FMTTYPE=image/jpeg:https://castrovalleymarketplace.com/wp-content/uploads/2022/08/IMG_2941-1.jpg
END:VEVENT
BEGIN:VEVENT
DTSTART;TZID=America/Los_Angeles:20221015T100000
DTEND;TZID=America/Los_Angeles:20221015T150000
DTSTAMP:20260425T090121
CREATED:20220826T185422Z
LAST-MODIFIED:20220826T185422Z
UID:10000837-1665828000-1665846000@castrovalleymarketplace.com
SUMMARY:Maker's Market
DESCRIPTION:Come enjoy our outdoor\, open air marketplace and shop from local makers in your community. Featuring makers of jewelry\, apparel\, body products\, home goods & more!
URL:https://castrovalleymarketplace.com/calendar/makers-market-6/2022-10-15/
LOCATION:Castro Valley Marketplace\, 3295 Castro Valley Boulevard\, Castro Valley\, CA\, 94546\, United States
GEO:37.69557;-122.078496
X-APPLE-STRUCTURED-LOCATION;VALUE=URI;X-ADDRESS=Castro Valley Marketplace 3295 Castro Valley Boulevard Castro Valley CA 94546 United States;X-APPLE-RADIUS=500;X-TITLE=3295 Castro Valley Boulevard:geo:-122.078496,37.69557
END:VEVENT
BEGIN:VEVENT
DTSTART;TZID=America/Los_Angeles:20221014T203000
DTEND;TZID=America/Los_Angeles:20221014T220000
DTSTAMP:20260425T090121
CREATED:20221012T182752Z
LAST-MODIFIED:20221012T182752Z
UID:10000712-1665779400-1665784800@castrovalleymarketplace.com
SUMMARY:Night Owl Entertainment Presents: Duke James
DESCRIPTION:The Night Owl is excited to announce that Duke James will be performing on our mezzanine this upcoming Friday\, 10/14 from 8:30-1opm! Duke is a local singer\, songwriter and multi-instrumentalist\, and is not a show you want to miss. So mark your calendars\, invite a few friends\, grab a drink and enjoy live music here at the Night Owl.
URL:https://castrovalleymarketplace.com/calendar/night-owl-entertainment-presents-duke-james/
LOCATION:Castro Valley Marketplace\, 3295 Castro Valley Boulevard\, Castro Valley\, CA\, 94546\, United States
CATEGORIES:LAB 200,Live Music,Night Owl
ATTACH;FMTTYPE=image/jpeg:https://castrovalleymarketplace.com/wp-content/uploads/2022/10/Duke-James.jpg
GEO:37.69557;-122.078496
X-APPLE-STRUCTURED-LOCATION;VALUE=URI;X-ADDRESS=Castro Valley Marketplace 3295 Castro Valley Boulevard Castro Valley CA 94546 United States;X-APPLE-RADIUS=500;X-TITLE=3295 Castro Valley Boulevard:geo:-122.078496,37.69557
END:VEVENT
BEGIN:VEVENT
DTSTART;TZID=America/Los_Angeles:20221014T160000
DTEND;TZID=America/Los_Angeles:20221014T200000
DTSTAMP:20260425T090121
CREATED:20220826T225812Z
LAST-MODIFIED:20221003T002028Z
UID:10000910-1665763200-1665777600@castrovalleymarketplace.com
SUMMARY:Habibis Birria
DESCRIPTION:Enjoy Habibi’s Birria on the paseo.
URL:https://castrovalleymarketplace.com/calendar/habibis-birria/2022-10-14/
LOCATION:The Paseo\, 3295 Castro Valley Blvd\, Castro Valley\, 94546
ATTACH;FMTTYPE=image/jpeg:https://castrovalleymarketplace.com/wp-content/uploads/2022/08/IMG_2941-1.jpg
END:VEVENT
BEGIN:VEVENT
DTSTART;TZID=America/Los_Angeles:20221012T180000
DTEND;TZID=America/Los_Angeles:20221012T200000
DTSTAMP:20260425T090121
CREATED:20220921T160416Z
LAST-MODIFIED:20221011T181103Z
UID:10000708-1665597600-1665604800@castrovalleymarketplace.com
SUMMARY:A Night Owl Cocktail Class: Entertaining with Cocktail Classics
DESCRIPTION:Know Your Manhattan from your Old Fashioned – Learn to Love the Square Ice Cube\n\n\nNight Owl Chief Mixologist\, Brandon Blackmon shares the art of perfection (and a few trade secrets) about the realm of classic cocktails. Learn about glassware\, mixing tools\, when to shake or stir\, garnishes\, how to flame a drink and more!  \nImagine entertaining your guests with a batch of perfect Manhattans – just the icebreaker to get the evening started – Everybody try one! In this class\, you’ll be making make 3 classic cocktails – but\, you will learn so much more – Shake\, Shake\, Shake!  \nLite bites & fun included. See you there!
URL:https://castrovalleymarketplace.com/calendar/a-night-owl-cocktail-class-entertaining-with-cocktail-classics/
LOCATION:Night Owl\, 3295 Castro Valley Boulevard\, #Suite 204\, Castro Valley\, CA\, 94546\, United States
ATTACH;FMTTYPE=image/jpeg:https://castrovalleymarketplace.com/wp-content/uploads/2022/09/ecbd342947b4844d99488965eb77efa1.jpg
END:VEVENT
BEGIN:VEVENT
DTSTART;TZID=America/Los_Angeles:20221012T170000
DTEND;TZID=America/Los_Angeles:20221012T200000
DTSTAMP:20260425T090121
CREATED:20220826T165134Z
LAST-MODIFIED:20220826T183601Z
UID:10000856-1665594000-1665604800@castrovalleymarketplace.com
SUMMARY:Castro Valley Marketplace Art Walk
DESCRIPTION:Join us every Wednesday from 5:00pm-8:00pm to experience the best of the local art community.
URL:https://castrovalleymarketplace.com/calendar/art-walk-3/2022-10-12/
LOCATION:Castro Valley Marketplace\, 3295 Castro Valley Boulevard\, Castro Valley\, CA\, 94546\, United States
GEO:37.69557;-122.078496
X-APPLE-STRUCTURED-LOCATION;VALUE=URI;X-ADDRESS=Castro Valley Marketplace 3295 Castro Valley Boulevard Castro Valley CA 94546 United States;X-APPLE-RADIUS=500;X-TITLE=3295 Castro Valley Boulevard:geo:-122.078496,37.69557
END:VEVENT
BEGIN:VEVENT
DTSTART;TZID=America/Los_Angeles:20221009T160000
DTEND;TZID=America/Los_Angeles:20221009T200000
DTSTAMP:20260425T090121
CREATED:20220826T225812Z
LAST-MODIFIED:20221003T002028Z
UID:10000909-1665331200-1665345600@castrovalleymarketplace.com
SUMMARY:Habibis Birria
DESCRIPTION:Enjoy Habibi’s Birria on the paseo.
URL:https://castrovalleymarketplace.com/calendar/habibis-birria/2022-10-09/
LOCATION:The Paseo\, 3295 Castro Valley Blvd\, Castro Valley\, 94546
ATTACH;FMTTYPE=image/jpeg:https://castrovalleymarketplace.com/wp-content/uploads/2022/08/IMG_2941-1.jpg
END:VEVENT
BEGIN:VEVENT
DTSTART;TZID=America/Los_Angeles:20221008T160000
DTEND;TZID=America/Los_Angeles:20221008T200000
DTSTAMP:20260425T090121
CREATED:20220826T225812Z
LAST-MODIFIED:20221003T002028Z
UID:10000908-1665244800-1665259200@castrovalleymarketplace.com
SUMMARY:Habibis Birria
DESCRIPTION:Enjoy Habibi’s Birria on the paseo.
URL:https://castrovalleymarketplace.com/calendar/habibis-birria/2022-10-08/
LOCATION:The Paseo\, 3295 Castro Valley Blvd\, Castro Valley\, 94546
ATTACH;FMTTYPE=image/jpeg:https://castrovalleymarketplace.com/wp-content/uploads/2022/08/IMG_2941-1.jpg
END:VEVENT
BEGIN:VEVENT
DTSTART;TZID=America/Los_Angeles:20221008T100000
DTEND;TZID=America/Los_Angeles:20221008T150000
DTSTAMP:20260425T090121
CREATED:20220826T185422Z
LAST-MODIFIED:20220826T185422Z
UID:10000836-1665223200-1665241200@castrovalleymarketplace.com
SUMMARY:Maker's Market
DESCRIPTION:Come enjoy our outdoor\, open air marketplace and shop from local makers in your community. Featuring makers of jewelry\, apparel\, body products\, home goods & more!
URL:https://castrovalleymarketplace.com/calendar/makers-market-6/2022-10-08/
LOCATION:Castro Valley Marketplace\, 3295 Castro Valley Boulevard\, Castro Valley\, CA\, 94546\, United States
GEO:37.69557;-122.078496
X-APPLE-STRUCTURED-LOCATION;VALUE=URI;X-ADDRESS=Castro Valley Marketplace 3295 Castro Valley Boulevard Castro Valley CA 94546 United States;X-APPLE-RADIUS=500;X-TITLE=3295 Castro Valley Boulevard:geo:-122.078496,37.69557
END:VEVENT
END:VCALENDAR