BEGIN:VCALENDAR
VERSION:2.0
PRODID:-//Castro Valley Marketplace - ECPv6.15.18//NONSGML v1.0//EN
CALSCALE:GREGORIAN
METHOD:PUBLISH
X-WR-CALNAME:Castro Valley Marketplace
X-ORIGINAL-URL:https://castrovalleymarketplace.com
X-WR-CALDESC:Events for Castro Valley Marketplace
REFRESH-INTERVAL;VALUE=DURATION:PT1H
X-Robots-Tag:noindex
X-PUBLISHED-TTL:PT1H
BEGIN:VTIMEZONE
TZID:America/Los_Angeles
BEGIN:DAYLIGHT
TZOFFSETFROM:-0800
TZOFFSETTO:-0700
TZNAME:PDT
DTSTART:20200308T100000
END:DAYLIGHT
BEGIN:STANDARD
TZOFFSETFROM:-0700
TZOFFSETTO:-0800
TZNAME:PST
DTSTART:20201101T090000
END:STANDARD
BEGIN:DAYLIGHT
TZOFFSETFROM:-0800
TZOFFSETTO:-0700
TZNAME:PDT
DTSTART:20210314T100000
END:DAYLIGHT
BEGIN:STANDARD
TZOFFSETFROM:-0700
TZOFFSETTO:-0800
TZNAME:PST
DTSTART:20211107T090000
END:STANDARD
BEGIN:DAYLIGHT
TZOFFSETFROM:-0800
TZOFFSETTO:-0700
TZNAME:PDT
DTSTART:20220313T100000
END:DAYLIGHT
BEGIN:STANDARD
TZOFFSETFROM:-0700
TZOFFSETTO:-0800
TZNAME:PST
DTSTART:20221106T090000
END:STANDARD
END:VTIMEZONE
BEGIN:VEVENT
DTSTART;TZID=America/Los_Angeles:20210502T100000
DTEND;TZID=America/Los_Angeles:20210502T140000
DTSTAMP:20260422T074740
CREATED:20210430T173909Z
LAST-MODIFIED:20210430T173909Z
UID:10000096-1619949600-1619964000@castrovalleymarketplace.com
SUMMARY:Private Event: CVEF Bike For Education Awards
DESCRIPTION:Castro Valley Educational Foundation \nBike For Education Award \n10:00 am – 2:00 pm \n 
URL:https://castrovalleymarketplace.com/calendar/private-event-cvef-bike-for-education-awards/
LOCATION:The Hive (Suite 205)\, 3295 Castro Valley Boulevard\, Suite 205\, Castro Valley\, CA\, 94546\, United States
CATEGORIES:Private Event
ATTACH;FMTTYPE=image/jpeg:https://castrovalleymarketplace.com/wp-content/uploads/2021/04/castro-valley-marketplace-cvef-bike-4-education-awards-event-page-1600x900-01.jpg
END:VEVENT
END:VCALENDAR