BEGIN:VCALENDAR
VERSION:2.0
PRODID:-//Castro Valley Marketplace - ECPv6.15.18//NONSGML v1.0//EN
CALSCALE:GREGORIAN
METHOD:PUBLISH
X-ORIGINAL-URL:https://castrovalleymarketplace.com
X-WR-CALDESC:Events for Castro Valley Marketplace
REFRESH-INTERVAL;VALUE=DURATION:PT1H
X-Robots-Tag:noindex
X-PUBLISHED-TTL:PT1H
BEGIN:VTIMEZONE
TZID:America/Los_Angeles
BEGIN:DAYLIGHT
TZOFFSETFROM:-0800
TZOFFSETTO:-0700
TZNAME:PDT
DTSTART:20210314T100000
END:DAYLIGHT
BEGIN:STANDARD
TZOFFSETFROM:-0700
TZOFFSETTO:-0800
TZNAME:PST
DTSTART:20211107T090000
END:STANDARD
BEGIN:DAYLIGHT
TZOFFSETFROM:-0800
TZOFFSETTO:-0700
TZNAME:PDT
DTSTART:20220313T100000
END:DAYLIGHT
BEGIN:STANDARD
TZOFFSETFROM:-0700
TZOFFSETTO:-0800
TZNAME:PST
DTSTART:20221106T090000
END:STANDARD
BEGIN:DAYLIGHT
TZOFFSETFROM:-0800
TZOFFSETTO:-0700
TZNAME:PDT
DTSTART:20230312T100000
END:DAYLIGHT
BEGIN:STANDARD
TZOFFSETFROM:-0700
TZOFFSETTO:-0800
TZNAME:PST
DTSTART:20231105T090000
END:STANDARD
END:VTIMEZONE
BEGIN:VEVENT
DTSTART;TZID=America/Los_Angeles:20220108T110000
DTEND;TZID=America/Los_Angeles:20220108T123000
DTSTAMP:20260423T193633
CREATED:20220105T222607Z
LAST-MODIFIED:20220105T222607Z
UID:10000565-1641639600-1641645000@castrovalleymarketplace.com
SUMMARY:FARMcurious: Mastering Non-Alcoholic Beverage Pairings for Dry January and Beyond
DESCRIPTION:Non-alcoholic beverage consumption is on the rise and\, though wine is a classic cheese pairing\, the NAB options continue to grow and improve. Explore some incredible and sometimes surprising pairings with instructor Nicole Easterday\, who will use classic flavor rules like sweet with salty\, herbal with mineral\, complements and counterpoints to take you on a tour of non-alcoholic beverages paired with your favorite cheeses. Whether you don’t drink alcohol at all or are just interested in playing with flavors\, be prepared to be surprised and delighted by the world of pairings beyond beer\, wine and cider! This is an all-ages workshop \nThis workshop is taught by Nicole Easterday\, the founder of FARMcurious. Nicole is an engaging teacher who encourages a fun\, social environment while she explains what’s happening in a very down-to-earth format. \nLocation: FARMcurious at the Castro Valley Marketplace\, 3295 Castro Valley Blvd\, Castro Valley\, CA. \nIf you use Facebook\, be sure to join our event here to access photos and messages about class. \nThis is an all-ages workshop. Please see our cancellation policy here. \nCOVID-related information: \nProof of vaccination status will be required to participate. Please note\, we’ll make every reasonable attempt to verify vaccination status of each person in your group\, but we ask you to realize it’s not a perfect system. Any risk related to attending this activity is your own. \nWe run the class with windows open (weather permitting) and HEPA filters constantly circulating the air. \nPlease note that all attendees must be masked at all times except when actively taking a bite of cheese or taking a drink. Please stay home if you have a fever\, are experiencing any COVID-like symptoms for may have been exposed to someone diagnosed with COVID-19. \nTerms and Conditions – By attending a FARMcurious event\, you agree to our Terms and Conditions. \nSold out?? Try our waiting list! If your desired date is sold please call or email to be placed on our waiting list (info@farmcurious.com or 510.877.9955). \nInterested in a private party? We offer private events for birthdays\, bachelorettes\, etc. We also offer team-building workshops for businesses and special interest groups (like parent’s clubs\, scout troops\, etc). Contact Nicole directly for more information at nicole@farmcurious.com.
URL:https://castrovalleymarketplace.com/calendar/farmcurious-mastering-non-alcoholic-beverage-pairings-for-dry-january-and-beyond/
LOCATION:Pop Out Kitchen #203\, 3295 Castro Valley Boulevard\, Suite 203\, Castro Valley\, CA\, 94546\, United States
CATEGORIES:FARMcurious,Pop Out Kitchen
ATTACH;FMTTYPE=image/jpeg:https://castrovalleymarketplace.com/wp-content/uploads/2022/01/IMG_8329_1_1024x1024.jpg
ORGANIZER;CN="FARMcurious":MAILTO:info@farmcurious.com
END:VEVENT
END:VCALENDAR