BEGIN:VCALENDAR
VERSION:2.0
PRODID:-//Castro Valley Marketplace - ECPv6.15.18//NONSGML v1.0//EN
CALSCALE:GREGORIAN
METHOD:PUBLISH
X-WR-CALNAME:Castro Valley Marketplace
X-ORIGINAL-URL:https://castrovalleymarketplace.com
X-WR-CALDESC:Events for Castro Valley Marketplace
REFRESH-INTERVAL;VALUE=DURATION:PT1H
X-Robots-Tag:noindex
X-PUBLISHED-TTL:PT1H
BEGIN:VTIMEZONE
TZID:America/Los_Angeles
BEGIN:DAYLIGHT
TZOFFSETFROM:-0800
TZOFFSETTO:-0700
TZNAME:PDT
DTSTART:20200308T100000
END:DAYLIGHT
BEGIN:STANDARD
TZOFFSETFROM:-0700
TZOFFSETTO:-0800
TZNAME:PST
DTSTART:20201101T090000
END:STANDARD
BEGIN:DAYLIGHT
TZOFFSETFROM:-0800
TZOFFSETTO:-0700
TZNAME:PDT
DTSTART:20210314T100000
END:DAYLIGHT
BEGIN:STANDARD
TZOFFSETFROM:-0700
TZOFFSETTO:-0800
TZNAME:PST
DTSTART:20211107T090000
END:STANDARD
BEGIN:DAYLIGHT
TZOFFSETFROM:-0800
TZOFFSETTO:-0700
TZNAME:PDT
DTSTART:20220313T100000
END:DAYLIGHT
BEGIN:STANDARD
TZOFFSETFROM:-0700
TZOFFSETTO:-0800
TZNAME:PST
DTSTART:20221106T090000
END:STANDARD
END:VTIMEZONE
BEGIN:VEVENT
DTSTART;TZID=America/Los_Angeles:20211110T183000
DTEND;TZID=America/Los_Angeles:20211110T203000
DTSTAMP:20260423T215013
CREATED:20211019T224713Z
LAST-MODIFIED:20211026T182353Z
UID:10000024-1636569000-1636576200@castrovalleymarketplace.com
SUMMARY:Wreath Making Workshop by Sweet Pea the Flower Truck
DESCRIPTION:Taught by Kristina Lux\, Owner of Sweet Pea the Flower Truck \nCome learn how to make a beautiful wreath using fresh eucalyptus with dried and fresh elements. You’ll take away tips and skills to equip you to become an expert wreath designer. \nAll materials and tools are included for you to walk away with a wreath ready to hang. \nWhen: Wednesday\, November 10th 6:30pm-8:30pm\nLocation: Castro Valley Market Place room 205\nPrice: $125 (tax included)\nWhat’s included: Wreath wire frame\, wire\, a variety of things to choose from to make a custom wreath and a complimentary glass of wine or non-alcoholic beverage\nWhat’s borrowed: Floral sheers and wire cutters \nTo register\, click here! \nOnce you submit this form you will receive a confirmation email from me with payment options within the day. Payment must be made to secure your spot within 24 hours of receiving the email. \nCancellation policy: Cancellations must be made 7 days prior to event to receive a full refund. \nFor additional questions contact kristina@sweetpeatheflowertruck.com
URL:https://castrovalleymarketplace.com/calendar/sweet-pea-wreath-making-workshop/
LOCATION:The Hive (Suite 205)\, 3295 Castro Valley Boulevard\, Suite 205\, Castro Valley\, CA\, 94546\, United States
CATEGORIES:Pop Out Kitchen
ATTACH;FMTTYPE=image/png:https://castrovalleymarketplace.com/wp-content/uploads/2021/10/Wreath-Workshop.png
ORGANIZER;CN="Sweet Pea the Flower Truck":MAILTO:kristina@sweetpeatheflowertruck.com
END:VEVENT
END:VCALENDAR