BEGIN:VCALENDAR
VERSION:2.0
PRODID:-//Castro Valley Marketplace - ECPv6.15.18//NONSGML v1.0//EN
CALSCALE:GREGORIAN
METHOD:PUBLISH
X-ORIGINAL-URL:https://castrovalleymarketplace.com
X-WR-CALDESC:Events for Castro Valley Marketplace
REFRESH-INTERVAL;VALUE=DURATION:PT1H
X-Robots-Tag:noindex
X-PUBLISHED-TTL:PT1H
BEGIN:VTIMEZONE
TZID:America/Los_Angeles
BEGIN:DAYLIGHT
TZOFFSETFROM:-0800
TZOFFSETTO:-0700
TZNAME:PDT
DTSTART:20200308T100000
END:DAYLIGHT
BEGIN:STANDARD
TZOFFSETFROM:-0700
TZOFFSETTO:-0800
TZNAME:PST
DTSTART:20201101T090000
END:STANDARD
BEGIN:DAYLIGHT
TZOFFSETFROM:-0800
TZOFFSETTO:-0700
TZNAME:PDT
DTSTART:20210314T100000
END:DAYLIGHT
BEGIN:STANDARD
TZOFFSETFROM:-0700
TZOFFSETTO:-0800
TZNAME:PST
DTSTART:20211107T090000
END:STANDARD
BEGIN:DAYLIGHT
TZOFFSETFROM:-0800
TZOFFSETTO:-0700
TZNAME:PDT
DTSTART:20220313T100000
END:DAYLIGHT
BEGIN:STANDARD
TZOFFSETFROM:-0700
TZOFFSETTO:-0800
TZNAME:PST
DTSTART:20221106T090000
END:STANDARD
END:VTIMEZONE
BEGIN:VEVENT
DTSTART;TZID=America/Los_Angeles:20211022T190000
DTEND;TZID=America/Los_Angeles:20211022T210000
DTSTAMP:20260423T225614
CREATED:20211013T194525Z
LAST-MODIFIED:20211013T194807Z
UID:10000092-1634929200-1634936400@castrovalleymarketplace.com
SUMMARY:Moms Night Out :: Fall Cookie Decorating (SOLD OUT)
DESCRIPTION:Calling all bakers! Want to learn how to decorate cookies like a pro? Back by popular demand\, we are offering another Mom’s Night Out with CVMC mom\, Miley Song of Birdie Bakery!
URL:https://castrovalleymarketplace.com/calendar/moms-night-out-fall-cookie-decorating-sold-out/
LOCATION:Pop Out Kitchen #203\, 3295 Castro Valley Boulevard\, Suite 203\, Castro Valley\, CA\, 94546\, United States
CATEGORIES:Pop Out Kitchen
ATTACH;FMTTYPE=image/jpeg:https://castrovalleymarketplace.com/wp-content/uploads/2021/10/Birdie-Bakery.jpeg
END:VEVENT
END:VCALENDAR