BEGIN:VCALENDAR
VERSION:2.0
PRODID:-//Castro Valley Marketplace - ECPv6.15.18//NONSGML v1.0//EN
CALSCALE:GREGORIAN
METHOD:PUBLISH
X-ORIGINAL-URL:https://castrovalleymarketplace.com
X-WR-CALDESC:Events for Castro Valley Marketplace
REFRESH-INTERVAL;VALUE=DURATION:PT1H
X-Robots-Tag:noindex
X-PUBLISHED-TTL:PT1H
BEGIN:VTIMEZONE
TZID:America/Los_Angeles
BEGIN:DAYLIGHT
TZOFFSETFROM:-0800
TZOFFSETTO:-0700
TZNAME:PDT
DTSTART:20200308T100000
END:DAYLIGHT
BEGIN:STANDARD
TZOFFSETFROM:-0700
TZOFFSETTO:-0800
TZNAME:PST
DTSTART:20201101T090000
END:STANDARD
BEGIN:DAYLIGHT
TZOFFSETFROM:-0800
TZOFFSETTO:-0700
TZNAME:PDT
DTSTART:20210314T100000
END:DAYLIGHT
BEGIN:STANDARD
TZOFFSETFROM:-0700
TZOFFSETTO:-0800
TZNAME:PST
DTSTART:20211107T090000
END:STANDARD
BEGIN:DAYLIGHT
TZOFFSETFROM:-0800
TZOFFSETTO:-0700
TZNAME:PDT
DTSTART:20220313T100000
END:DAYLIGHT
BEGIN:STANDARD
TZOFFSETFROM:-0700
TZOFFSETTO:-0800
TZNAME:PST
DTSTART:20221106T090000
END:STANDARD
END:VTIMEZONE
BEGIN:VEVENT
DTSTART;TZID=America/Los_Angeles:20210216T160000
DTEND;TZID=America/Los_Angeles:20210216T200000
DTSTAMP:20260424T100346
CREATED:20210216T193006Z
LAST-MODIFIED:20210218T193657Z
UID:10000038-1613491200-1613505600@castrovalleymarketplace.com
SUMMARY:Taco Tuesday Pop-Up: Hermanos Verdes
DESCRIPTION:Hermanos Verdes pop-up at Pop Out Kitchen\, on the mezzanine floor at Castro Valley Marketplace Tuesday\, February 16\, from 4:00 pm to 8:00 pm. \n\nTo order ahead\, please call (510) 604-0054 during the pop-up hours.\n  \n\nPop Out Kitchen | 3295 Castro Valley Boulevard\, Suite 204\, Castro Valley
URL:https://castrovalleymarketplace.com/calendar/taco-tuesday-pop-up-hermanos-verdes/
LOCATION:Castro Valley Marketplace\, 3295 Castro Valley Boulevard\, Castro Valley\, CA\, 94546\, United States
CATEGORIES:Pop Out Kitchen
ATTACH;FMTTYPE=image/jpeg:https://castrovalleymarketplace.com/wp-content/uploads/2021/02/castro-valley-marketplace-hermanos-verdes-pop-up-event-page-1600x900-1.jpg
GEO:37.69557;-122.078496
X-APPLE-STRUCTURED-LOCATION;VALUE=URI;X-ADDRESS=Castro Valley Marketplace 3295 Castro Valley Boulevard Castro Valley CA 94546 United States;X-APPLE-RADIUS=500;X-TITLE=3295 Castro Valley Boulevard:geo:-122.078496,37.69557
END:VEVENT
BEGIN:VEVENT
DTSTART;TZID=America/Los_Angeles:20210220T110000
DTEND;TZID=America/Los_Angeles:20210220T190000
DTSTAMP:20260424T100346
CREATED:20210218T001646Z
LAST-MODIFIED:20210218T193242Z
UID:10000039-1613818800-1613847600@castrovalleymarketplace.com
SUMMARY:Pop-Up: Hermanos Verdes
DESCRIPTION:Hermanos Verdes pop-up at Pop Out Kitchen\, on the mezzanine floor at Castro Valley Marketplace Saturday\, February 20\, from 11:00 am to 7:00 pm. This pop-up will be the last event of the month\, so don’t miss out! \nTo order ahead\, please call (510) 604-0054 during the pop-up hours.\n  \n\nPop Out Kitchen | 3295 Castro Valley Boulevard\, Suite 204\, Castro Valley
URL:https://castrovalleymarketplace.com/calendar/pop-up-hermanos-verdes/
LOCATION:Castro Valley Marketplace\, 3295 Castro Valley Boulevard\, Castro Valley\, CA\, 94546\, United States
CATEGORIES:Pop Out Kitchen
ATTACH;FMTTYPE=image/jpeg:https://castrovalleymarketplace.com/wp-content/uploads/2021/02/castro-valley-marketplace-hermanos-verdes-pop-up-event-page-1600x900-1.jpg
GEO:37.69557;-122.078496
X-APPLE-STRUCTURED-LOCATION;VALUE=URI;X-ADDRESS=Castro Valley Marketplace 3295 Castro Valley Boulevard Castro Valley CA 94546 United States;X-APPLE-RADIUS=500;X-TITLE=3295 Castro Valley Boulevard:geo:-122.078496,37.69557
END:VEVENT
END:VCALENDAR