BEGIN:VCALENDAR
VERSION:2.0
PRODID:-//Castro Valley Marketplace - ECPv6.15.18//NONSGML v1.0//EN
CALSCALE:GREGORIAN
METHOD:PUBLISH
X-ORIGINAL-URL:https://castrovalleymarketplace.com
X-WR-CALDESC:Events for Castro Valley Marketplace
REFRESH-INTERVAL;VALUE=DURATION:PT1H
X-Robots-Tag:noindex
X-PUBLISHED-TTL:PT1H
BEGIN:VTIMEZONE
TZID:America/Los_Angeles
BEGIN:DAYLIGHT
TZOFFSETFROM:-0800
TZOFFSETTO:-0700
TZNAME:PDT
DTSTART:20210314T100000
END:DAYLIGHT
BEGIN:STANDARD
TZOFFSETFROM:-0700
TZOFFSETTO:-0800
TZNAME:PST
DTSTART:20211107T090000
END:STANDARD
BEGIN:DAYLIGHT
TZOFFSETFROM:-0800
TZOFFSETTO:-0700
TZNAME:PDT
DTSTART:20220313T100000
END:DAYLIGHT
BEGIN:STANDARD
TZOFFSETFROM:-0700
TZOFFSETTO:-0800
TZNAME:PST
DTSTART:20221106T090000
END:STANDARD
BEGIN:DAYLIGHT
TZOFFSETFROM:-0800
TZOFFSETTO:-0700
TZNAME:PDT
DTSTART:20230312T100000
END:DAYLIGHT
BEGIN:STANDARD
TZOFFSETFROM:-0700
TZOFFSETTO:-0800
TZNAME:PST
DTSTART:20231105T090000
END:STANDARD
END:VTIMEZONE
BEGIN:VEVENT
DTSTART;TZID=America/Los_Angeles:20220427T200000
DTEND;TZID=America/Los_Angeles:20220427T220000
DTSTAMP:20260422T152455
CREATED:20220318T003558Z
LAST-MODIFIED:20220318T003558Z
UID:10000666-1651089600-1651096800@castrovalleymarketplace.com
SUMMARY:Night Owl Music Series: Bob Enos Legacy Big Band
DESCRIPTION:The mezzanine at the Castro Valley Marketplace comes alive from 8:00 pm to 10:00 pm featuring Bob Enos Legacy Big Band on stage \nEnter through the west entry off the parking lot. \nA selection of cocktails and bar bites will be served by Night Owl. \n 
URL:https://castrovalleymarketplace.com/calendar/night-owl-music-series-bob-enos-legacy-big-band/2022-04-27/
LOCATION:Castro Valley Marketplace\, 3295 Castro Valley Boulevard\, Castro Valley\, CA\, 94546\, United States
CATEGORIES:Live Music,Night Owl
ATTACH;FMTTYPE=image/jpeg:https://castrovalleymarketplace.com/wp-content/uploads/2022/02/photo_2022-03-17_11-10-22.jpg
GEO:37.69557;-122.078496
X-APPLE-STRUCTURED-LOCATION;VALUE=URI;X-ADDRESS=Castro Valley Marketplace 3295 Castro Valley Boulevard Castro Valley CA 94546 United States;X-APPLE-RADIUS=500;X-TITLE=3295 Castro Valley Boulevard:geo:-122.078496,37.69557
END:VEVENT
BEGIN:VEVENT
DTSTART;TZID=America/Los_Angeles:20220429T203000
DTEND;TZID=America/Los_Angeles:20220429T223000
DTSTAMP:20260422T152455
CREATED:20220330T012253Z
LAST-MODIFIED:20220330T012253Z
UID:10000701-1651264200-1651271400@castrovalleymarketplace.com
SUMMARY:Night Owl Music Series: Macro Diaz and Saul Sierra
DESCRIPTION:The mezzanine at the Castro Valley Marketplace comes alive from 8:30 pm to 10:30 pm featuring Macro Diaz and Saul Sierra on stage \nEnter through the west entry off the parking lot. \nA selection of cocktails and bar bites will be served by Night Owl.
URL:https://castrovalleymarketplace.com/calendar/night-owl-music-series-macro-diaz-and-saul-sierra-2/
LOCATION:Castro Valley Marketplace\, 3295 Castro Valley Boulevard\, Castro Valley\, CA\, 94546\, United States
CATEGORIES:Live Music,Night Owl
ATTACH;FMTTYPE=image/jpeg:https://castrovalleymarketplace.com/wp-content/uploads/2021/09/marcodiaz-10-23.jpeg
GEO:37.69557;-122.078496
X-APPLE-STRUCTURED-LOCATION;VALUE=URI;X-ADDRESS=Castro Valley Marketplace 3295 Castro Valley Boulevard Castro Valley CA 94546 United States;X-APPLE-RADIUS=500;X-TITLE=3295 Castro Valley Boulevard:geo:-122.078496,37.69557
END:VEVENT
BEGIN:VEVENT
DTSTART;TZID=America/Los_Angeles:20220430T203000
DTEND;TZID=America/Los_Angeles:20220430T223000
DTSTAMP:20260422T152455
CREATED:20220330T012354Z
LAST-MODIFIED:20220330T012354Z
UID:10000702-1651350600-1651357800@castrovalleymarketplace.com
SUMMARY:Night Owl Music Series: Jonathan Alford and Paul Lyons
DESCRIPTION:The mezzanine at the Castro Valley Marketplace comes alive from 8:30 pm to 10:30 pm featuring Jonathan Alford and Paul Lyons on stage \nEnter through the west entry off the parking lot. \nA selection of cocktails and bar bites will be served by Night Owl. \n 
URL:https://castrovalleymarketplace.com/calendar/night-owl-music-series-jonathan-alford-and-paul-lyons/
LOCATION:Castro Valley Marketplace\, 3295 Castro Valley Boulevard\, Castro Valley\, CA\, 94546\, United States
CATEGORIES:Live Music,Night Owl
ATTACH;FMTTYPE=image/jpeg:https://castrovalleymarketplace.com/wp-content/uploads/2022/03/JonathanAlfordPaulLyons.jpg
GEO:37.69557;-122.078496
X-APPLE-STRUCTURED-LOCATION;VALUE=URI;X-ADDRESS=Castro Valley Marketplace 3295 Castro Valley Boulevard Castro Valley CA 94546 United States;X-APPLE-RADIUS=500;X-TITLE=3295 Castro Valley Boulevard:geo:-122.078496,37.69557
END:VEVENT
BEGIN:VEVENT
DTSTART;TZID=America/Los_Angeles:20220813T203000
DTEND;TZID=America/Los_Angeles:20220813T223000
DTSTAMP:20260422T152455
CREATED:20220811T181343Z
LAST-MODIFIED:20220811T181343Z
UID:10000859-1660422600-1660429800@castrovalleymarketplace.com
SUMMARY:Night Owl Entertainment Presents: Bliss
DESCRIPTION:Enjoy “Bliss” live on the mezzanine this Saturday night from 8:30-10:30pm!
URL:https://castrovalleymarketplace.com/calendar/night-owl-entertainment-presents-bliss/
LOCATION:Night Owl\, #204\, 3295 Castro Valley Boulevard\, Suite 204\, Castro Valley\, 94546
CATEGORIES:Live Music,Night Owl
ATTACH;FMTTYPE=image/jpeg:https://castrovalleymarketplace.com/wp-content/uploads/2022/08/IMG_1445.jpg
END:VEVENT
BEGIN:VEVENT
DTSTART;TZID=America/Los_Angeles:20220826T173000
DTEND;TZID=America/Los_Angeles:20220826T200000
DTSTAMP:20260422T152455
CREATED:20220818T182639Z
LAST-MODIFIED:20220818T182639Z
UID:10000861-1661535000-1661544000@castrovalleymarketplace.com
SUMMARY:Essential Knife Skills with Chef Charlie
DESCRIPTION:Learn from a master – Chef Charlie – with over 25 years of experience to share. A class for beginners and seasoned home cooks alike! A lot of simple ideas that add up to elevating your knife skills from amateur to professional! It really makes a difference\, regardless if you cook every day or just on special occasions. Join us\, and share with those you know who would appreciate the experience!
URL:https://castrovalleymarketplace.com/calendar/essential-knife-skills-with-chef-charlie/
LOCATION:Castro Valley Marketplace\, 3295 Castro Valley Boulevard\, Castro Valley\, CA\, 94546\, United States
CATEGORIES:LAB 200,Night Owl,Pop Out Kitchen
GEO:37.69557;-122.078496
X-APPLE-STRUCTURED-LOCATION;VALUE=URI;X-ADDRESS=Castro Valley Marketplace 3295 Castro Valley Boulevard Castro Valley CA 94546 United States;X-APPLE-RADIUS=500;X-TITLE=3295 Castro Valley Boulevard:geo:-122.078496,37.69557
END:VEVENT
BEGIN:VEVENT
DTSTART;TZID=America/Los_Angeles:20220827T203000
DTEND;TZID=America/Los_Angeles:20220827T223000
DTSTAMP:20260422T152455
CREATED:20220825T170213Z
LAST-MODIFIED:20220825T170213Z
UID:10000847-1661632200-1661639400@castrovalleymarketplace.com
SUMMARY:Night Owl Entertainment Presents: Luna Jenn
DESCRIPTION:Luna Jenn is a 21 year old Latine artist from Oakland\, Ca. They share songs that come from a place of experiencing social injustice\, church-hurt and cultural displacement\, to intentionally take up and open more spaces for other BIPOC disabled queer individuals. Their favorite genres to cover are Bolero\, R&B\, Reggaeton\, and Folk. We are so excited to have her play this Saturday\, August 27th\, from 8:30-10:30pm! Come out and enjoy live music from this talented local artist.
URL:https://castrovalleymarketplace.com/calendar/night-owl-entertainment-presents-luna-jenn/
LOCATION:Castro Valley Marketplace\, 3295 Castro Valley Boulevard\, Castro Valley\, CA\, 94546\, United States
CATEGORIES:Live Music,Night Owl
ATTACH;FMTTYPE=image/jpeg:https://castrovalleymarketplace.com/wp-content/uploads/2022/08/Luna-Jenn-Promo-Pic.jpg
GEO:37.69557;-122.078496
X-APPLE-STRUCTURED-LOCATION;VALUE=URI;X-ADDRESS=Castro Valley Marketplace 3295 Castro Valley Boulevard Castro Valley CA 94546 United States;X-APPLE-RADIUS=500;X-TITLE=3295 Castro Valley Boulevard:geo:-122.078496,37.69557
END:VEVENT
BEGIN:VEVENT
DTSTART;TZID=America/Los_Angeles:20220829T173000
DTEND;TZID=America/Los_Angeles:20220829T210000
DTSTAMP:20260422T152455
CREATED:20220818T182321Z
LAST-MODIFIED:20220818T182321Z
UID:10000860-1661794200-1661806800@castrovalleymarketplace.com
SUMMARY:Chef’s Dinner with Basil Hayden
DESCRIPTION:Join us for a Night Owl Chef’s Dinner\, as we take a tour of American Whiskey featuring Basil Hayden. \nWorld renown Chef Shaun Gethin’s culinary talents will showcase Basil Hayden signature touches. \nNight Owl’s Bar Manager & Chief Mixologist\, Brandon Blackmon\, will add the magic to Basil Hayden inspired cocktails paired with each course. \n  \nMenu \nEincorn Biscuits \nSlow Roasted TomatoPlum Compote | Lardo | Goat Cheese | BH Toast Syrup \nSlow Roasted Trout \nCornbread Puree | Braised Greens \nRye Glazed Pork \nOnion Ash \nOak Smoked Beef Tenderloin \nBaby Broccoli | Aligot Potatoe \nSubtle Smoke Vanilla Anglaise \nBurnt Peaches | BH Bourbon Caramel | Candied Almond
URL:https://castrovalleymarketplace.com/calendar/chefs-dinner-with-basil-hayden/
LOCATION:Lab 200\, 3295 Castro Valley Blvd\, Suite 200\, Castro Valley\, 94546
CATEGORIES:LAB 200,Night Owl,Pop Out Kitchen
ORGANIZER;CN="Night Owl Bar":MAILTO:info@nightowlcastrovalley.com
END:VEVENT
BEGIN:VEVENT
DTSTART;TZID=America/Los_Angeles:20220910T203000
DTEND;TZID=America/Los_Angeles:20220910T223000
DTSTAMP:20260422T152455
CREATED:20220831T183332Z
LAST-MODIFIED:20220831T183332Z
UID:10000786-1662841800-1662849000@castrovalleymarketplace.com
SUMMARY:Night Owl Entertainment Presents: Bliss
DESCRIPTION:We are excited to be hosting Bliss again\, Saturday\, September 10th! This local trio featuring a piano\, guitar and vocals will perform on the mezzanine from 8:30-10:30pm! Mark your calendars\, and come enjoy a drink and live music!
URL:https://castrovalleymarketplace.com/calendar/night-owl-entertainment-presents-bliss-2/
LOCATION:Castro Valley Marketplace\, 3295 Castro Valley Boulevard\, Castro Valley\, CA\, 94546\, United States
CATEGORIES:Live Music,Night Owl
ATTACH;FMTTYPE=image/jpeg:https://castrovalleymarketplace.com/wp-content/uploads/2022/08/IMG_1445.jpg
GEO:37.69557;-122.078496
X-APPLE-STRUCTURED-LOCATION;VALUE=URI;X-ADDRESS=Castro Valley Marketplace 3295 Castro Valley Boulevard Castro Valley CA 94546 United States;X-APPLE-RADIUS=500;X-TITLE=3295 Castro Valley Boulevard:geo:-122.078496,37.69557
END:VEVENT
BEGIN:VEVENT
DTSTART;TZID=America/Los_Angeles:20220914T170000
DTEND;TZID=America/Los_Angeles:20220914T200000
DTSTAMP:20260422T152455
CREATED:20220914T174629Z
LAST-MODIFIED:20220914T174629Z
UID:10000707-1663174800-1663185600@castrovalleymarketplace.com
SUMMARY:Performing on the Paseo: Evan Platis
DESCRIPTION:Folk singer Evan Platis (aka The Long Haired Greek) was raised in the coastal woods of West Marin County. Over the past 7 years\, Evan has cut his teeth in the North County San Diego music scene\, writing and performing among peers. His bluegrass inspired style is begotten of a folk-mass background\, and is heavily influenced by Bob Dylan. Having recently moved to Castro Valley\, he is looking forward to being a part of the greater Bay Area scene and beyond. He has released 2 live videos on YouTube and expects to release more music over the coarse of 2022. Come out and see him perform 5-8pm!
URL:https://castrovalleymarketplace.com/calendar/performing-on-the-paseo-evan-platis/
LOCATION:Castro Valley Marketplace\, 3295 Castro Valley Boulevard\, Castro Valley\, CA\, 94546\, United States
CATEGORIES:Live Music,Night Owl
ATTACH;FMTTYPE=image/jpeg:https://castrovalleymarketplace.com/wp-content/uploads/2022/08/Evan-Platis-image-2.jpg
GEO:37.69557;-122.078496
X-APPLE-STRUCTURED-LOCATION;VALUE=URI;X-ADDRESS=Castro Valley Marketplace 3295 Castro Valley Boulevard Castro Valley CA 94546 United States;X-APPLE-RADIUS=500;X-TITLE=3295 Castro Valley Boulevard:geo:-122.078496,37.69557
END:VEVENT
BEGIN:VEVENT
DTSTART;TZID=America/Los_Angeles:20220917T203000
DTEND;TZID=America/Los_Angeles:20220917T223000
DTSTAMP:20260422T152455
CREATED:20220905T051627Z
LAST-MODIFIED:20220905T051627Z
UID:10000706-1663446600-1663453800@castrovalleymarketplace.com
SUMMARY:Night Owl Entertainment Presents: Kevin Seal & Sean Baca
DESCRIPTION:The Night Owl is so excited to have this electric duo on the mezzanine\, September 17th from 8:30-10:30pm! Make sure to mark your calendars\, and come out to enjoy a drink and live music from local musicians Kevin Seal and Sean Baca.
URL:https://castrovalleymarketplace.com/calendar/night-owl-entertainment-presents-kevin-seal-sean-baca/
LOCATION:Castro Valley Marketplace\, 3295 Castro Valley Boulevard\, Castro Valley\, CA\, 94546\, United States
CATEGORIES:Live Music,Night Owl
ATTACH;FMTTYPE=image/jpeg:https://castrovalleymarketplace.com/wp-content/uploads/2022/09/SEALDUO_01-scaled.jpg
GEO:37.69557;-122.078496
X-APPLE-STRUCTURED-LOCATION;VALUE=URI;X-ADDRESS=Castro Valley Marketplace 3295 Castro Valley Boulevard Castro Valley CA 94546 United States;X-APPLE-RADIUS=500;X-TITLE=3295 Castro Valley Boulevard:geo:-122.078496,37.69557
END:VEVENT
BEGIN:VEVENT
DTSTART;TZID=America/Los_Angeles:20220923T203000
DTEND;TZID=America/Los_Angeles:20220923T223000
DTSTAMP:20260422T152455
CREATED:20220826T215743Z
LAST-MODIFIED:20220826T215743Z
UID:10000845-1663965000-1663972200@castrovalleymarketplace.com
SUMMARY:Night Owl Entertainment Presents: The Bonafides
DESCRIPTION:Jazz\, Funk\, RnB\, and Soul is how Jon Cleary describes New Orleans music. That is the spirit “The Bonafides” bring to the bandstand. From Prof. Longhair and Dr. John\, to Jon Cleary and Allen Toussaint (with a side trip to T. Monk and H. Hancock\,) this trio will have something for everyone.  \nBe sure to catch them live on the mezzanine\, September 23rd from 8:30-10:30pm! It’s a show you don’t want to miss.
URL:https://castrovalleymarketplace.com/calendar/night-owl-entertainment-presents-the-bonafides/
LOCATION:Castro Valley Marketplace\, 3295 Castro Valley Boulevard\, Castro Valley\, CA\, 94546\, United States
CATEGORIES:Live Music,Night Owl
ATTACH;FMTTYPE=image/jpeg:https://castrovalleymarketplace.com/wp-content/uploads/2022/08/Bonafide-Trio_4521-A©Irene-Young-scaled.jpg
GEO:37.69557;-122.078496
X-APPLE-STRUCTURED-LOCATION;VALUE=URI;X-ADDRESS=Castro Valley Marketplace 3295 Castro Valley Boulevard Castro Valley CA 94546 United States;X-APPLE-RADIUS=500;X-TITLE=3295 Castro Valley Boulevard:geo:-122.078496,37.69557
END:VEVENT
BEGIN:VEVENT
DTSTART;TZID=America/Los_Angeles:20220924T203000
DTEND;TZID=America/Los_Angeles:20220924T223000
DTSTAMP:20260422T152455
CREATED:20220819T184544Z
LAST-MODIFIED:20220819T184544Z
UID:10000869-1664051400-1664058600@castrovalleymarketplace.com
SUMMARY:Night Owl Entertainment Presents: Double Shot
DESCRIPTION:Enjoy live music from Double Shot\, Saturday 9/24 from 8:30-10:30pm. \nDouble Shot\, the best Bay Area classic rock cover band since the Beatles\,  covers hit songs from a wide variety of artist. These songs\, from the 60’s\, 70’s\, 80’s and 90’s\, include covers from Johnny Cash\, Led Zeppelin\, The Rolling Stones\, Tom Petty\, Billy Joel\, Lynyrd Skynyrd\, Y&T\, and many more. Be sure to catch them live!
URL:https://castrovalleymarketplace.com/calendar/night-owl-entertainment-presents-double-shot/
LOCATION:Castro Valley Marketplace\, 3295 Castro Valley Boulevard\, Castro Valley\, CA\, 94546\, United States
CATEGORIES:Live Music,Night Owl
ATTACH;FMTTYPE=image/jpeg:https://castrovalleymarketplace.com/wp-content/uploads/2022/06/IMG_3312.jpg
GEO:37.69557;-122.078496
X-APPLE-STRUCTURED-LOCATION;VALUE=URI;X-ADDRESS=Castro Valley Marketplace 3295 Castro Valley Boulevard Castro Valley CA 94546 United States;X-APPLE-RADIUS=500;X-TITLE=3295 Castro Valley Boulevard:geo:-122.078496,37.69557
END:VEVENT
BEGIN:VEVENT
DTSTART;TZID=America/Los_Angeles:20220930T203000
DTEND;TZID=America/Los_Angeles:20220930T220000
DTSTAMP:20260422T152455
CREATED:20220927T022933Z
LAST-MODIFIED:20220927T022933Z
UID:10000710-1664569800-1664575200@castrovalleymarketplace.com
SUMMARY:Night Owl Entertainment Presents: The Long Haired Greek
DESCRIPTION:Folk singer Evan Platis (aka The Long Haired Greek) was raised in the coastal woods of West Marin County. Over the past 7 years\, Evan has cut his teeth in the North County San Diego music scene\, writing and performing among peers. His bluegrass inspired style is begotten of a folk-mass background\, and is heavily influenced by Bob Dylan. Having recently moved to Castro Valley\, he is looking forward to being a part of the greater Bay Area scene and beyond. He has released 2 live videos on YouTube and expects to release more music over the coarse of 2022. \nWe are excited to be hosting him again on our mezzanine\, Friday September 30th\, from 8:30-10pm. Be sure to grab a drink\, bring some friends\, and enjoy good music.
URL:https://castrovalleymarketplace.com/calendar/night-owl-entertainment-presents-the-long-haired-greek/
LOCATION:Castro Valley Marketplace\, 3295 Castro Valley Boulevard\, Castro Valley\, CA\, 94546\, United States
CATEGORIES:LAB 200,Live Music,Night Owl
ATTACH;FMTTYPE=image/jpeg:https://castrovalleymarketplace.com/wp-content/uploads/2022/09/IMG_3910.jpg
GEO:37.69557;-122.078496
X-APPLE-STRUCTURED-LOCATION;VALUE=URI;X-ADDRESS=Castro Valley Marketplace 3295 Castro Valley Boulevard Castro Valley CA 94546 United States;X-APPLE-RADIUS=500;X-TITLE=3295 Castro Valley Boulevard:geo:-122.078496,37.69557
END:VEVENT
BEGIN:VEVENT
DTSTART;TZID=America/Los_Angeles:20221001T203000
DTEND;TZID=America/Los_Angeles:20221001T220000
DTSTAMP:20260422T152455
CREATED:20220928T182159Z
LAST-MODIFIED:20220928T182159Z
UID:10000711-1664656200-1664661600@castrovalleymarketplace.com
SUMMARY:Night Owl Entertainment Presents: Amaya Jiao
DESCRIPTION:Amaya Jiao is a Singer/Songwriter and Guitarist who enjoys playing and writing music of her own. A senior at Castro Valley High School\, she is already accomplishing big things\, and recently released an EP called “Playing With the Light” on Apple Music and Spotify. Her hope is to make people smile with her music\, and is not a show you want to miss!
URL:https://castrovalleymarketplace.com/calendar/night-owl-entertainment-presents-amaya-jiao/
LOCATION:Castro Valley Marketplace\, 3295 Castro Valley Boulevard\, Castro Valley\, CA\, 94546\, United States
CATEGORIES:LAB 200,Live Music,Night Owl
ATTACH;FMTTYPE=image/jpeg:https://castrovalleymarketplace.com/wp-content/uploads/2022/09/IMG_3979.jpg
GEO:37.69557;-122.078496
X-APPLE-STRUCTURED-LOCATION;VALUE=URI;X-ADDRESS=Castro Valley Marketplace 3295 Castro Valley Boulevard Castro Valley CA 94546 United States;X-APPLE-RADIUS=500;X-TITLE=3295 Castro Valley Boulevard:geo:-122.078496,37.69557
END:VEVENT
BEGIN:VEVENT
DTSTART;TZID=America/Los_Angeles:20221007T203000
DTEND;TZID=America/Los_Angeles:20221007T223000
DTSTAMP:20260422T152455
CREATED:20220822T181146Z
LAST-MODIFIED:20220822T181146Z
UID:10000882-1665174600-1665181800@castrovalleymarketplace.com
SUMMARY:Night Owl Entertainment Presents: Marlo
DESCRIPTION:The Night Owl is so excited to host Marlo on the mezzanine\, Friday October 7th\, from 8:30-10:30pm! \nMarlo is a 14 year old local artist\, producer\, songwriter\, and multi-instrumentalist who will be sharing the stage with other talented musicians to perform an electrifying set! Her music is a mix of jazz and pop\, and although she is new to performing\, she can see lots of it in her future! \nYou can find her music on most music platforms under “Marlo.” Having recently released her debut EP “Macro Salad\,” she is a show you don’t want to miss.
URL:https://castrovalleymarketplace.com/calendar/night-owl-entertainment-presents-marlo/
LOCATION:Castro Valley Marketplace\, 3295 Castro Valley Boulevard\, Castro Valley\, CA\, 94546\, United States
CATEGORIES:Live Music,Night Owl
ATTACH;FMTTYPE=image/jpeg:https://castrovalleymarketplace.com/wp-content/uploads/2022/08/Marlo-image-pic-scaled.jpg
GEO:37.69557;-122.078496
X-APPLE-STRUCTURED-LOCATION;VALUE=URI;X-ADDRESS=Castro Valley Marketplace 3295 Castro Valley Boulevard Castro Valley CA 94546 United States;X-APPLE-RADIUS=500;X-TITLE=3295 Castro Valley Boulevard:geo:-122.078496,37.69557
END:VEVENT
BEGIN:VEVENT
DTSTART;TZID=America/Los_Angeles:20221014T203000
DTEND;TZID=America/Los_Angeles:20221014T220000
DTSTAMP:20260422T152455
CREATED:20221012T182752Z
LAST-MODIFIED:20221012T182752Z
UID:10000712-1665779400-1665784800@castrovalleymarketplace.com
SUMMARY:Night Owl Entertainment Presents: Duke James
DESCRIPTION:The Night Owl is excited to announce that Duke James will be performing on our mezzanine this upcoming Friday\, 10/14 from 8:30-1opm! Duke is a local singer\, songwriter and multi-instrumentalist\, and is not a show you want to miss. So mark your calendars\, invite a few friends\, grab a drink and enjoy live music here at the Night Owl.
URL:https://castrovalleymarketplace.com/calendar/night-owl-entertainment-presents-duke-james/
LOCATION:Castro Valley Marketplace\, 3295 Castro Valley Boulevard\, Castro Valley\, CA\, 94546\, United States
CATEGORIES:LAB 200,Live Music,Night Owl
ATTACH;FMTTYPE=image/jpeg:https://castrovalleymarketplace.com/wp-content/uploads/2022/10/Duke-James.jpg
GEO:37.69557;-122.078496
X-APPLE-STRUCTURED-LOCATION;VALUE=URI;X-ADDRESS=Castro Valley Marketplace 3295 Castro Valley Boulevard Castro Valley CA 94546 United States;X-APPLE-RADIUS=500;X-TITLE=3295 Castro Valley Boulevard:geo:-122.078496,37.69557
END:VEVENT
BEGIN:VEVENT
DTSTART;TZID=America/Los_Angeles:20221020T180000
DTEND;TZID=America/Los_Angeles:20221020T213000
DTSTAMP:20260422T152455
CREATED:20220921T160417Z
LAST-MODIFIED:20221011T181103Z
UID:10000709-1666288800-1666301400@castrovalleymarketplace.com
SUMMARY:A Night Owl Luau
DESCRIPTION:Join us for live performances\, delicious food and cocktails\, a whole pig roast\, giveaways\, and more!\n\n\nNight Owl is excited to present its first ever Luau! We welcome you to enjoy unlimited food and drink\, with a special focus on our handcrafted Tiki Cocktails and Copali Rum imported from Southern Belize. The evening will be filled with live music and performances\, giveaways\, a limbo contest\, a whole-pig roast\, and more!
URL:https://castrovalleymarketplace.com/calendar/a-night-owl-luau-2/
LOCATION:Night Owl\, 3295 Castro Valley Boulevard\, #Suite 204\, Castro Valley\, CA\, 94546\, United States
CATEGORIES:LAB 200,Night Owl,Pop Out Kitchen
ATTACH;FMTTYPE=image/jpeg:https://castrovalleymarketplace.com/wp-content/uploads/2022/09/b1ec69f5e122877dfbbd27573853c116.jpg
END:VEVENT
BEGIN:VEVENT
DTSTART;TZID=America/Los_Angeles:20221028T203000
DTEND;TZID=America/Los_Angeles:20221028T220000
DTSTAMP:20260422T152455
CREATED:20221028T033414Z
LAST-MODIFIED:20221028T033414Z
UID:10000715-1666989000-1666994400@castrovalleymarketplace.com
SUMMARY:Night Owl Entertainment Presents: Ross Hoyt + Ed Lloyd
DESCRIPTION:ROSS HOYT is an American multi–instrumentalist\, composer\, and improviser. Each of HOYT’s carefully curated releases showcases his unique approach to multi-instrumental improvisation and electro-acoustic composition\, featuring collaborations with and contributions from fellow SF Bay Area artists and beyond. We are very excited to be hosting both him and Ed Lloyd Friday\, October 28th\, from 8:30-10pm. Mark your calendars and make sure you come out and enjoy this show!
URL:https://castrovalleymarketplace.com/calendar/night-owl-entertainment-presents-ross-hoyt-ed-lloyd/
LOCATION:CA
CATEGORIES:LAB 200,Live Music,Night Owl
ATTACH;FMTTYPE=image/jpeg:https://castrovalleymarketplace.com/wp-content/uploads/2022/10/Hoyt-and-LLoyd-Press-Photo-small.jpg
END:VEVENT
BEGIN:VEVENT
DTSTART;TZID=America/Los_Angeles:20221104T203000
DTEND;TZID=America/Los_Angeles:20221104T223000
DTSTAMP:20260422T152455
CREATED:20221028T035500Z
LAST-MODIFIED:20221028T035517Z
UID:10000735-1667593800-1667601000@castrovalleymarketplace.com
SUMMARY:Night Owl Entertainment Presents: Marlo
DESCRIPTION:The Night Owl is so excited to host Marlo on the mezzanine\, Friday October 7th\, from 8:30-10:30pm! \nMarlo is a 14 year old local artist\, producer\, songwriter\, and multi-instrumentalist who will be sharing the stage with other talented musicians to perform an electrifying set! Her second performance on our mezzanine is guaranteed to be jam packed with all your favorites. \nYou can find her music on most music platforms under “Marlo.” Having recently released her debut EP “Macro Salad\,” she is a show you don’t want to miss.
URL:https://castrovalleymarketplace.com/calendar/night-owl-entertainment-presents-marlo-2/
LOCATION:Lab 200\, 3295 Castro Valley Blvd\, Suite 200\, Castro Valley\, 94546
CATEGORIES:LAB 200,Live Music,Night Owl
ATTACH;FMTTYPE=image/jpeg:https://castrovalleymarketplace.com/wp-content/uploads/2022/10/Marlo-image-pic-scaled.jpg
END:VEVENT
END:VCALENDAR