BEGIN:VCALENDAR
VERSION:2.0
PRODID:-//Castro Valley Marketplace - ECPv6.15.18//NONSGML v1.0//EN
CALSCALE:GREGORIAN
METHOD:PUBLISH
X-WR-CALNAME:Castro Valley Marketplace
X-ORIGINAL-URL:https://castrovalleymarketplace.com
X-WR-CALDESC:Events for Castro Valley Marketplace
REFRESH-INTERVAL;VALUE=DURATION:PT1H
X-Robots-Tag:noindex
X-PUBLISHED-TTL:PT1H
BEGIN:VTIMEZONE
TZID:America/Los_Angeles
BEGIN:DAYLIGHT
TZOFFSETFROM:-0800
TZOFFSETTO:-0700
TZNAME:PDT
DTSTART:20200308T100000
END:DAYLIGHT
BEGIN:STANDARD
TZOFFSETFROM:-0700
TZOFFSETTO:-0800
TZNAME:PST
DTSTART:20201101T090000
END:STANDARD
BEGIN:DAYLIGHT
TZOFFSETFROM:-0800
TZOFFSETTO:-0700
TZNAME:PDT
DTSTART:20210314T100000
END:DAYLIGHT
BEGIN:STANDARD
TZOFFSETFROM:-0700
TZOFFSETTO:-0800
TZNAME:PST
DTSTART:20211107T090000
END:STANDARD
BEGIN:DAYLIGHT
TZOFFSETFROM:-0800
TZOFFSETTO:-0700
TZNAME:PDT
DTSTART:20220313T100000
END:DAYLIGHT
BEGIN:STANDARD
TZOFFSETFROM:-0700
TZOFFSETTO:-0800
TZNAME:PST
DTSTART:20221106T090000
END:STANDARD
BEGIN:DAYLIGHT
TZOFFSETFROM:-0800
TZOFFSETTO:-0700
TZNAME:PDT
DTSTART:20230312T100000
END:DAYLIGHT
BEGIN:STANDARD
TZOFFSETFROM:-0700
TZOFFSETTO:-0800
TZNAME:PST
DTSTART:20231105T090000
END:STANDARD
END:VTIMEZONE
BEGIN:VEVENT
DTSTART;TZID=America/Los_Angeles:20220401T203000
DTEND;TZID=America/Los_Angeles:20220401T223000
DTSTAMP:20260421T035802
CREATED:20220330T000851Z
LAST-MODIFIED:20220330T000851Z
UID:10000687-1648845000-1648852200@castrovalleymarketplace.com
SUMMARY:Night Owl Music Series: Laura Weinbach and Anton Patzner
DESCRIPTION:The mezzanine at the Castro Valley Marketplace comes alive from 8:30 pm to 10:30 pm featuring Laura Weinbach and Anton Patzner on stage \nEnter through the west entry off the parking lot. \nA selection of cocktails and bar bites will be served by Night Owl. \n 
URL:https://castrovalleymarketplace.com/calendar/night-owl-music-series-laura-weinbach-and-anton-patzner/
LOCATION:Castro Valley Marketplace\, 3295 Castro Valley Boulevard\, Castro Valley\, CA\, 94546\, United States
CATEGORIES:Live Music,Night Owl
ATTACH;FMTTYPE=image/jpeg:https://castrovalleymarketplace.com/wp-content/uploads/2022/02/LauraAndAnton-BW.jpg
GEO:37.69557;-122.078496
X-APPLE-STRUCTURED-LOCATION;VALUE=URI;X-ADDRESS=Castro Valley Marketplace 3295 Castro Valley Boulevard Castro Valley CA 94546 United States;X-APPLE-RADIUS=500;X-TITLE=3295 Castro Valley Boulevard:geo:-122.078496,37.69557
END:VEVENT
BEGIN:VEVENT
DTSTART;TZID=America/Los_Angeles:20220330T200000
DTEND;TZID=America/Los_Angeles:20220330T220000
DTSTAMP:20260421T035802
CREATED:20220318T003558Z
LAST-MODIFIED:20220318T003558Z
UID:10000662-1648670400-1648677600@castrovalleymarketplace.com
SUMMARY:Night Owl Music Series: Bob Enos Legacy Big Band
DESCRIPTION:The mezzanine at the Castro Valley Marketplace comes alive from 8:00 pm to 10:00 pm featuring Bob Enos Legacy Big Band on stage \nEnter through the west entry off the parking lot. \nA selection of cocktails and bar bites will be served by Night Owl. \n 
URL:https://castrovalleymarketplace.com/calendar/night-owl-music-series-bob-enos-legacy-big-band/2022-03-30/
LOCATION:Castro Valley Marketplace\, 3295 Castro Valley Boulevard\, Castro Valley\, CA\, 94546\, United States
CATEGORIES:Live Music,Night Owl
ATTACH;FMTTYPE=image/jpeg:https://castrovalleymarketplace.com/wp-content/uploads/2022/02/photo_2022-03-17_11-10-22.jpg
GEO:37.69557;-122.078496
X-APPLE-STRUCTURED-LOCATION;VALUE=URI;X-ADDRESS=Castro Valley Marketplace 3295 Castro Valley Boulevard Castro Valley CA 94546 United States;X-APPLE-RADIUS=500;X-TITLE=3295 Castro Valley Boulevard:geo:-122.078496,37.69557
END:VEVENT
BEGIN:VEVENT
DTSTART;TZID=America/Los_Angeles:20220326T200000
DTEND;TZID=America/Los_Angeles:20220326T220000
DTSTAMP:20260421T035802
CREATED:20220222T213424Z
LAST-MODIFIED:20220225T180724Z
UID:10000518-1648324800-1648332000@castrovalleymarketplace.com
SUMMARY:Night Owl Music Series: Simon Russell and Bill Ortiz
DESCRIPTION:The mezzanine at the Castro Valley Marketplace comes alive from 8:00 pm to 10:00 pm featuring Simon Russell and Bill Ortiz on stage \nLocal soul jazz\, great Simon Russell\, joins multiple Grammy winner\, Bill Ortiz\, for a night of deep grooves. \nEnter through the west entry off the parking lot. \nA selection of cocktails and bar bites will be served by Night Owl. \n 
URL:https://castrovalleymarketplace.com/calendar/night-owl-music-series-simon-russell-and-bill-ortiz/
LOCATION:Castro Valley Marketplace\, 3295 Castro Valley Boulevard\, Castro Valley\, CA\, 94546\, United States
CATEGORIES:Live Music,Night Owl
ATTACH;FMTTYPE=image/jpeg:https://castrovalleymarketplace.com/wp-content/uploads/2022/02/BillOrtizSimonRussell.jpg
GEO:37.69557;-122.078496
X-APPLE-STRUCTURED-LOCATION;VALUE=URI;X-ADDRESS=Castro Valley Marketplace 3295 Castro Valley Boulevard Castro Valley CA 94546 United States;X-APPLE-RADIUS=500;X-TITLE=3295 Castro Valley Boulevard:geo:-122.078496,37.69557
END:VEVENT
BEGIN:VEVENT
DTSTART;TZID=America/Los_Angeles:20220325T200000
DTEND;TZID=America/Los_Angeles:20220325T220000
DTSTAMP:20260421T035802
CREATED:20220222T213309Z
LAST-MODIFIED:20220225T180755Z
UID:10000500-1648238400-1648245600@castrovalleymarketplace.com
SUMMARY:Night Owl Music Series: Joe Warner (Piano Solo)
DESCRIPTION:The mezzanine at the Castro Valley Marketplace comes alive from 8:00 pm to 10:00 pm featuring Joe Warner on stage \nFrom heart stopping boogie-woogie to luscious melodies\, solo pianist\, Joe Warner\, lays down a heady brew. \nEnter through the west entry off the parking lot. \nA selection of cocktails and bar bites will be served by Night Owl.
URL:https://castrovalleymarketplace.com/calendar/night-owl-music-series-joe-warner-piano-solo/
LOCATION:Castro Valley Marketplace\, 3295 Castro Valley Boulevard\, Castro Valley\, CA\, 94546\, United States
CATEGORIES:Live Music,Night Owl
ATTACH;FMTTYPE=image/jpeg:https://castrovalleymarketplace.com/wp-content/uploads/2022/02/JoeWarnerat-SF-BW.jpg
GEO:37.69557;-122.078496
X-APPLE-STRUCTURED-LOCATION;VALUE=URI;X-ADDRESS=Castro Valley Marketplace 3295 Castro Valley Boulevard Castro Valley CA 94546 United States;X-APPLE-RADIUS=500;X-TITLE=3295 Castro Valley Boulevard:geo:-122.078496,37.69557
END:VEVENT
BEGIN:VEVENT
DTSTART;TZID=America/Los_Angeles:20220318T200000
DTEND;TZID=America/Los_Angeles:20220318T220000
DTSTAMP:20260421T035802
CREATED:20220222T213217Z
LAST-MODIFIED:20220225T180811Z
UID:10000498-1647633600-1647640800@castrovalleymarketplace.com
SUMMARY:Night Owl Music Series: Chris Siebert and Bill Ortiz
DESCRIPTION:The mezzanine at the Castro Valley Marketplace comes alive from 8:00 pm to 10:00 pm featuring Chris Siebert and Bill Ortiz on stage \nLocal legends\, Chris Siebert and Bill Ortiz\, create a cool\, inviting atmosphere with their tasty collection of Jazzy classics. \nEnter through the west entry off the parking lot. \nA selection of cocktails and bar bites will be served by Night Owl.
URL:https://castrovalleymarketplace.com/calendar/night-owl-music-series-chris-siebert-and-bill-ortiz/
LOCATION:Castro Valley Marketplace\, 3295 Castro Valley Boulevard\, Castro Valley\, CA\, 94546\, United States
CATEGORIES:Live Music,Night Owl
ATTACH;FMTTYPE=image/jpeg:https://castrovalleymarketplace.com/wp-content/uploads/2022/02/BillOrtizChrisSiebert.jpg
GEO:37.69557;-122.078496
X-APPLE-STRUCTURED-LOCATION;VALUE=URI;X-ADDRESS=Castro Valley Marketplace 3295 Castro Valley Boulevard Castro Valley CA 94546 United States;X-APPLE-RADIUS=500;X-TITLE=3295 Castro Valley Boulevard:geo:-122.078496,37.69557
END:VEVENT
BEGIN:VEVENT
DTSTART;TZID=America/Los_Angeles:20220312T200000
DTEND;TZID=America/Los_Angeles:20220312T220000
DTSTAMP:20260421T035802
CREATED:20220222T213050Z
LAST-MODIFIED:20220225T180835Z
UID:10000482-1647115200-1647122400@castrovalleymarketplace.com
SUMMARY:Night Owl Music Series: Jonathan Alford (Piano Solo)
DESCRIPTION:The mezzanine at the Castro Valley Marketplace comes alive from 8:00 pm to 10:00 pm featuring Jonathan Alford on stage \nSolo pianist\, Jonathan Alford\, offers an eclectic style ranging from Jazz to Latin to Classical\, all played in his own unique way. \nEnter through the west entry off the parking lot. \nA selection of cocktails and bar bites will be served by Night Owl.
URL:https://castrovalleymarketplace.com/calendar/night-owl-music-series-jonathan-alford-piano-solo/
LOCATION:Castro Valley Marketplace\, 3295 Castro Valley Boulevard\, Castro Valley\, CA\, 94546\, United States
CATEGORIES:Live Music,Night Owl
ATTACH;FMTTYPE=image/jpeg:https://castrovalleymarketplace.com/wp-content/uploads/2022/02/JonathanAlford-10-29-10-30.jpg
GEO:37.69557;-122.078496
X-APPLE-STRUCTURED-LOCATION;VALUE=URI;X-ADDRESS=Castro Valley Marketplace 3295 Castro Valley Boulevard Castro Valley CA 94546 United States;X-APPLE-RADIUS=500;X-TITLE=3295 Castro Valley Boulevard:geo:-122.078496,37.69557
END:VEVENT
BEGIN:VEVENT
DTSTART;TZID=America/Los_Angeles:20220311T200000
DTEND;TZID=America/Los_Angeles:20220311T220000
DTSTAMP:20260421T035802
CREATED:20220222T212931Z
LAST-MODIFIED:20220225T180910Z
UID:10000479-1647028800-1647036000@castrovalleymarketplace.com
SUMMARY:Night Owl Music Series: Macro Diaz and Saul Sierra
DESCRIPTION:The mezzanine at the Castro Valley Marketplace comes alive from 8:00 pm to 10:00 pm featuring Macro Diaz and Saul Sierra on stage \nMarco Diaz and Saul Sierra bring their joyous mix of Latin flavors to the American songbook. \nEnter through the west entry off the parking lot. \nA selection of cocktails and bar bites will be served by Night Owl.
URL:https://castrovalleymarketplace.com/calendar/night-owl-music-series-macro-diaz-and-saul-sierra/
LOCATION:Castro Valley Marketplace\, 3295 Castro Valley Boulevard\, Castro Valley\, CA\, 94546\, United States
CATEGORIES:Live Music,Night Owl
ATTACH;FMTTYPE=image/jpeg:https://castrovalleymarketplace.com/wp-content/uploads/2021/09/marcodiaz-10-23.jpeg
GEO:37.69557;-122.078496
X-APPLE-STRUCTURED-LOCATION;VALUE=URI;X-ADDRESS=Castro Valley Marketplace 3295 Castro Valley Boulevard Castro Valley CA 94546 United States;X-APPLE-RADIUS=500;X-TITLE=3295 Castro Valley Boulevard:geo:-122.078496,37.69557
END:VEVENT
BEGIN:VEVENT
DTSTART;TZID=America/Los_Angeles:20220304T200000
DTEND;TZID=America/Los_Angeles:20220304T220000
DTSTAMP:20260421T035802
CREATED:20220222T212607Z
LAST-MODIFIED:20220225T180922Z
UID:10000477-1646424000-1646431200@castrovalleymarketplace.com
SUMMARY:Night Owl Music Series: Joe Warner and Joel Behrman
DESCRIPTION:The mezzanine at the Castro Valley Marketplace comes alive from 8:00 pm to 10:00 pm featuring Joe Warner and Joel Behrman on stage \nJoe Warner’s virtuoso piano playing is complimented nicely by expressive jazz trumpeter\, Joel Behrman. \nEnter through the west entry off the parking lot. \nA selection of cocktails and bar bites will be served by Night Owl.
URL:https://castrovalleymarketplace.com/calendar/night-owl-music-series-joe-warner-and-joel-behrman-2/
LOCATION:Castro Valley Marketplace\, 3295 Castro Valley Boulevard\, Castro Valley\, CA\, 94546\, United States
CATEGORIES:Live Music,Night Owl
ATTACH;FMTTYPE=image/jpeg:https://castrovalleymarketplace.com/wp-content/uploads/2022/02/JoelBehrmanJoeWarner.jpg
GEO:37.69557;-122.078496
X-APPLE-STRUCTURED-LOCATION;VALUE=URI;X-ADDRESS=Castro Valley Marketplace 3295 Castro Valley Boulevard Castro Valley CA 94546 United States;X-APPLE-RADIUS=500;X-TITLE=3295 Castro Valley Boulevard:geo:-122.078496,37.69557
END:VEVENT
BEGIN:VEVENT
DTSTART;TZID=America/Los_Angeles:20220304T180000
DTEND;TZID=America/Los_Angeles:20220304T200000
DTSTAMP:20260421T035802
CREATED:20220210T221048Z
LAST-MODIFIED:20220210T221048Z
UID:10000659-1646416800-1646424000@castrovalleymarketplace.com
SUMMARY:Craft Cocktail Class Series: Mixology 101 Bartending Basics
DESCRIPTION:Night Owl Castro Valley presents our craft cocktail series: Our first class will be an intro to bartending and craft cocktails.\n\nFri\, 4 March 2022\n18:00 – 20:00 PST \n\n\n\n\n\n\nAbout this event\n\n\nDuring our classes\, students will learn classic craft cocktails\, basic use of bar tools\, techniques and product knowledge of spirits. \nNo need to bring anything\, we will provide you with everything you need and the experience to wow all your friends and family. This class is great for team building\, couples and individuals who are interested in this craft!
URL:https://castrovalleymarketplace.com/calendar/craft-cocktail-class-series-mixology-101-bartending-basics/
LOCATION:Night Owl\, #204\, 3295 Castro Valley Boulevard\, Suite 204\, Castro Valley\, 94546
CATEGORIES:Marketplace Events,Night Owl
ATTACH;FMTTYPE=image/png:https://castrovalleymarketplace.com/wp-content/uploads/2022/02/85032C29-07F3-40E5-B56C-5EB1524FCFC0-1.png
END:VEVENT
BEGIN:VEVENT
DTSTART;TZID=America/Los_Angeles:20220226T210000
DTEND;TZID=America/Los_Angeles:20220226T230000
DTSTAMP:20260421T035802
CREATED:20220201T192521Z
LAST-MODIFIED:20220201T192521Z
UID:10000722-1645909200-1645916400@castrovalleymarketplace.com
SUMMARY:Night Owl Music Series: Log Rhythm with Guest\, Bill Ortiz electrified
DESCRIPTION:The mezzanine at the Castro Valley Marketplace comes alive from 9:00 pm to 11:00 pm featuring Log Rhythm with Guest\, Bill Ortiz electrified on stage \nBill Ortiz was the lead trumpet player for Santana… a chair he has held for over twelve years In addition to his world travels\, Las Vegas showcases and arena gigs with Carlos’ crew\, Ortiz’s sweet\, assertive trumpet attack has made him one of the most in-demand players on the San Francisco Bay Area music scene. \nEnter through the west entry off the parking lot. \nA selection of cocktails and food will be served by Night Owl and Oculto \n  \n 
URL:https://castrovalleymarketplace.com/calendar/night-owl-music-series-log-rhythm-with-guest-bill-ortiz-electrified-2/
LOCATION:Castro Valley Marketplace\, 3295 Castro Valley Boulevard\, Castro Valley\, CA\, 94546\, United States
CATEGORIES:Live Music,Night Owl
ATTACH;FMTTYPE=image/jpeg:https://castrovalleymarketplace.com/wp-content/uploads/2022/04/Log-Rhythm-Bill-Ortiz-BW.jpg
GEO:37.69557;-122.078496
X-APPLE-STRUCTURED-LOCATION;VALUE=URI;X-ADDRESS=Castro Valley Marketplace 3295 Castro Valley Boulevard Castro Valley CA 94546 United States;X-APPLE-RADIUS=500;X-TITLE=3295 Castro Valley Boulevard:geo:-122.078496,37.69557
END:VEVENT
BEGIN:VEVENT
DTSTART;TZID=America/Los_Angeles:20220225T210000
DTEND;TZID=America/Los_Angeles:20220225T230000
DTSTAMP:20260421T035802
CREATED:20220201T192404Z
LAST-MODIFIED:20220201T192553Z
UID:10000721-1645822800-1645830000@castrovalleymarketplace.com
SUMMARY:Night Owl Music Series: Jonathan Alford\, David Pinto and Omar Ledezma Jr.
DESCRIPTION:The mezzanine at the Castro Valley Marketplace comes alive from 9:00 pm to 11:00 pm featuring Jonathan Alford\, David Pinto and Omar Ledezma Jr.on stage \nEnter through the west entry off the parking lot. \nA selection of cocktails and food will be served by Night Owl and Oculto \n  \n 
URL:https://castrovalleymarketplace.com/calendar/night-owl-music-series-jonathan-alford-david-pinto-and-omar-ledezma-jr/
LOCATION:Castro Valley Marketplace\, 3295 Castro Valley Boulevard\, Castro Valley\, CA\, 94546\, United States
CATEGORIES:Live Music,Night Owl
ATTACH;FMTTYPE=image/jpeg:https://castrovalleymarketplace.com/wp-content/uploads/2022/02/JonathanAlfordOmarLedezmaDavidPinto.jpg
GEO:37.69557;-122.078496
X-APPLE-STRUCTURED-LOCATION;VALUE=URI;X-ADDRESS=Castro Valley Marketplace 3295 Castro Valley Boulevard Castro Valley CA 94546 United States;X-APPLE-RADIUS=500;X-TITLE=3295 Castro Valley Boulevard:geo:-122.078496,37.69557
END:VEVENT
BEGIN:VEVENT
DTSTART;TZID=America/Los_Angeles:20220218T210000
DTEND;TZID=America/Los_Angeles:20220218T230000
DTSTAMP:20260421T035802
CREATED:20220202T021453Z
LAST-MODIFIED:20220202T021453Z
UID:10000743-1645218000-1645225200@castrovalleymarketplace.com
SUMMARY:Night Owl Music Series: Joe Warner and Andrew Speight
DESCRIPTION:The mezzanine at the Castro Valley Marketplace comes alive from 9:00 pm to 11:00 pm featuring Joe Warner and Andrew Speight on stage \nJoe returns to the marketplace on the 18th hard driving straight ahead saxophonist Andrew Speight \nEnter through the west entry off the parking lot. \nA selection of cocktails and food will be served by Night Owl and Oculto \n  \n 
URL:https://castrovalleymarketplace.com/calendar/night-owl-music-series-joe-warner-and-andrew-speight/
LOCATION:Castro Valley Marketplace\, 3295 Castro Valley Boulevard\, Castro Valley\, CA\, 94546\, United States
CATEGORIES:Live Music,Night Owl
ATTACH;FMTTYPE=image/jpeg:https://castrovalleymarketplace.com/wp-content/uploads/2022/02/AndrewSpeightJoeWarner.jpg
GEO:37.69557;-122.078496
X-APPLE-STRUCTURED-LOCATION;VALUE=URI;X-ADDRESS=Castro Valley Marketplace 3295 Castro Valley Boulevard Castro Valley CA 94546 United States;X-APPLE-RADIUS=500;X-TITLE=3295 Castro Valley Boulevard:geo:-122.078496,37.69557
END:VEVENT
BEGIN:VEVENT
DTSTART;TZID=America/Los_Angeles:20220214T200000
DTEND;TZID=America/Los_Angeles:20220214T220000
DTSTAMP:20260421T035802
CREATED:20220201T192152Z
LAST-MODIFIED:20220201T193713Z
UID:10000720-1644868800-1644876000@castrovalleymarketplace.com
SUMMARY:Night Owl Music Series: Marco Diaz and Saul Sierra
DESCRIPTION:The mezzanine at the Castro Valley Marketplace comes alive featuring Marco Diaz and Saul Sierra on stage \nMarco and Saul bring a lively Latin Jazz flavor to round out the extended Valentine’s weekend\, Sunday and Monday from 8:00 pm to 10:00 pm \nEnter through the west entry off the parking lot. \nA selection of cocktails and food will be served by Night Owl and Oculto
URL:https://castrovalleymarketplace.com/calendar/night-owl-music-series-marco-diaz-and-saul-sierra-5/
LOCATION:Castro Valley Marketplace\, 3295 Castro Valley Boulevard\, Castro Valley\, CA\, 94546\, United States
CATEGORIES:Live Music,Night Owl
ATTACH;FMTTYPE=image/jpeg:https://castrovalleymarketplace.com/wp-content/uploads/2021/09/marcodiaz-10-23.jpeg
GEO:37.69557;-122.078496
X-APPLE-STRUCTURED-LOCATION;VALUE=URI;X-ADDRESS=Castro Valley Marketplace 3295 Castro Valley Boulevard Castro Valley CA 94546 United States;X-APPLE-RADIUS=500;X-TITLE=3295 Castro Valley Boulevard:geo:-122.078496,37.69557
END:VEVENT
BEGIN:VEVENT
DTSTART;TZID=America/Los_Angeles:20220213T200000
DTEND;TZID=America/Los_Angeles:20220213T220000
DTSTAMP:20260421T035802
CREATED:20220201T192137Z
LAST-MODIFIED:20220201T193757Z
UID:10000719-1644782400-1644789600@castrovalleymarketplace.com
SUMMARY:Night Owl Music Series: Marco Diaz and Saul Sierra
DESCRIPTION:The mezzanine at the Castro Valley Marketplace comes alive featuring Marco Diaz and Saul Sierra on stage \nMarco and Saul bring a lively Latin Jazz flavor to round out the extended Valentine’s weekend\, Sunday and Monday from 8:00 pm to 10:00 pm \nEnter through the west entry off the parking lot. \nA selection of cocktails and food will be served by Night Owl and Oculto
URL:https://castrovalleymarketplace.com/calendar/night-owl-music-series-marco-diaz-and-saul-sierra-4/
LOCATION:Castro Valley Marketplace\, 3295 Castro Valley Boulevard\, Castro Valley\, CA\, 94546\, United States
CATEGORIES:Live Music,Night Owl
ATTACH;FMTTYPE=image/jpeg:https://castrovalleymarketplace.com/wp-content/uploads/2021/09/marcodiaz-10-23.jpeg
GEO:37.69557;-122.078496
X-APPLE-STRUCTURED-LOCATION;VALUE=URI;X-ADDRESS=Castro Valley Marketplace 3295 Castro Valley Boulevard Castro Valley CA 94546 United States;X-APPLE-RADIUS=500;X-TITLE=3295 Castro Valley Boulevard:geo:-122.078496,37.69557
END:VEVENT
BEGIN:VEVENT
DTSTART;TZID=America/Los_Angeles:20220212T210000
DTEND;TZID=America/Los_Angeles:20220212T230000
DTSTAMP:20260421T035802
CREATED:20220201T192042Z
LAST-MODIFIED:20220201T193834Z
UID:10000718-1644699600-1644706800@castrovalleymarketplace.com
SUMMARY:Night Owl Music Series: Laura and Anton
DESCRIPTION:The mezzanine at the Castro Valley Marketplace comes alive from 9:00 pm to 11:00 pm featuring Laura and Anton on stage \nThe romantic mood will be set with Laura and Anton. Laura sings classic love songs (many in French) while playing acoustic guitar and is accompanied by her husband\, pianist and master violinist\, Anton \nEnter through the west entry off the parking lot. \nA selection of cocktails and food will be served by Night Owl and Oculto
URL:https://castrovalleymarketplace.com/calendar/night-owl-music-series-laura-and-anton-2/
LOCATION:Castro Valley Marketplace\, 3295 Castro Valley Boulevard\, Castro Valley\, CA\, 94546\, United States
CATEGORIES:Live Music,Night Owl
ATTACH;FMTTYPE=image/jpeg:https://castrovalleymarketplace.com/wp-content/uploads/2022/02/LauraAndAnton-BW.jpg
GEO:37.69557;-122.078496
X-APPLE-STRUCTURED-LOCATION;VALUE=URI;X-ADDRESS=Castro Valley Marketplace 3295 Castro Valley Boulevard Castro Valley CA 94546 United States;X-APPLE-RADIUS=500;X-TITLE=3295 Castro Valley Boulevard:geo:-122.078496,37.69557
END:VEVENT
BEGIN:VEVENT
DTSTART;TZID=America/Los_Angeles:20220212T120000
DTEND;TZID=America/Los_Angeles:20220212T170000
DTSTAMP:20260421T035802
CREATED:20220210T221938Z
LAST-MODIFIED:20220211T214410Z
UID:10000471-1644667200-1644685200@castrovalleymarketplace.com
SUMMARY:Delicious Cocktails & Tacos on the Paseo by Night Owl & Oculto
DESCRIPTION:SATURDAY 2/12 starting at 12 PM!
URL:https://castrovalleymarketplace.com/calendar/delicious-cocktails-tacos-on-the-paseo-by-night-owl-oculto/
LOCATION:Castro Valley Marketplace\, 3295 Castro Valley Boulevard\, Castro Valley\, CA\, 94546\, United States
CATEGORIES:Marketplace Events,Night Owl,Paseo Events
ATTACH;FMTTYPE=image/jpeg:https://castrovalleymarketplace.com/wp-content/uploads/2022/02/Image-11.jpeg
GEO:37.69557;-122.078496
X-APPLE-STRUCTURED-LOCATION;VALUE=URI;X-ADDRESS=Castro Valley Marketplace 3295 Castro Valley Boulevard Castro Valley CA 94546 United States;X-APPLE-RADIUS=500;X-TITLE=3295 Castro Valley Boulevard:geo:-122.078496,37.69557
END:VEVENT
BEGIN:VEVENT
DTSTART;TZID=America/Los_Angeles:20220211T210000
DTEND;TZID=America/Los_Angeles:20220211T230000
DTSTAMP:20260421T035802
CREATED:20220201T192025Z
LAST-MODIFIED:20220201T193909Z
UID:10000717-1644613200-1644620400@castrovalleymarketplace.com
SUMMARY:Night Owl Music Series: Laura and Anton
DESCRIPTION:The mezzanine at the Castro Valley Marketplace comes alive from 9:00 pm to 11:00 pm featuring Laura and Anton on stage \nThe romantic mood will be set with Laura and Anton. Laura sings classic love songs (many in French) while playing acoustic guitar and is accompanied by her husband\, pianist and master violinist\, Anton \nEnter through the west entry off the parking lot. \nA selection of cocktails and food will be served by Night Owl and Oculto
URL:https://castrovalleymarketplace.com/calendar/night-owl-music-series-laura-and-anton/
LOCATION:Castro Valley Marketplace\, 3295 Castro Valley Boulevard\, Castro Valley\, CA\, 94546\, United States
CATEGORIES:Live Music,Night Owl
ATTACH;FMTTYPE=image/jpeg:https://castrovalleymarketplace.com/wp-content/uploads/2022/02/LauraAndAnton-BW.jpg
GEO:37.69557;-122.078496
X-APPLE-STRUCTURED-LOCATION;VALUE=URI;X-ADDRESS=Castro Valley Marketplace 3295 Castro Valley Boulevard Castro Valley CA 94546 United States;X-APPLE-RADIUS=500;X-TITLE=3295 Castro Valley Boulevard:geo:-122.078496,37.69557
END:VEVENT
BEGIN:VEVENT
DTSTART;TZID=America/Los_Angeles:20220205T210000
DTEND;TZID=America/Los_Angeles:20220205T230000
DTSTAMP:20260421T035802
CREATED:20220201T191946Z
LAST-MODIFIED:20220201T191946Z
UID:10000655-1644094800-1644102000@castrovalleymarketplace.com
SUMMARY:Night Owl Music Series: Bill Ortiz and Matt Clark
DESCRIPTION:The mezzanine at the Castro Valley Marketplace comes alive from 9:00 pm to 11:00 pm featuring Bill Ortiz and Matt Clark on stage \nBill\, a world class player with multiple Grammys\, is paired with Matt Clark who evolved from a child prodigy into a pillar of the San Francisco jazz scene. \nEnter through the west entry off the parking lot. \nA selection of cocktails and food will be served by Night Owl and Oculto
URL:https://castrovalleymarketplace.com/calendar/night-owl-music-series-bill-ortiz-and-matt-clark/
LOCATION:Castro Valley Marketplace\, 3295 Castro Valley Boulevard\, Castro Valley\, CA\, 94546\, United States
CATEGORIES:Live Music,Night Owl
ATTACH;FMTTYPE=image/jpeg:https://castrovalleymarketplace.com/wp-content/uploads/2022/02/BillOrtizMattClark.jpg
GEO:37.69557;-122.078496
X-APPLE-STRUCTURED-LOCATION;VALUE=URI;X-ADDRESS=Castro Valley Marketplace 3295 Castro Valley Boulevard Castro Valley CA 94546 United States;X-APPLE-RADIUS=500;X-TITLE=3295 Castro Valley Boulevard:geo:-122.078496,37.69557
END:VEVENT
BEGIN:VEVENT
DTSTART;TZID=America/Los_Angeles:20220204T210000
DTEND;TZID=America/Los_Angeles:20220204T230000
DTSTAMP:20260421T035802
CREATED:20220202T021538Z
LAST-MODIFIED:20220202T021538Z
UID:10000746-1644008400-1644015600@castrovalleymarketplace.com
SUMMARY:Night Owl Music Series: Joe Warner and Joel Behrman
DESCRIPTION:The mezzanine at the Castro Valley Marketplace comes alive from 9:00 pm to 11:00 pm featuring Joe Warner and Joel Behrman on stage \nJoe is one of the brightest young talents in the bay area and will be joined by in-demand trumpeter\, Joel Behrman. \nEnter through the west entry off the parking lot. \nA selection of cocktails and food will be served by Night Owl and Oculto \n  \n 
URL:https://castrovalleymarketplace.com/calendar/night-owl-music-series-joe-warner-and-joel-behrman/
LOCATION:Castro Valley Marketplace\, 3295 Castro Valley Boulevard\, Castro Valley\, CA\, 94546\, United States
CATEGORIES:Live Music,Night Owl
ATTACH;FMTTYPE=image/jpeg:https://castrovalleymarketplace.com/wp-content/uploads/2022/02/JoelBehrmanJoeWarner.jpg
GEO:37.69557;-122.078496
X-APPLE-STRUCTURED-LOCATION;VALUE=URI;X-ADDRESS=Castro Valley Marketplace 3295 Castro Valley Boulevard Castro Valley CA 94546 United States;X-APPLE-RADIUS=500;X-TITLE=3295 Castro Valley Boulevard:geo:-122.078496,37.69557
END:VEVENT
BEGIN:VEVENT
DTSTART;TZID=America/Los_Angeles:20210505T170000
DTEND;TZID=America/Los_Angeles:20210505T190000
DTSTAMP:20260421T035802
CREATED:20210503T174950Z
LAST-MODIFIED:20210503T174950Z
UID:10000097-1620234000-1620241200@castrovalleymarketplace.com
SUMMARY:Cinco de Mayo: Taco Time
DESCRIPTION:Celebrate Cinco de Mayo!\n\nThe Cannery Kitchen & Tap will be serving up a custom set of soft tacos with your choice of Duroc Pork Carnitas\, Pollos Verdes\, Angus Beef Barbacoa\, and a VEGGIE option with squash\, peppers\, and onions as a substitute.\n\nThe Cannery Kitchen & Tap will be hosting this special taco event upstairs at the Night Owl space\, #204.\n\nOrder now at www.castrovalleytoday.com
URL:https://castrovalleymarketplace.com/calendar/cinco-de-mayo-taco-time/
LOCATION:Night Owl\, #204\, 3295 Castro Valley Boulevard\, Suite 204\, Castro Valley\, 94546
CATEGORIES:Cannery Kitchen & Tap,Night Owl
ATTACH;FMTTYPE=image/jpeg:https://castrovalleymarketplace.com/wp-content/uploads/2021/05/Cinco-de-Mayo-Menu-and-Banner-Cannery-Kitchen-and-Tap-IG-CVT-5-3-21-05.jpg
ORGANIZER;CN="Cannery Kitchen & Tap":MAILTO:info@cannerykitchenandtap.com
END:VEVENT
END:VCALENDAR