BEGIN:VCALENDAR
VERSION:2.0
PRODID:-//Castro Valley Marketplace - ECPv6.15.18//NONSGML v1.0//EN
CALSCALE:GREGORIAN
METHOD:PUBLISH
X-WR-CALNAME:Castro Valley Marketplace
X-ORIGINAL-URL:https://castrovalleymarketplace.com
X-WR-CALDESC:Events for Castro Valley Marketplace
REFRESH-INTERVAL;VALUE=DURATION:PT1H
X-Robots-Tag:noindex
X-PUBLISHED-TTL:PT1H
BEGIN:VTIMEZONE
TZID:America/Los_Angeles
BEGIN:DAYLIGHT
TZOFFSETFROM:-0800
TZOFFSETTO:-0700
TZNAME:PDT
DTSTART:20230312T100000
END:DAYLIGHT
BEGIN:STANDARD
TZOFFSETFROM:-0700
TZOFFSETTO:-0800
TZNAME:PST
DTSTART:20231105T090000
END:STANDARD
BEGIN:DAYLIGHT
TZOFFSETFROM:-0800
TZOFFSETTO:-0700
TZNAME:PDT
DTSTART:20240310T100000
END:DAYLIGHT
BEGIN:STANDARD
TZOFFSETFROM:-0700
TZOFFSETTO:-0800
TZNAME:PST
DTSTART:20241103T090000
END:STANDARD
BEGIN:DAYLIGHT
TZOFFSETFROM:-0800
TZOFFSETTO:-0700
TZNAME:PDT
DTSTART:20250309T100000
END:DAYLIGHT
BEGIN:STANDARD
TZOFFSETFROM:-0700
TZOFFSETTO:-0800
TZNAME:PST
DTSTART:20251102T090000
END:STANDARD
END:VTIMEZONE
BEGIN:VEVENT
DTSTART;TZID=America/Los_Angeles:20240207T193000
DTEND;TZID=America/Los_Angeles:20240207T230000
DTSTAMP:20260421T234958
CREATED:20240123T224249Z
LAST-MODIFIED:20240123T224249Z
UID:10000928-1707334200-1707346800@castrovalleymarketplace.com
SUMMARY:The LAB: Featuring Black Excellence Band
DESCRIPTION:Join us for a special evening with our first public LAB event. \nThe Lab is Smalltown Society’s monthly gathering that allows songwriters and poets to workshop and collaborate on new and existing pieces through connection\, collaboration and brief performances\, in front of and among friends. \nThis month we invite you all! Come spend the evening with a performance from Black Excellence Band and then hear from local artists in the community as they share pieces they’re working on. \nCome be a part of the creative process happening in the Eden Area! \n$10 suggested donation. \nTo sign up and share please email info@smalltownsociety.com
URL:https://castrovalleymarketplace.com/calendar/the-lab-featuring-black-excellence-band/
LOCATION:The Cellar\, 3295 Castro Valley Blvd.\, Castro Valley\, 94546\, United States
CATEGORIES:Live Music,Marketplace Events,Smalltown Society,The Cellar
ATTACH;FMTTYPE=image/jpeg:https://castrovalleymarketplace.com/wp-content/uploads/2024/01/blk-excel-lab-header.jpg
END:VEVENT
END:VCALENDAR