BEGIN:VCALENDAR
VERSION:2.0
PRODID:-//Castro Valley Marketplace - ECPv6.15.18//NONSGML v1.0//EN
CALSCALE:GREGORIAN
METHOD:PUBLISH
X-ORIGINAL-URL:https://castrovalleymarketplace.com
X-WR-CALDESC:Events for Castro Valley Marketplace
REFRESH-INTERVAL;VALUE=DURATION:PT1H
X-Robots-Tag:noindex
X-PUBLISHED-TTL:PT1H
BEGIN:VTIMEZONE
TZID:America/Los_Angeles
BEGIN:DAYLIGHT
TZOFFSETFROM:-0800
TZOFFSETTO:-0700
TZNAME:PDT
DTSTART:20210314T100000
END:DAYLIGHT
BEGIN:STANDARD
TZOFFSETFROM:-0700
TZOFFSETTO:-0800
TZNAME:PST
DTSTART:20211107T090000
END:STANDARD
BEGIN:DAYLIGHT
TZOFFSETFROM:-0800
TZOFFSETTO:-0700
TZNAME:PDT
DTSTART:20220313T100000
END:DAYLIGHT
BEGIN:STANDARD
TZOFFSETFROM:-0700
TZOFFSETTO:-0800
TZNAME:PST
DTSTART:20221106T090000
END:STANDARD
BEGIN:DAYLIGHT
TZOFFSETFROM:-0800
TZOFFSETTO:-0700
TZNAME:PDT
DTSTART:20230312T100000
END:DAYLIGHT
BEGIN:STANDARD
TZOFFSETFROM:-0700
TZOFFSETTO:-0800
TZNAME:PST
DTSTART:20231105T090000
END:STANDARD
END:VTIMEZONE
BEGIN:VEVENT
DTSTART;TZID=America/Los_Angeles:20220303T180000
DTEND;TZID=America/Los_Angeles:20220303T200000
DTSTAMP:20260423T094017
CREATED:20220125T204728Z
LAST-MODIFIED:20220201T190556Z
UID:10000651-1646330400-1646337600@castrovalleymarketplace.com
SUMMARY:Cordial Cellar Music series: Jazz Duo by Victor & Evan
DESCRIPTION:Victor & Evan Jazz Duo at Cordial Cellar + Lounge from 6 pm to 8 pm.
URL:https://castrovalleymarketplace.com/calendar/cordial-cellar-music-series-jazz-duo-by-victor-evan-2022-02-03/2022-03-03/
LOCATION:Cordial Cellar + Lounge\, 3295 Castro Valley Boulevard\, Suite B100\, Castro Valley\, CA\, 94546\, United States
CATEGORIES:Cordial Cellar + Lounge,Live Music
ATTACH;FMTTYPE=image/jpeg:https://castrovalleymarketplace.com/wp-content/uploads/2022/01/Jazz-Duo-Victor-Evan.jpg
ORGANIZER;CN="Cordial Cellar + Lounge":MAILTO:cheers@cordialbottleshop.com
END:VEVENT
BEGIN:VEVENT
DTSTART;TZID=America/Los_Angeles:20220304T180000
DTEND;TZID=America/Los_Angeles:20220304T200000
DTSTAMP:20260423T094017
CREATED:20220125T204502Z
LAST-MODIFIED:20220126T184537Z
UID:10000627-1646416800-1646424000@castrovalleymarketplace.com
SUMMARY:Cordial Cellar Music series: Piano Night w/ Justin Firmeza
DESCRIPTION:Live piano performance by Justin Firmeza at Cordial Cellar + Lounge from 6 pm to 8 pm.
URL:https://castrovalleymarketplace.com/calendar/cordial-cellar-music-series-piano-night-w-justin-firmeza/2022-03-04/
LOCATION:Cordial Cellar + Lounge\, 3295 Castro Valley Boulevard\, Suite B100\, Castro Valley\, CA\, 94546\, United States
CATEGORIES:Cordial Cellar + Lounge,Live Music
ATTACH;FMTTYPE=image/jpeg:https://castrovalleymarketplace.com/wp-content/uploads/2022/01/Piano-Night-Justin-Firmeza.jpeg
ORGANIZER;CN="Cordial Cellar + Lounge":MAILTO:cheers@cordialbottleshop.com
END:VEVENT
BEGIN:VEVENT
DTSTART;TZID=America/Los_Angeles:20220304T200000
DTEND;TZID=America/Los_Angeles:20220304T220000
DTSTAMP:20260423T094017
CREATED:20220222T212607Z
LAST-MODIFIED:20220225T180922Z
UID:10000477-1646424000-1646431200@castrovalleymarketplace.com
SUMMARY:Night Owl Music Series: Joe Warner and Joel Behrman
DESCRIPTION:The mezzanine at the Castro Valley Marketplace comes alive from 8:00 pm to 10:00 pm featuring Joe Warner and Joel Behrman on stage \nJoe Warner’s virtuoso piano playing is complimented nicely by expressive jazz trumpeter\, Joel Behrman. \nEnter through the west entry off the parking lot. \nA selection of cocktails and bar bites will be served by Night Owl.
URL:https://castrovalleymarketplace.com/calendar/night-owl-music-series-joe-warner-and-joel-behrman-2/
LOCATION:Castro Valley Marketplace\, 3295 Castro Valley Boulevard\, Castro Valley\, CA\, 94546\, United States
CATEGORIES:Live Music,Night Owl
ATTACH;FMTTYPE=image/jpeg:https://castrovalleymarketplace.com/wp-content/uploads/2022/02/JoelBehrmanJoeWarner.jpg
GEO:37.69557;-122.078496
X-APPLE-STRUCTURED-LOCATION;VALUE=URI;X-ADDRESS=Castro Valley Marketplace 3295 Castro Valley Boulevard Castro Valley CA 94546 United States;X-APPLE-RADIUS=500;X-TITLE=3295 Castro Valley Boulevard:geo:-122.078496,37.69557
END:VEVENT
BEGIN:VEVENT
DTSTART;TZID=America/Los_Angeles:20220310T180000
DTEND;TZID=America/Los_Angeles:20220310T200000
DTSTAMP:20260423T094017
CREATED:20220125T204728Z
LAST-MODIFIED:20220201T190556Z
UID:10000652-1646935200-1646942400@castrovalleymarketplace.com
SUMMARY:Cordial Cellar Music series: Jazz Duo by Victor & Evan
DESCRIPTION:Victor & Evan Jazz Duo at Cordial Cellar + Lounge from 6 pm to 8 pm.
URL:https://castrovalleymarketplace.com/calendar/cordial-cellar-music-series-jazz-duo-by-victor-evan-2022-02-03/2022-03-10/
LOCATION:Cordial Cellar + Lounge\, 3295 Castro Valley Boulevard\, Suite B100\, Castro Valley\, CA\, 94546\, United States
CATEGORIES:Cordial Cellar + Lounge,Live Music
ATTACH;FMTTYPE=image/jpeg:https://castrovalleymarketplace.com/wp-content/uploads/2022/01/Jazz-Duo-Victor-Evan.jpg
ORGANIZER;CN="Cordial Cellar + Lounge":MAILTO:cheers@cordialbottleshop.com
END:VEVENT
BEGIN:VEVENT
DTSTART;TZID=America/Los_Angeles:20220311T180000
DTEND;TZID=America/Los_Angeles:20220311T200000
DTSTAMP:20260423T094017
CREATED:20220125T204502Z
LAST-MODIFIED:20220126T184714Z
UID:10000645-1647021600-1647028800@castrovalleymarketplace.com
SUMMARY:Cordial Cellar Music series: Piano Night w/ Nick Perez
DESCRIPTION:Live piano performance by Nick Perez at Cordial Cellar + Lounge from 6 pm to 8 pm.
URL:https://castrovalleymarketplace.com/calendar/cordial-cellar-music-series-piano-night-w-justin-firmeza-2022-03-11/
LOCATION:Cordial Cellar + Lounge\, 3295 Castro Valley Boulevard\, Suite B100\, Castro Valley\, CA\, 94546\, United States
CATEGORIES:Cordial Cellar + Lounge,Live Music
ORGANIZER;CN="Cordial Cellar + Lounge":MAILTO:cheers@cordialbottleshop.com
END:VEVENT
BEGIN:VEVENT
DTSTART;TZID=America/Los_Angeles:20220311T200000
DTEND;TZID=America/Los_Angeles:20220311T220000
DTSTAMP:20260423T094017
CREATED:20220222T212931Z
LAST-MODIFIED:20220225T180910Z
UID:10000479-1647028800-1647036000@castrovalleymarketplace.com
SUMMARY:Night Owl Music Series: Macro Diaz and Saul Sierra
DESCRIPTION:The mezzanine at the Castro Valley Marketplace comes alive from 8:00 pm to 10:00 pm featuring Macro Diaz and Saul Sierra on stage \nMarco Diaz and Saul Sierra bring their joyous mix of Latin flavors to the American songbook. \nEnter through the west entry off the parking lot. \nA selection of cocktails and bar bites will be served by Night Owl.
URL:https://castrovalleymarketplace.com/calendar/night-owl-music-series-macro-diaz-and-saul-sierra/
LOCATION:Castro Valley Marketplace\, 3295 Castro Valley Boulevard\, Castro Valley\, CA\, 94546\, United States
CATEGORIES:Live Music,Night Owl
ATTACH;FMTTYPE=image/jpeg:https://castrovalleymarketplace.com/wp-content/uploads/2021/09/marcodiaz-10-23.jpeg
GEO:37.69557;-122.078496
X-APPLE-STRUCTURED-LOCATION;VALUE=URI;X-ADDRESS=Castro Valley Marketplace 3295 Castro Valley Boulevard Castro Valley CA 94546 United States;X-APPLE-RADIUS=500;X-TITLE=3295 Castro Valley Boulevard:geo:-122.078496,37.69557
END:VEVENT
BEGIN:VEVENT
DTSTART;TZID=America/Los_Angeles:20220312T120000
DTEND;TZID=America/Los_Angeles:20220312T150000
DTSTAMP:20260423T094017
CREATED:20220211T001916Z
LAST-MODIFIED:20220304T005015Z
UID:10000472-1647086400-1647097200@castrovalleymarketplace.com
SUMMARY:Paseo Music Series: Brandon Begley
DESCRIPTION:Brandon Begley has been professionally active as a jazz fusion guitarist and singer-songwriter for nearly a decade. The recipient of the prestigious Louis Armstrong jazz award upon graduating from high school and president of the National Tri-M Music Honor Society. Brandon’s resume includes a wide array of venues\, including\, but not limited to: Brick and Mortar Music Hall\, Savannah Jazz\, Angelicas\, and the Mondavi Center. Brandon has played many different settings: solo\, band\, jazz ensemble\, and orchestra pits. Brandon’s background; a dynamic mix of improvisation and varied arrangements\, creates a unique blend of jazz-fusion\, classical\, rock\, R & B\, blues\, contemporary music\, and theatrical\, television\, and video game soundtracks. A recent UC Davis graduate and entrepreneurial creative who is currently working on his debut singles and EP. \nMeet Brandon at: \nReddit: someguyBran | Twitch: someguyBran | Instagram: bdommusic
URL:https://castrovalleymarketplace.com/calendar/paseo-music-series-brandon-begley-16/
LOCATION:Castro Valley Marketplace\, 3295 Castro Valley Boulevard\, Castro Valley\, CA\, 94546\, United States
CATEGORIES:Live Music
ATTACH;FMTTYPE=image/jpeg:https://castrovalleymarketplace.com/wp-content/uploads/2021/11/Brandon-Begley.jpg
GEO:37.69557;-122.078496
X-APPLE-STRUCTURED-LOCATION;VALUE=URI;X-ADDRESS=Castro Valley Marketplace 3295 Castro Valley Boulevard Castro Valley CA 94546 United States;X-APPLE-RADIUS=500;X-TITLE=3295 Castro Valley Boulevard:geo:-122.078496,37.69557
END:VEVENT
BEGIN:VEVENT
DTSTART;TZID=America/Los_Angeles:20220312T200000
DTEND;TZID=America/Los_Angeles:20220312T220000
DTSTAMP:20260423T094017
CREATED:20220222T213050Z
LAST-MODIFIED:20220225T180835Z
UID:10000482-1647115200-1647122400@castrovalleymarketplace.com
SUMMARY:Night Owl Music Series: Jonathan Alford (Piano Solo)
DESCRIPTION:The mezzanine at the Castro Valley Marketplace comes alive from 8:00 pm to 10:00 pm featuring Jonathan Alford on stage \nSolo pianist\, Jonathan Alford\, offers an eclectic style ranging from Jazz to Latin to Classical\, all played in his own unique way. \nEnter through the west entry off the parking lot. \nA selection of cocktails and bar bites will be served by Night Owl.
URL:https://castrovalleymarketplace.com/calendar/night-owl-music-series-jonathan-alford-piano-solo/
LOCATION:Castro Valley Marketplace\, 3295 Castro Valley Boulevard\, Castro Valley\, CA\, 94546\, United States
CATEGORIES:Live Music,Night Owl
ATTACH;FMTTYPE=image/jpeg:https://castrovalleymarketplace.com/wp-content/uploads/2022/02/JonathanAlford-10-29-10-30.jpg
GEO:37.69557;-122.078496
X-APPLE-STRUCTURED-LOCATION;VALUE=URI;X-ADDRESS=Castro Valley Marketplace 3295 Castro Valley Boulevard Castro Valley CA 94546 United States;X-APPLE-RADIUS=500;X-TITLE=3295 Castro Valley Boulevard:geo:-122.078496,37.69557
END:VEVENT
BEGIN:VEVENT
DTSTART;TZID=America/Los_Angeles:20220318T170000
DTEND;TZID=America/Los_Angeles:20220318T200000
DTSTAMP:20260423T094017
CREATED:20220317T193540Z
LAST-MODIFIED:20220317T193540Z
UID:10000661-1647622800-1647633600@castrovalleymarketplace.com
SUMMARY:Paseo Music Series: Brandon Begley
DESCRIPTION:Brandon Begley has been professionally active as a jazz fusion guitarist and singer-songwriter for nearly a decade. The recipient of the prestigious Louis Armstrong jazz award upon graduating from high school and president of the National Tri-M Music Honor Society. Brandon’s resume includes a wide array of venues\, including\, but not limited to: Brick and Mortar Music Hall\, Savannah Jazz\, Angelicas\, and the Mondavi Center. Brandon has played many different settings: solo\, band\, jazz ensemble\, and orchestra pits. Brandon’s background; a dynamic mix of improvisation and varied arrangements\, creates a unique blend of jazz-fusion\, classical\, rock\, R & B\, blues\, contemporary music\, and theatrical\, television\, and video game soundtracks. A recent UC Davis graduate and entrepreneurial creative who is currently working on his debut singles and EP. \nMeet Brandon at: \nReddit: someguyBran | Twitch: someguyBran | Instagram: bdommusic
URL:https://castrovalleymarketplace.com/calendar/paseo-music-series-brandon-begley-17/
LOCATION:Castro Valley Marketplace\, 3295 Castro Valley Boulevard\, Castro Valley\, CA\, 94546\, United States
CATEGORIES:Live Music
ATTACH;FMTTYPE=image/jpeg:https://castrovalleymarketplace.com/wp-content/uploads/2021/09/Brandon-Begley-10-2-10-7-10-14.jpg
GEO:37.69557;-122.078496
X-APPLE-STRUCTURED-LOCATION;VALUE=URI;X-ADDRESS=Castro Valley Marketplace 3295 Castro Valley Boulevard Castro Valley CA 94546 United States;X-APPLE-RADIUS=500;X-TITLE=3295 Castro Valley Boulevard:geo:-122.078496,37.69557
END:VEVENT
BEGIN:VEVENT
DTSTART;TZID=America/Los_Angeles:20220318T200000
DTEND;TZID=America/Los_Angeles:20220318T220000
DTSTAMP:20260423T094017
CREATED:20220222T213217Z
LAST-MODIFIED:20220225T180811Z
UID:10000498-1647633600-1647640800@castrovalleymarketplace.com
SUMMARY:Night Owl Music Series: Chris Siebert and Bill Ortiz
DESCRIPTION:The mezzanine at the Castro Valley Marketplace comes alive from 8:00 pm to 10:00 pm featuring Chris Siebert and Bill Ortiz on stage \nLocal legends\, Chris Siebert and Bill Ortiz\, create a cool\, inviting atmosphere with their tasty collection of Jazzy classics. \nEnter through the west entry off the parking lot. \nA selection of cocktails and bar bites will be served by Night Owl.
URL:https://castrovalleymarketplace.com/calendar/night-owl-music-series-chris-siebert-and-bill-ortiz/
LOCATION:Castro Valley Marketplace\, 3295 Castro Valley Boulevard\, Castro Valley\, CA\, 94546\, United States
CATEGORIES:Live Music,Night Owl
ATTACH;FMTTYPE=image/jpeg:https://castrovalleymarketplace.com/wp-content/uploads/2022/02/BillOrtizChrisSiebert.jpg
GEO:37.69557;-122.078496
X-APPLE-STRUCTURED-LOCATION;VALUE=URI;X-ADDRESS=Castro Valley Marketplace 3295 Castro Valley Boulevard Castro Valley CA 94546 United States;X-APPLE-RADIUS=500;X-TITLE=3295 Castro Valley Boulevard:geo:-122.078496,37.69557
END:VEVENT
BEGIN:VEVENT
DTSTART;TZID=America/Los_Angeles:20220325T200000
DTEND;TZID=America/Los_Angeles:20220325T220000
DTSTAMP:20260423T094017
CREATED:20220222T213309Z
LAST-MODIFIED:20220225T180755Z
UID:10000500-1648238400-1648245600@castrovalleymarketplace.com
SUMMARY:Night Owl Music Series: Joe Warner (Piano Solo)
DESCRIPTION:The mezzanine at the Castro Valley Marketplace comes alive from 8:00 pm to 10:00 pm featuring Joe Warner on stage \nFrom heart stopping boogie-woogie to luscious melodies\, solo pianist\, Joe Warner\, lays down a heady brew. \nEnter through the west entry off the parking lot. \nA selection of cocktails and bar bites will be served by Night Owl.
URL:https://castrovalleymarketplace.com/calendar/night-owl-music-series-joe-warner-piano-solo/
LOCATION:Castro Valley Marketplace\, 3295 Castro Valley Boulevard\, Castro Valley\, CA\, 94546\, United States
CATEGORIES:Live Music,Night Owl
ATTACH;FMTTYPE=image/jpeg:https://castrovalleymarketplace.com/wp-content/uploads/2022/02/JoeWarnerat-SF-BW.jpg
GEO:37.69557;-122.078496
X-APPLE-STRUCTURED-LOCATION;VALUE=URI;X-ADDRESS=Castro Valley Marketplace 3295 Castro Valley Boulevard Castro Valley CA 94546 United States;X-APPLE-RADIUS=500;X-TITLE=3295 Castro Valley Boulevard:geo:-122.078496,37.69557
END:VEVENT
BEGIN:VEVENT
DTSTART;TZID=America/Los_Angeles:20220326T200000
DTEND;TZID=America/Los_Angeles:20220326T220000
DTSTAMP:20260423T094017
CREATED:20220222T213424Z
LAST-MODIFIED:20220225T180724Z
UID:10000518-1648324800-1648332000@castrovalleymarketplace.com
SUMMARY:Night Owl Music Series: Simon Russell and Bill Ortiz
DESCRIPTION:The mezzanine at the Castro Valley Marketplace comes alive from 8:00 pm to 10:00 pm featuring Simon Russell and Bill Ortiz on stage \nLocal soul jazz\, great Simon Russell\, joins multiple Grammy winner\, Bill Ortiz\, for a night of deep grooves. \nEnter through the west entry off the parking lot. \nA selection of cocktails and bar bites will be served by Night Owl. \n 
URL:https://castrovalleymarketplace.com/calendar/night-owl-music-series-simon-russell-and-bill-ortiz/
LOCATION:Castro Valley Marketplace\, 3295 Castro Valley Boulevard\, Castro Valley\, CA\, 94546\, United States
CATEGORIES:Live Music,Night Owl
ATTACH;FMTTYPE=image/jpeg:https://castrovalleymarketplace.com/wp-content/uploads/2022/02/BillOrtizSimonRussell.jpg
GEO:37.69557;-122.078496
X-APPLE-STRUCTURED-LOCATION;VALUE=URI;X-ADDRESS=Castro Valley Marketplace 3295 Castro Valley Boulevard Castro Valley CA 94546 United States;X-APPLE-RADIUS=500;X-TITLE=3295 Castro Valley Boulevard:geo:-122.078496,37.69557
END:VEVENT
BEGIN:VEVENT
DTSTART;TZID=America/Los_Angeles:20220330T200000
DTEND;TZID=America/Los_Angeles:20220330T220000
DTSTAMP:20260423T094017
CREATED:20220318T003558Z
LAST-MODIFIED:20220318T003558Z
UID:10000662-1648670400-1648677600@castrovalleymarketplace.com
SUMMARY:Night Owl Music Series: Bob Enos Legacy Big Band
DESCRIPTION:The mezzanine at the Castro Valley Marketplace comes alive from 8:00 pm to 10:00 pm featuring Bob Enos Legacy Big Band on stage \nEnter through the west entry off the parking lot. \nA selection of cocktails and bar bites will be served by Night Owl. \n 
URL:https://castrovalleymarketplace.com/calendar/night-owl-music-series-bob-enos-legacy-big-band/2022-03-30/
LOCATION:Castro Valley Marketplace\, 3295 Castro Valley Boulevard\, Castro Valley\, CA\, 94546\, United States
CATEGORIES:Live Music,Night Owl
ATTACH;FMTTYPE=image/jpeg:https://castrovalleymarketplace.com/wp-content/uploads/2022/02/photo_2022-03-17_11-10-22.jpg
GEO:37.69557;-122.078496
X-APPLE-STRUCTURED-LOCATION;VALUE=URI;X-ADDRESS=Castro Valley Marketplace 3295 Castro Valley Boulevard Castro Valley CA 94546 United States;X-APPLE-RADIUS=500;X-TITLE=3295 Castro Valley Boulevard:geo:-122.078496,37.69557
END:VEVENT
END:VCALENDAR