BEGIN:VCALENDAR
VERSION:2.0
PRODID:-//Castro Valley Marketplace - ECPv6.15.18//NONSGML v1.0//EN
CALSCALE:GREGORIAN
METHOD:PUBLISH
X-ORIGINAL-URL:https://castrovalleymarketplace.com
X-WR-CALDESC:Events for Castro Valley Marketplace
REFRESH-INTERVAL;VALUE=DURATION:PT1H
X-Robots-Tag:noindex
X-PUBLISHED-TTL:PT1H
BEGIN:VTIMEZONE
TZID:America/Los_Angeles
BEGIN:DAYLIGHT
TZOFFSETFROM:-0800
TZOFFSETTO:-0700
TZNAME:PDT
DTSTART:20210314T100000
END:DAYLIGHT
BEGIN:STANDARD
TZOFFSETFROM:-0700
TZOFFSETTO:-0800
TZNAME:PST
DTSTART:20211107T090000
END:STANDARD
BEGIN:DAYLIGHT
TZOFFSETFROM:-0800
TZOFFSETTO:-0700
TZNAME:PDT
DTSTART:20220313T100000
END:DAYLIGHT
BEGIN:STANDARD
TZOFFSETFROM:-0700
TZOFFSETTO:-0800
TZNAME:PST
DTSTART:20221106T090000
END:STANDARD
BEGIN:DAYLIGHT
TZOFFSETFROM:-0800
TZOFFSETTO:-0700
TZNAME:PDT
DTSTART:20230312T100000
END:DAYLIGHT
BEGIN:STANDARD
TZOFFSETFROM:-0700
TZOFFSETTO:-0800
TZNAME:PST
DTSTART:20231105T090000
END:STANDARD
END:VTIMEZONE
BEGIN:VEVENT
DTSTART;TZID=America/Los_Angeles:20220107T210000
DTEND;TZID=America/Los_Angeles:20220107T230000
DTSTAMP:20260423T123207
CREATED:20211229T020047Z
LAST-MODIFIED:20211229T020047Z
UID:10000420-1641589200-1641596400@castrovalleymarketplace.com
SUMMARY:Night Owl Music Series: Bill Ortiz and Jonathan Alford
DESCRIPTION:  \nThe mezzanine at the Castro Valley Marketplace comes alive from 9:00 pm to 11:00 pm featuring Bill Ortiz and Jonathan Alford on stage \nBill Ortiz was the lead trumpet player for Santana… a chair he has held for over twelve years In addition to his world travels\, Las Vegas showcases and arena gigs with Carlos’ crew\, Ortiz’s sweet\, assertive trumpet attack has made him one of the most in-demand players on the San Francisco Bay Area music scene. \nJonathan Alford has played piano since the age of 5. Taught by a musical after Alford played classical piano until he began exploring the world of jazz and Latin music in his late 20’s. Largely self taught alford has become a mainstay of the bay area music scene. He co-led Azesu with legendary Cuban timbalero Orestes Vilato of whom the Healdsburg Tribune said  ‘Azesu lays down a new marker for Latin Jazz.’ Alford has also played with John Santos and Machete Ensemble\, Santana\, Chocolate Armenteros\, and many other Latin greats as well as Bobby Hutchinson\,Maria Marquez and John Stowell.\nHe is currently the leader of Proteus Trio with grammy winning artists Evan Price and Lewis Patzer. Andrew Gilbert of the East Bay Times has said ‘Proteus trio brings together 3 of the most versatile and adventurous musicians in the bay area. Proteus doesn’t so much ignore genre conventions as embrace every musical practice. \nEnter through the west entry off the parking lot. \nA selection of cocktails and bar bites will be served by Night Owl.
URL:https://castrovalleymarketplace.com/calendar/night-owl-music-series-bill-ortiz-and-jonathan-alford-2/
LOCATION:Castro Valley Marketplace\, 3295 Castro Valley Boulevard\, Castro Valley\, CA\, 94546\, United States
CATEGORIES:Live Music
ATTACH;FMTTYPE=image/jpeg:https://castrovalleymarketplace.com/wp-content/uploads/2021/09/JonathanAlford-10-29-10-30.jpg
GEO:37.69557;-122.078496
X-APPLE-STRUCTURED-LOCATION;VALUE=URI;X-ADDRESS=Castro Valley Marketplace 3295 Castro Valley Boulevard Castro Valley CA 94546 United States;X-APPLE-RADIUS=500;X-TITLE=3295 Castro Valley Boulevard:geo:-122.078496,37.69557
END:VEVENT
BEGIN:VEVENT
DTSTART;TZID=America/Los_Angeles:20220108T210000
DTEND;TZID=America/Los_Angeles:20220108T230000
DTSTAMP:20260423T123207
CREATED:20211229T020139Z
LAST-MODIFIED:20211229T020139Z
UID:10000443-1641675600-1641682800@castrovalleymarketplace.com
SUMMARY:Night Owl Music Series: Marco Diaz and Saul Sierra
DESCRIPTION:The mezzanine at the Castro Valley Marketplace comes alive from 9:00 pm to 11:00 pm featuring Marco Diaz and Saul Sierra on stage \nMarco is part of the faculty at the Community Music Center in San Francisco and has been a part of the SFJAZZ teaching artist program since 2017. He is an accomplished recording musician who has shared the stage with Grammy Award winning artist\, Israel “Cachao” Lopez\, Nelson Gonzales\, Jimmy Bosch\, Pete “El Conde” Rodriguez\, Ska Cubano (Europe)\, Tito Rojas\, Nino Segarra\, Anthony Cruz\, Anthony Blea\, Jovino Santos Neto\, Joe Santiago\, and is an integral member of the John Santos sextet\, and the musical director for Bobi Cespedes.  Marco has participated in the San Francisco Symphony AIM program since 2000 and currently produces records and performs music throughout the country while also co-leading Vission Latina\, an Afro-Caribbean dance band\, and director of his own quartet\, The Marco Diaz Quartet. \nFor the past 20 years Saúl Sierra has been a member of some of the leading bands in the Bay Area\, including The John Santos Quintet/Sextet\, Bobi Cespedes’ band\,  Dr. Loco’s Rocking  Jalapeño Band\, El Tren Trío\, Anthony Blea y su Charanga\, The Snake Trío\, Jesús Díaz y su QBA\, The Bay Area Afro-Cuban All Stars\, The Venezuelan Music Project\, Corazón Sur\, Sababa band\, Cascada de Flores\, SJZ Collective\, LaTiDo\, \nA founding member of Vission Latina\, and The VLTro\, the bands that he co-leads with Carlos Caro\, percussionist extraordinaire\, and Marco Díaz\, virtuoso multiinstrumentalist (piano/trumpet)\, Saúl keeps himself busy performing\, composing\, arranging and teaching in the world class musical community of the San Francisco Bay Area. \nTwo of his newest projects include The Saul Sierra Trio\, a contemporary jazz fusion jazz trio and The Saul Sierra Quintet a pianoless latin jazz quintet. \nEnter through the west entry off the parking lot. \nA selection of cocktails and bar bites will be served by Night Owl.
URL:https://castrovalleymarketplace.com/calendar/night-owl-music-series-marco-diaz-and-saul-sierra-2/
LOCATION:Castro Valley Marketplace\, 3295 Castro Valley Boulevard\, Castro Valley\, CA\, 94546\, United States
CATEGORIES:Live Music
ATTACH;FMTTYPE=image/jpeg:https://castrovalleymarketplace.com/wp-content/uploads/2021/09/marcodiaz-10-23.jpeg
GEO:37.69557;-122.078496
X-APPLE-STRUCTURED-LOCATION;VALUE=URI;X-ADDRESS=Castro Valley Marketplace 3295 Castro Valley Boulevard Castro Valley CA 94546 United States;X-APPLE-RADIUS=500;X-TITLE=3295 Castro Valley Boulevard:geo:-122.078496,37.69557
END:VEVENT
BEGIN:VEVENT
DTSTART;TZID=America/Los_Angeles:20220114T210000
DTEND;TZID=America/Los_Angeles:20220114T230000
DTSTAMP:20260423T123207
CREATED:20211229T020240Z
LAST-MODIFIED:20211229T020240Z
UID:10000441-1642194000-1642201200@castrovalleymarketplace.com
SUMMARY:Night Owl Music Series: Bill Ortiz and Jonathan Alford
DESCRIPTION:The mezzanine at the Castro Valley Marketplace comes alive from 9:00 pm to 11:00 pm featuring Bill Ortiz and Jonathan Alford on stage \nBill Ortiz was the lead trumpet player for Santana… a chair he has held for over twelve years In addition to his world travels\, Las Vegas showcases and arena gigs with Carlos’ crew\, Ortiz’s sweet\, assertive trumpet attack has made him one of the most in-demand players on the San Francisco Bay Area music scene. \nJonathan Alford has played piano since the age of 5. Taught by a musical after Alford played classical piano until he began exploring the world of jazz and Latin music in his late 20’s. Largely self taught alford has become a mainstay of the bay area music scene. He co-led Azesu with legendary Cuban timbalero Orestes Vilato of whom the Healdsburg Tribune said  ‘Azesu lays down a new marker for Latin Jazz.’ Alford has also played with John Santos and Machete Ensemble\, Santana\, Chocolate Armenteros\, and many other Latin greats as well as Bobby Hutchinson\,Maria Marquez and John Stowell.\nHe is currently the leader of Proteus Trio with grammy winning artists Evan Price and Lewis Patzer. Andrew Gilbert of the East Bay Times has said ‘Proteus trio brings together 3 of the most versatile and adventurous musicians in the bay area. Proteus doesn’t so much ignore genre conventions as embrace every musical practice. \nEnter through the west entry off the parking lot. \nA selection of cocktails and bar bites will be served by Night Owl.
URL:https://castrovalleymarketplace.com/calendar/night-owl-music-series-bill-ortiz-and-jonathan-alford-3/
LOCATION:Castro Valley Marketplace\, 3295 Castro Valley Boulevard\, Castro Valley\, CA\, 94546\, United States
CATEGORIES:Live Music
ATTACH;FMTTYPE=image/jpeg:https://castrovalleymarketplace.com/wp-content/uploads/2021/10/Bill-Ortiz.jpg
GEO:37.69557;-122.078496
X-APPLE-STRUCTURED-LOCATION;VALUE=URI;X-ADDRESS=Castro Valley Marketplace 3295 Castro Valley Boulevard Castro Valley CA 94546 United States;X-APPLE-RADIUS=500;X-TITLE=3295 Castro Valley Boulevard:geo:-122.078496,37.69557
END:VEVENT
BEGIN:VEVENT
DTSTART;TZID=America/Los_Angeles:20220115T210000
DTEND;TZID=America/Los_Angeles:20220115T230000
DTSTAMP:20260423T123207
CREATED:20211229T020415Z
LAST-MODIFIED:20211230T212556Z
UID:10000439-1642280400-1642287600@castrovalleymarketplace.com
SUMMARY:Night Owl Music Series: Laura & Anton
DESCRIPTION:The mezzanine at the Castro Valley Marketplace comes alive from 9:00 pm to 11:00 pm featuring Marco Diaz and Saul Sierra on stage \nHusband and wife duo Laura & Anton had spent years releasing ambitious\, creative records in relative obscurity with their experimental pop act Foxtails Brigade when one day they released a simple\, home-recorded live video of the old french chanson\, “La Vie En Rose”. Having grown up on classic jazz singers like Billie Holiday\, Ella Fitzgerald and Astrud Gilberto\, front-woman Laura Weinbach holds a love and respect for melody that informs her pure\, no-frills approach to vocals\, a welcome breath of fresh air in the era of American Idol over-singing. The video went viral\, garnering millions of views on youtube\, and suddenly Laura & Anton were an international act\, flying around the US\, Europe and Asia for live appearances\, including a cameo in an Alec Baldwin film. Continuing in the stripped-down style of their original hit\, the duo released “Live Recordings” a mini album of covers and originals and now release monthly singles. \nEnter through the west entry off the parking lot. \nA selection of cocktails and bar bites will be served by Night Owl.
URL:https://castrovalleymarketplace.com/calendar/night-owl-music-series-laura-anton-3/
LOCATION:Castro Valley Marketplace\, 3295 Castro Valley Boulevard\, Castro Valley\, CA\, 94546\, United States
CATEGORIES:Live Music
ATTACH;FMTTYPE=image/jpeg:https://castrovalleymarketplace.com/wp-content/uploads/2021/09/LauraAndAnton2.jpeg
GEO:37.69557;-122.078496
X-APPLE-STRUCTURED-LOCATION;VALUE=URI;X-ADDRESS=Castro Valley Marketplace 3295 Castro Valley Boulevard Castro Valley CA 94546 United States;X-APPLE-RADIUS=500;X-TITLE=3295 Castro Valley Boulevard:geo:-122.078496,37.69557
END:VEVENT
BEGIN:VEVENT
DTSTART;TZID=America/Los_Angeles:20220121T210000
DTEND;TZID=America/Los_Angeles:20220121T230000
DTSTAMP:20260423T123207
CREATED:20211229T020530Z
LAST-MODIFIED:20211229T020530Z
UID:10000437-1642798800-1642806000@castrovalleymarketplace.com
SUMMARY:Night Owl Music Series: Bill Ortiz and Chris Siebert
DESCRIPTION:The mezzanine at the Castro Valley Marketplace comes alive from 9:00 pm to 11:00 pm featuring Bill Ortiz and Chris Siebert on stage \nBill Ortiz was the lead trumpet player for Santana… a chair he has held for over twelve years In addition to his world travels\, Las Vegas showcases and arena gigs with Carlos’ crew\, Ortiz’s sweet\, assertive trumpet attack has made him one of the most in-demand players on the San Francisco Bay Area music scene. \nChris Siebert is the band leader and piano player for Lavay Smith and Her Red Hot Skillet Lickers. \nEnter through the west entry off the parking lot. \nA selection of cocktails and bar bites will be served by Night Owl.
URL:https://castrovalleymarketplace.com/calendar/night-owl-music-series-bill-ortiz-and-chris-siebert-2/
LOCATION:Castro Valley Marketplace\, 3295 Castro Valley Boulevard\, Castro Valley\, CA\, 94546\, United States
CATEGORIES:Live Music
ATTACH;FMTTYPE=image/jpeg:https://castrovalleymarketplace.com/wp-content/uploads/2021/10/Chris-Siebert-Bill-Ortiz.jpg
GEO:37.69557;-122.078496
X-APPLE-STRUCTURED-LOCATION;VALUE=URI;X-ADDRESS=Castro Valley Marketplace 3295 Castro Valley Boulevard Castro Valley CA 94546 United States;X-APPLE-RADIUS=500;X-TITLE=3295 Castro Valley Boulevard:geo:-122.078496,37.69557
END:VEVENT
BEGIN:VEVENT
DTSTART;TZID=America/Los_Angeles:20220122T210000
DTEND;TZID=America/Los_Angeles:20220122T230000
DTSTAMP:20260423T123207
CREATED:20211229T020714Z
LAST-MODIFIED:20211229T020714Z
UID:10000435-1642885200-1642892400@castrovalleymarketplace.com
SUMMARY:Night Owl Music Series: Log Rhythm with Guest\, Bill Ortiz electrified
DESCRIPTION:The mezzanine at the Castro Valley Marketplace comes alive from 9:00 pm to 11:00 pm featuring Log Rhythm with Guest\, Bill Ortiz electrified on stage \nLog Rhythm\, primal beat driven ambient electronica. \nBill Ortiz was the lead trumpet player for Santana… a chair he has held for over twelve years In addition to his world travels\, Las Vegas showcases and arena gigs with Carlos’ crew\, Ortiz’s sweet\, assertive trumpet attack has made him one of the most in-demand players on the San Francisco Bay Area music scene. \nEnter through the west entry off the parking lot. \nA selection of cocktails and bar bites will be served by Night Owl.
URL:https://castrovalleymarketplace.com/calendar/night-owl-music-series-log-rhythm-with-guest-bill-ortiz-electrified/
LOCATION:Castro Valley Marketplace\, 3295 Castro Valley Boulevard\, Castro Valley\, CA\, 94546\, United States
CATEGORIES:Live Music
ATTACH;FMTTYPE=image/jpeg:https://castrovalleymarketplace.com/wp-content/uploads/2021/10/Log-Rhythm.jpg
GEO:37.69557;-122.078496
X-APPLE-STRUCTURED-LOCATION;VALUE=URI;X-ADDRESS=Castro Valley Marketplace 3295 Castro Valley Boulevard Castro Valley CA 94546 United States;X-APPLE-RADIUS=500;X-TITLE=3295 Castro Valley Boulevard:geo:-122.078496,37.69557
END:VEVENT
BEGIN:VEVENT
DTSTART;TZID=America/Los_Angeles:20220127T180000
DTEND;TZID=America/Los_Angeles:20220127T200000
DTSTAMP:20260423T123207
CREATED:20220125T204728Z
LAST-MODIFIED:20220201T185648Z
UID:10000646-1643306400-1643313600@castrovalleymarketplace.com
SUMMARY:Cordial Cellar Music series: Jazz Duo by Victor & Evan
DESCRIPTION:Victor & Evan Jazz Duo at Cordial Cellar + Lounge from 6 pm to 8 pm.
URL:https://castrovalleymarketplace.com/calendar/cordial-cellar-music-series-jazz-duo-by-victor-evan/
LOCATION:Cordial Cellar + Lounge\, 3295 Castro Valley Boulevard\, Suite B100\, Castro Valley\, CA\, 94546\, United States
CATEGORIES:Cordial Cellar + Lounge,Live Music
ATTACH;FMTTYPE=image/jpeg:https://castrovalleymarketplace.com/wp-content/uploads/2022/01/Jazz-Duo-Victor-Evan.jpg
ORGANIZER;CN="Cordial Cellar + Lounge":MAILTO:cheers@cordialbottleshop.com
END:VEVENT
BEGIN:VEVENT
DTSTART;TZID=America/Los_Angeles:20220128T180000
DTEND;TZID=America/Los_Angeles:20220128T200000
DTSTAMP:20260423T123207
CREATED:20220125T201926Z
LAST-MODIFIED:20220125T201926Z
UID:10000616-1643392800-1643400000@castrovalleymarketplace.com
SUMMARY:Paseo Music Series: Brandon Begley
DESCRIPTION:Brandon Begley has been professionally active as a jazz fusion guitarist and singer-songwriter for nearly a decade. The recipient of the prestigious Louis Armstrong jazz award upon graduating from high school and president of the National Tri-M Music Honor Society. Brandon’s resume includes a wide array of venues\, including\, but not limited to: Brick and Mortar Music Hall\, Savannah Jazz\, Angelicas\, and the Mondavi Center. Brandon has played many different settings: solo\, band\, jazz ensemble\, and orchestra pits. Brandon’s background; a dynamic mix of improvisation and varied arrangements\, creates a unique blend of jazz-fusion\, classical\, rock\, R & B\, blues\, contemporary music\, and theatrical\, television\, and video game soundtracks. A recent UC Davis graduate and entrepreneurial creative who is currently working on his debut singles and EP.
URL:https://castrovalleymarketplace.com/calendar/paseo-music-series-brandon-begley-14/
LOCATION:Castro Valley Marketplace\, 3295 Castro Valley Boulevard\, Castro Valley\, CA\, 94546\, United States
CATEGORIES:Live Music
ATTACH;FMTTYPE=image/jpeg:https://castrovalleymarketplace.com/wp-content/uploads/2021/11/Brandon-Begley.jpg
GEO:37.69557;-122.078496
X-APPLE-STRUCTURED-LOCATION;VALUE=URI;X-ADDRESS=Castro Valley Marketplace 3295 Castro Valley Boulevard Castro Valley CA 94546 United States;X-APPLE-RADIUS=500;X-TITLE=3295 Castro Valley Boulevard:geo:-122.078496,37.69557
END:VEVENT
BEGIN:VEVENT
DTSTART;TZID=America/Los_Angeles:20220128T180000
DTEND;TZID=America/Los_Angeles:20220128T200000
DTSTAMP:20260423T123207
CREATED:20220125T204502Z
LAST-MODIFIED:20220126T184537Z
UID:10000626-1643392800-1643400000@castrovalleymarketplace.com
SUMMARY:Cordial Cellar Music series: Piano Night w/ Justin Firmeza
DESCRIPTION:Live piano performance by Justin Firmeza at Cordial Cellar + Lounge from 6 pm to 8 pm.
URL:https://castrovalleymarketplace.com/calendar/cordial-cellar-music-series-piano-night-w-justin-firmeza/2022-01-28/
LOCATION:Cordial Cellar + Lounge\, 3295 Castro Valley Boulevard\, Suite B100\, Castro Valley\, CA\, 94546\, United States
CATEGORIES:Cordial Cellar + Lounge,Live Music
ATTACH;FMTTYPE=image/jpeg:https://castrovalleymarketplace.com/wp-content/uploads/2022/01/Piano-Night-Justin-Firmeza.jpeg
ORGANIZER;CN="Cordial Cellar + Lounge":MAILTO:cheers@cordialbottleshop.com
END:VEVENT
BEGIN:VEVENT
DTSTART;TZID=America/Los_Angeles:20220128T210000
DTEND;TZID=America/Los_Angeles:20220128T230000
DTSTAMP:20260423T123207
CREATED:20211229T020800Z
LAST-MODIFIED:20211229T020800Z
UID:10000432-1643403600-1643410800@castrovalleymarketplace.com
SUMMARY:Night Owl Music Series: Laura & Anton
DESCRIPTION:The mezzanine at the Castro Valley Marketplace comes alive from 9:00 pm to 11:00 pm featuring Laura & Anton on stage \nHusband and wife duo Laura & Anton had spent years releasing ambitious\, creative records in relative obscurity with their experimental pop act Foxtails Brigade when one day they released a simple\, home-recorded live video of the old french chanson\, “La Vie En Rose”. Having grown up on classic jazz singers like Billie Holiday\, Ella Fitzgerald and Astrud Gilberto\, front-woman Laura Weinbach holds a love and respect for melody that informs her pure\, no-frills approach to vocals\, a welcome breath of fresh air in the era of American Idol over-singing. The video went viral\, garnering millions of views on youtube\, and suddenly Laura & Anton were an international act\, flying around the US\, Europe and Asia for live appearances\, including a cameo in an Alec Baldwin film. Continuing in the stripped-down style of their original hit\, the duo released “Live Recordings” a mini album of covers and originals and now release monthly singles. \nEnter through the west entry off the parking lot. \nA selection of cocktails and bar bites will be served by Night Owl.
URL:https://castrovalleymarketplace.com/calendar/night-owl-music-series-laura-anton-4/
LOCATION:Castro Valley Marketplace\, 3295 Castro Valley Boulevard\, Castro Valley\, CA\, 94546\, United States
CATEGORIES:Live Music
ATTACH;FMTTYPE=image/jpeg:https://castrovalleymarketplace.com/wp-content/uploads/2021/09/LauraAndAnton.jpeg
GEO:37.69557;-122.078496
X-APPLE-STRUCTURED-LOCATION;VALUE=URI;X-ADDRESS=Castro Valley Marketplace 3295 Castro Valley Boulevard Castro Valley CA 94546 United States;X-APPLE-RADIUS=500;X-TITLE=3295 Castro Valley Boulevard:geo:-122.078496,37.69557
END:VEVENT
BEGIN:VEVENT
DTSTART;TZID=America/Los_Angeles:20220129T210000
DTEND;TZID=America/Los_Angeles:20220129T230000
DTSTAMP:20260423T123207
CREATED:20211229T020935Z
LAST-MODIFIED:20211229T020935Z
UID:10000430-1643490000-1643497200@castrovalleymarketplace.com
SUMMARY:Night Owl Music Series: Marco Diaz and Saul Sierra
DESCRIPTION:The mezzanine at the Castro Valley Marketplace comes alive from 9:00 pm to 11:00 pm featuring Marco Diaz and Saul Sierra on stage \nMarco is part of the faculty at the Community Music Center in San Francisco and has been a part of the SFJAZZ teaching artist program since 2017. He is an accomplished recording musician who has shared the stage with Grammy Award winning artist\, Israel “Cachao” Lopez\, Nelson Gonzales\, Jimmy Bosch\, Pete “El Conde” Rodriguez\, Ska Cubano (Europe)\, Tito Rojas\, Nino Segarra\, Anthony Cruz\, Anthony Blea\, Jovino Santos Neto\, Joe Santiago\, and is an integral member of the John Santos sextet\, and the musical director for Bobi Cespedes.  Marco has participated in the San Francisco Symphony AIM program since 2000 and currently produces records and performs music throughout the country while also co-leading Vission Latina\, an Afro-Caribbean dance band\, and director of his own quartet\, The Marco Diaz Quartet. \nFor the past 20 years Saúl Sierra has been a member of some of the leading bands in the Bay Area\, including The John Santos Quintet/Sextet\, Bobi Cespedes’ band\,  Dr. Loco’s Rocking  Jalapeño Band\, El Tren Trío\, Anthony Blea y su Charanga\, The Snake Trío\, Jesús Díaz y su QBA\, The Bay Area Afro-Cuban All Stars\, The Venezuelan Music Project\, Corazón Sur\, Sababa band\, Cascada de Flores\, SJZ Collective\, LaTiDo\, \nA founding member of Vission Latina\, and The VLTro\, the bands that he co-leads with Carlos Caro\, percussionist extraordinaire\, and Marco Díaz\, virtuoso multiinstrumentalist (piano/trumpet)\, Saúl keeps himself busy performing\, composing\, arranging and teaching in the world class musical community of the San Francisco Bay Area. \nTwo of his newest projects include The Saul Sierra Trio\, a contemporary jazz fusion jazz trio and The Saul Sierra Quintet a pianoless latin jazz quintet. \nEnter through the west entry off the parking lot. \nA selection of cocktails and bar bites will be served by Night Owl.
URL:https://castrovalleymarketplace.com/calendar/night-owl-music-series-marco-diaz-and-saul-sierra-3/
LOCATION:Castro Valley Marketplace\, 3295 Castro Valley Boulevard\, Castro Valley\, CA\, 94546\, United States
CATEGORIES:Live Music
ATTACH;FMTTYPE=image/jpeg:https://castrovalleymarketplace.com/wp-content/uploads/2021/12/marcodiaz-and-Saul-Sierra.jpeg
GEO:37.69557;-122.078496
X-APPLE-STRUCTURED-LOCATION;VALUE=URI;X-ADDRESS=Castro Valley Marketplace 3295 Castro Valley Boulevard Castro Valley CA 94546 United States;X-APPLE-RADIUS=500;X-TITLE=3295 Castro Valley Boulevard:geo:-122.078496,37.69557
END:VEVENT
END:VCALENDAR