BEGIN:VCALENDAR
VERSION:2.0
PRODID:-//Castro Valley Marketplace - ECPv6.15.18//NONSGML v1.0//EN
CALSCALE:GREGORIAN
METHOD:PUBLISH
X-WR-CALNAME:Castro Valley Marketplace
X-ORIGINAL-URL:https://castrovalleymarketplace.com
X-WR-CALDESC:Events for Castro Valley Marketplace
REFRESH-INTERVAL;VALUE=DURATION:PT1H
X-Robots-Tag:noindex
X-PUBLISHED-TTL:PT1H
BEGIN:VTIMEZONE
TZID:America/Los_Angeles
BEGIN:DAYLIGHT
TZOFFSETFROM:-0800
TZOFFSETTO:-0700
TZNAME:PDT
DTSTART:20200308T100000
END:DAYLIGHT
BEGIN:STANDARD
TZOFFSETFROM:-0700
TZOFFSETTO:-0800
TZNAME:PST
DTSTART:20201101T090000
END:STANDARD
BEGIN:DAYLIGHT
TZOFFSETFROM:-0800
TZOFFSETTO:-0700
TZNAME:PDT
DTSTART:20210314T100000
END:DAYLIGHT
BEGIN:STANDARD
TZOFFSETFROM:-0700
TZOFFSETTO:-0800
TZNAME:PST
DTSTART:20211107T090000
END:STANDARD
BEGIN:DAYLIGHT
TZOFFSETFROM:-0800
TZOFFSETTO:-0700
TZNAME:PDT
DTSTART:20220313T100000
END:DAYLIGHT
BEGIN:STANDARD
TZOFFSETFROM:-0700
TZOFFSETTO:-0800
TZNAME:PST
DTSTART:20221106T090000
END:STANDARD
END:VTIMEZONE
BEGIN:VEVENT
DTSTART;TZID=America/Los_Angeles:20211201T210000
DTEND;TZID=America/Los_Angeles:20211201T230000
DTSTAMP:20260423T140958
CREATED:20211130T182307Z
LAST-MODIFIED:20211130T182307Z
UID:10000411-1638392400-1638399600@castrovalleymarketplace.com
SUMMARY:Night Owl Music Series: Lavay Smith and Chris Siebert
DESCRIPTION:The mezzanine at the Castro Valley Marketplace comes alive tonight from 9:00 pm to 11:00 pm featuring Lavay Smith and Chris Siebert on stage \nLavay Smith of the Red Hot Skillet Lickers will be accompanied by Chris Sibert on the island in the intimate setting of the Night Owl \nEnter through the west entry off the parking lot. \nA selection of cocktails and bar bites will be served by Night Owl.
URL:https://castrovalleymarketplace.com/calendar/night-owl-music-series-lavay-smith-and-chris-siebert/
LOCATION:Castro Valley Marketplace\, 3295 Castro Valley Boulevard\, Castro Valley\, CA\, 94546\, United States
CATEGORIES:Live Music
ATTACH;FMTTYPE=image/jpeg:https://castrovalleymarketplace.com/wp-content/uploads/2021/11/Lavay-Smith.jpg
GEO:37.69557;-122.078496
X-APPLE-STRUCTURED-LOCATION;VALUE=URI;X-ADDRESS=Castro Valley Marketplace 3295 Castro Valley Boulevard Castro Valley CA 94546 United States;X-APPLE-RADIUS=500;X-TITLE=3295 Castro Valley Boulevard:geo:-122.078496,37.69557
END:VEVENT
BEGIN:VEVENT
DTSTART;TZID=America/Los_Angeles:20211203T210000
DTEND;TZID=America/Los_Angeles:20211203T230000
DTSTAMP:20260423T140958
CREATED:20211201T233535Z
LAST-MODIFIED:20211201T233535Z
UID:10000412-1638565200-1638572400@castrovalleymarketplace.com
SUMMARY:Night Owl Music Series: Jonathan Alford and Eddie Pasternak
DESCRIPTION:The mezzanine at the Castro Valley Marketplace comes alive tonight from 9:00 pm to 11:00 pm featuring Jonathan Alford and Eddie Pasternak on stage \nJonathan Alford has played piano since the age of 5. Taught by a musical after Alford played classical piano until he began exploring the world of jazz and Latin music in his late 20’s. Largely self taught alford has become a mainstay of the bay area music scene. He co-led Azesu with legendary Cuban timbalero Orestes Vilato of whom the Healdsburg Tribune said  ‘Azesu lays down a new marker for Latin Jazz.’ Alford has also played with John Santos and Machete Ensemble\, Santana\, Chocolate Armenteros\, and many other Latin greats as well as Bobby Hutchinson\,Maria Marquez and John Stowell.\nHe is currently the leader of Proteus Trio with grammy winning artists Evan Price and Lewis Patzer. Andrew Gilbert of the East Bay Times has said ‘Proteus trio brings together 3 of the most versatile and adventurous musicians in the bay area. Proteus doesn’t so much ignore genre conventions as embrace every musical practice. \nEddie Pasternak is a delightful presence with an abundance of warmth\, wit\, and charm. He consistently presents himself with the greatest of elegance and class. It is his combination of musicianship\, style and personality that sets Eddie apart from other fine local musicians and makes him the perfect musical choice for the sophisticated venues of the San Francisco Bay Area. \nFor a quarter century\, Eddie has been a mainstay of the Bay Area music scene. Eddie’s guitar work has been a welcome feature in swing-oriented performances with former members of Count Basie and Duke Ellington’s bands as well as in Motown dance bands. He has frequently performed in the Bay Area’s finest hotels and major local events. Noted Bay Area music critic Lee Hiderbrand describes him as a “remarkable guitarist who plays basslines and chords simultaneously. He generates intense swing.“ \nEnter through the west entry off the parking lot. \nA selection of cocktails and bar bites will be served by Night Owl.
URL:https://castrovalleymarketplace.com/calendar/night-owl-music-series-jonathan-alford-and-eddie-pasternak/
LOCATION:Castro Valley Marketplace\, 3295 Castro Valley Boulevard\, Castro Valley\, CA\, 94546\, United States
CATEGORIES:Live Music
ATTACH;FMTTYPE=image/jpeg:https://castrovalleymarketplace.com/wp-content/uploads/2021/11/Eddie-Pasternak-and-Jonathan-Alford.jpg
GEO:37.69557;-122.078496
X-APPLE-STRUCTURED-LOCATION;VALUE=URI;X-ADDRESS=Castro Valley Marketplace 3295 Castro Valley Boulevard Castro Valley CA 94546 United States;X-APPLE-RADIUS=500;X-TITLE=3295 Castro Valley Boulevard:geo:-122.078496,37.69557
END:VEVENT
BEGIN:VEVENT
DTSTART;TZID=America/Los_Angeles:20211204T210000
DTEND;TZID=America/Los_Angeles:20211204T230000
DTSTAMP:20260423T140958
CREATED:20211130T183002Z
LAST-MODIFIED:20211130T183002Z
UID:10000414-1638651600-1638658800@castrovalleymarketplace.com
SUMMARY:Night Owl Music Series: Laura & Anton
DESCRIPTION:The mezzanine at the Castro Valley Marketplace comes alive tonight from 9:00 pm to 11:00 pm featuring Laura & Anton on stage \nHusband and wife duo Laura & Anton had spent years releasing ambitious\, creative records in relative obscurity with their experimental pop act Foxtails Brigade when one day they released a simple\, home-recorded live video of the old french chanson\, “La Vie En Rose”. Having grown up on classic jazz singers like Billie Holiday\, Ella Fitzgerald and Astrud Gilberto\, front-woman Laura Weinbach holds a love and respect for melody that informs her pure\, no-frills approach to vocals\, a welcome breath of fresh air in the era of American Idol over-singing. The video went viral\, garnering millions of views on youtube\, and suddenly Laura & Anton were an international act\, flying around the US\, Europe and Asia for live appearances\, including a cameo in an Alec Baldwin film. Continuing in the stripped-down style of their original hit\, the duo released “Live Recordings” a mini album of covers and originals and now release monthly singles. \nEnter through the west entry off the parking lot. \nA selection of cocktails and bar bites will be served by Night Owl.
URL:https://castrovalleymarketplace.com/calendar/night-owl-music-series-laura-anton/
LOCATION:Castro Valley Marketplace\, 3295 Castro Valley Boulevard\, Castro Valley\, CA\, 94546\, United States
CATEGORIES:Live Music
ATTACH;FMTTYPE=image/jpeg:https://castrovalleymarketplace.com/wp-content/uploads/2021/09/LauraAndAnton2.jpeg
GEO:37.69557;-122.078496
X-APPLE-STRUCTURED-LOCATION;VALUE=URI;X-ADDRESS=Castro Valley Marketplace 3295 Castro Valley Boulevard Castro Valley CA 94546 United States;X-APPLE-RADIUS=500;X-TITLE=3295 Castro Valley Boulevard:geo:-122.078496,37.69557
END:VEVENT
BEGIN:VEVENT
DTSTART;TZID=America/Los_Angeles:20211210T210000
DTEND;TZID=America/Los_Angeles:20211210T230000
DTSTAMP:20260423T140958
CREATED:20211130T183221Z
LAST-MODIFIED:20211130T183221Z
UID:10000418-1639170000-1639177200@castrovalleymarketplace.com
SUMMARY:Night Owl Music Series: Bill Ortiz and Chris Siebert
DESCRIPTION:The mezzanine at the Castro Valley Marketplace comes alive from 9:00 pm to 11:00 pm featuring Bill Ortiz and Chris Siebert on stage \nBill Ortiz was the lead trumpet player for Santana… a chair he has held for over twelve years In addition to his world travels\, Las Vegas showcases and arena gigs with Carlos’ crew\, Ortiz’s sweet\, assertive trumpet attack has made him one of the most in-demand players on the San Francisco Bay Area music scene. \nChris Siebert is the band leader and piano player for Lavay Smith and Her Red Hot Skillet Lickers. \nBill and Chris come together tonight to create a night to remember for the Castro Valley Community. \nEnter through the west entry off the parking lot. \nA selection of cocktails and bar bites will be served by Night Owl.
URL:https://castrovalleymarketplace.com/calendar/night-owl-music-series-bill-ortiz-and-chris-siebert/
LOCATION:Castro Valley Marketplace\, 3295 Castro Valley Boulevard\, Castro Valley\, CA\, 94546\, United States
CATEGORIES:Live Music
ATTACH;FMTTYPE=image/jpeg:https://castrovalleymarketplace.com/wp-content/uploads/2021/10/Chris-Siebert-Bill-Ortiz.jpg
GEO:37.69557;-122.078496
X-APPLE-STRUCTURED-LOCATION;VALUE=URI;X-ADDRESS=Castro Valley Marketplace 3295 Castro Valley Boulevard Castro Valley CA 94546 United States;X-APPLE-RADIUS=500;X-TITLE=3295 Castro Valley Boulevard:geo:-122.078496,37.69557
END:VEVENT
BEGIN:VEVENT
DTSTART;TZID=America/Los_Angeles:20211211T210000
DTEND;TZID=America/Los_Angeles:20211211T230000
DTSTAMP:20260423T140958
CREATED:20211203T170525Z
LAST-MODIFIED:20211203T170525Z
UID:10000419-1639256400-1639263600@castrovalleymarketplace.com
SUMMARY:Night Owl Music Series: Marco Diaz and Saul Sierra
DESCRIPTION:The mezzanine at the Castro Valley Marketplace comes alive from 9:00 pm to 11:00 pm featuring Marco Diaz and Saul Sierra on stage \nMarco is part of the faculty at the Community Music Center in San Francisco and has been a part of the SFJAZZ teaching artist program since 2017. He is an accomplished recording musician who has shared the stage with Grammy Award winning artist\, Israel “Cachao” Lopez\, Nelson Gonzales\, Jimmy Bosch\, Pete “El Conde” Rodriguez\, Ska Cubano (Europe)\, Tito Rojas\, Nino Segarra\, Anthony Cruz\, Anthony Blea\, Jovino Santos Neto\, Joe Santiago\, and is an integral member of the John Santos sextet\, and the musical director for Bobi Cespedes.  Marco has participated in the San Francisco Symphony AIM program since 2000 and currently produces records and performs music throughout the country while also co-leading Vission Latina\, an Afro-Caribbean dance band\, and director of his own quartet\, The Marco Diaz Quartet. \nFor the past 20 years Saúl Sierra has been a member of some of the leading bands in the Bay Area\, including The John Santos Quintet/Sextet\, Bobi Cespedes’ band\,  Dr. Loco’s Rocking  Jalapeño Band\, El Tren Trío\, Anthony Blea y su Charanga\, The Snake Trío\, Jesús Díaz y su QBA\, The Bay Area Afro-Cuban All Stars\, The Venezuelan Music Project\, Corazón Sur\, Sababa band\, Cascada de Flores\, SJZ Collective\, LaTiDo\, \nA founding member of Vission Latina\, and The VLTro\, the bands that he co-leads with Carlos Caro\, percussionist extraordinaire\, and Marco Díaz\, virtuoso multiinstrumentalist (piano/trumpet)\, Saúl keeps himself busy performing\, composing\, arranging and teaching in the world class musical community of the San Francisco Bay Area.\nTwo of his newest projects include The Saul Sierra Trio\, a contemporary jazz fusion jazz trio and The Saul Sierra Quintet a pianoless latin jazz quintet. \nEnter through the west entry off the parking lot. \nA selection of cocktails and bar bites will be served by Night Owl.
URL:https://castrovalleymarketplace.com/calendar/night-owl-music-series-marco-diaz-and-saul-sierra/
LOCATION:Castro Valley Marketplace\, 3295 Castro Valley Boulevard\, Castro Valley\, CA\, 94546\, United States
CATEGORIES:Live Music
ATTACH;FMTTYPE=image/jpeg:https://castrovalleymarketplace.com/wp-content/uploads/2021/12/marcodiaz-and-Saul-Sierra.jpeg
GEO:37.69557;-122.078496
X-APPLE-STRUCTURED-LOCATION;VALUE=URI;X-ADDRESS=Castro Valley Marketplace 3295 Castro Valley Boulevard Castro Valley CA 94546 United States;X-APPLE-RADIUS=500;X-TITLE=3295 Castro Valley Boulevard:geo:-122.078496,37.69557
END:VEVENT
BEGIN:VEVENT
DTSTART;TZID=America/Los_Angeles:20211217T210000
DTEND;TZID=America/Los_Angeles:20211217T230000
DTSTAMP:20260423T140958
CREATED:20211130T183825Z
LAST-MODIFIED:20211130T183825Z
UID:10000409-1639774800-1639782000@castrovalleymarketplace.com
SUMMARY:Night Owl Music Series: Bill Ortiz and Jonathan Alford
DESCRIPTION:The mezzanine at the Castro Valley Marketplace comes alive from 9:00 pm to 11:00 pm featuring Bill Ortiz and Jonathan Alford on stage \nBill Ortiz was the lead trumpet player for Santana… a chair he has held for over twelve years In addition to his world travels\, Las Vegas showcases and arena gigs with Carlos’ crew\, Ortiz’s sweet\, assertive trumpet attack has made him one of the most in-demand players on the San Francisco Bay Area music scene. \nJonathan Alford has played piano since the age of 5. Taught by a musical after Alford played classical piano until he began exploring the world of jazz and Latin music in his late 20’s. Largely self taught alford has become a mainstay of the bay area music scene. He co-led Azesu with legendary Cuban timbalero Orestes Vilato of whom the Healdsburg Tribune said ‘Azesu lays down a new marker for Latin Jazz.’ Alford has also played with John Santos and Machete Ensemble\, Santana\, Chocolate Armenteros\, and many other Latin greats as well as Bobby Hutchinson\,Maria Marquez and John Stowell.\nHe is currently the leader of Proteus Trio with grammy winning artists Evan Price and Lewis Patzer. Andrew Gilbert of the East Bay Times has said ‘Proteus trio brings together 3 of the most versatile and adventurous musicians in the bay area. Proteus doesn’t so much ignore genre conventions as embrace every musical practice. \nEnter through the west entry off the parking lot. \nA selection of cocktails and bar bites will be served by Night Owl.
URL:https://castrovalleymarketplace.com/calendar/night-owl-music-series-bill-ortiz-and-jonathan-alford/
LOCATION:Castro Valley Marketplace\, 3295 Castro Valley Boulevard\, Castro Valley\, CA\, 94546\, United States
CATEGORIES:Live Music
ATTACH;FMTTYPE=image/jpeg:https://castrovalleymarketplace.com/wp-content/uploads/2021/09/JonathanAlford-10-29-10-30.jpg
GEO:37.69557;-122.078496
X-APPLE-STRUCTURED-LOCATION;VALUE=URI;X-ADDRESS=Castro Valley Marketplace 3295 Castro Valley Boulevard Castro Valley CA 94546 United States;X-APPLE-RADIUS=500;X-TITLE=3295 Castro Valley Boulevard:geo:-122.078496,37.69557
END:VEVENT
BEGIN:VEVENT
DTSTART;TZID=America/Los_Angeles:20211218T210000
DTEND;TZID=America/Los_Angeles:20211218T230000
DTSTAMP:20260423T140958
CREATED:20211130T183938Z
LAST-MODIFIED:20211130T183938Z
UID:10000407-1639861200-1639868400@castrovalleymarketplace.com
SUMMARY:Night Owl Music Series: Laura & Anton
DESCRIPTION:The mezzanine at the Castro Valley Marketplace comes alive from 9:00 pm to 11:00 pm featuring Laura & Anton on stage \nHusband and wife duo Laura & Anton had spent years releasing ambitious\, creative records in relative obscurity with their experimental pop act Foxtails Brigade when one day they released a simple\, home-recorded live video of the old french chanson\, “La Vie En Rose”. Having grown up on classic jazz singers like Billie Holiday\, Ella Fitzgerald and Astrud Gilberto\, front-woman Laura Weinbach holds a love and respect for melody that informs her pure\, no-frills approach to vocals\, a welcome breath of fresh air in the era of American Idol over-singing. The video went viral\, garnering millions of views on youtube\, and suddenly Laura & Anton were an international act\, flying around the US\, Europe and Asia for live appearances\, including a cameo in an Alec Baldwin film. Continuing in the stripped-down style of their original hit\, the duo released “Live Recordings” a mini album of covers and originals and now release monthly singles. \nEnter through the west entry off the parking lot. \nA selection of cocktails and bar bites will be served by Night Owl.
URL:https://castrovalleymarketplace.com/calendar/night-owl-music-series-laura-anton-2/
LOCATION:Castro Valley Marketplace\, 3295 Castro Valley Boulevard\, Castro Valley\, CA\, 94546\, United States
CATEGORIES:Live Music
ATTACH;FMTTYPE=image/jpeg:https://castrovalleymarketplace.com/wp-content/uploads/2021/09/LauraAndAnton.jpeg
GEO:37.69557;-122.078496
X-APPLE-STRUCTURED-LOCATION;VALUE=URI;X-ADDRESS=Castro Valley Marketplace 3295 Castro Valley Boulevard Castro Valley CA 94546 United States;X-APPLE-RADIUS=500;X-TITLE=3295 Castro Valley Boulevard:geo:-122.078496,37.69557
END:VEVENT
BEGIN:VEVENT
DTSTART;TZID=America/Los_Angeles:20211231T210000
DTEND;TZID=America/Los_Angeles:20211231T230000
DTSTAMP:20260423T140958
CREATED:20211130T184046Z
LAST-MODIFIED:20211130T184046Z
UID:10000403-1640984400-1640991600@castrovalleymarketplace.com
SUMMARY:Night Owl Music Series: Log Rhythm
DESCRIPTION:The mezzanine at the Castro Valley Marketplace comes alive from 9:00 pm to 11:00 pm featuring Log Rhythm on stage \nPrimal beat driven ambient electronica. \nEnter through the west entry off the parking lot. \nA selection of cocktails and bar bites will be served by Night Owl.
URL:https://castrovalleymarketplace.com/calendar/night-owl-music-series-log-rhythm/
LOCATION:Castro Valley Marketplace\, 3295 Castro Valley Boulevard\, Castro Valley\, CA\, 94546\, United States
CATEGORIES:Live Music
ATTACH;FMTTYPE=image/jpeg:https://castrovalleymarketplace.com/wp-content/uploads/2021/10/Log-Rhythm.jpg
GEO:37.69557;-122.078496
X-APPLE-STRUCTURED-LOCATION;VALUE=URI;X-ADDRESS=Castro Valley Marketplace 3295 Castro Valley Boulevard Castro Valley CA 94546 United States;X-APPLE-RADIUS=500;X-TITLE=3295 Castro Valley Boulevard:geo:-122.078496,37.69557
END:VEVENT
END:VCALENDAR