BEGIN:VCALENDAR
VERSION:2.0
PRODID:-//Castro Valley Marketplace - ECPv6.15.18//NONSGML v1.0//EN
CALSCALE:GREGORIAN
METHOD:PUBLISH
X-ORIGINAL-URL:https://castrovalleymarketplace.com
X-WR-CALDESC:Events for Castro Valley Marketplace
REFRESH-INTERVAL;VALUE=DURATION:PT1H
X-Robots-Tag:noindex
X-PUBLISHED-TTL:PT1H
BEGIN:VTIMEZONE
TZID:America/Los_Angeles
BEGIN:DAYLIGHT
TZOFFSETFROM:-0800
TZOFFSETTO:-0700
TZNAME:PDT
DTSTART:20210314T100000
END:DAYLIGHT
BEGIN:STANDARD
TZOFFSETFROM:-0700
TZOFFSETTO:-0800
TZNAME:PST
DTSTART:20211107T090000
END:STANDARD
BEGIN:DAYLIGHT
TZOFFSETFROM:-0800
TZOFFSETTO:-0700
TZNAME:PDT
DTSTART:20220313T100000
END:DAYLIGHT
BEGIN:STANDARD
TZOFFSETFROM:-0700
TZOFFSETTO:-0800
TZNAME:PST
DTSTART:20221106T090000
END:STANDARD
BEGIN:DAYLIGHT
TZOFFSETFROM:-0800
TZOFFSETTO:-0700
TZNAME:PDT
DTSTART:20230312T100000
END:DAYLIGHT
BEGIN:STANDARD
TZOFFSETFROM:-0700
TZOFFSETTO:-0800
TZNAME:PST
DTSTART:20231105T090000
END:STANDARD
END:VTIMEZONE
BEGIN:VEVENT
DTSTART;TZID=America/Los_Angeles:20220203T200000
DTEND;TZID=America/Los_Angeles:20220203T220000
DTSTAMP:20260421T152445
CREATED:20220201T215755Z
LAST-MODIFIED:20220201T215755Z
UID:10000723-1643918400-1643925600@castrovalleymarketplace.com
SUMMARY:Plethos Comedy Lab by Plethos Productions
DESCRIPTION:The Plethos Comedy Lab is a monthly stand-up comedy show where up-and-coming comics from around the Bay gather to make you laugh! Upstairs in Lab 200 at the Castro Valley Marketplace.
URL:https://castrovalleymarketplace.com/calendar/plethos-comedy-lab-by-plethos-productions-4/
LOCATION:Lab 200\, 3295 Castro Valley Blvd\, Suite 200\, Castro Valley\, 94546
CATEGORIES:LAB 200
ATTACH;FMTTYPE=image/png:https://castrovalleymarketplace.com/wp-content/uploads/2021/10/9804301562e1707dba306343ea3b9670.png
ORGANIZER;CN="Plethos Productions":MAILTO:Info@plethos.org
END:VEVENT
BEGIN:VEVENT
DTSTART;TZID=America/Los_Angeles:20220211T170000
DTEND;TZID=America/Los_Angeles:20220211T203000
DTSTAMP:20260421T152445
CREATED:20220210T215612Z
LAST-MODIFIED:20220211T214311Z
UID:10000750-1644598800-1644611400@castrovalleymarketplace.com
SUMMARY:Valentines Dinner by Akemi Sushi
DESCRIPTION:Akemi Sushi and Castro Valley Marketplace proudly presents \nVALENTINES DINNER\nFebruary 11\, 2022 – February 14\, 2022\n5.00 PM – 8.30 PM \nSet Dinner $90 per person \nMiso Soup | Salad\n2 Kusshi Oysters | Fried Calamari\n3 pc chef’s choice Sashimi\n5 pc chef’s choice Nigiri\nAvocado Maki\nLobster Roll: mango\, tuna\, rolled in soy wrap\nPanna cotta\n1 glass of champgne \nAt Lab 200 (Castro Valley Marketplace) \nCall (510) 363-9179 for a reservation \nwww.akemiastrovalley.com
URL:https://castrovalleymarketplace.com/calendar/valentines-dinner-by-akemi-sushi/2022-02-11/
LOCATION:Lab 200\, 3295 Castro Valley Blvd\, Suite 200\, Castro Valley\, 94546
CATEGORIES:Akemi,LAB 200,Marketplace Events
ATTACH;FMTTYPE=image/jpeg:https://castrovalleymarketplace.com/wp-content/uploads/2022/02/Akemi-CV-Vday-Poster.jpg
END:VEVENT
BEGIN:VEVENT
DTSTART;TZID=America/Los_Angeles:20220212T170000
DTEND;TZID=America/Los_Angeles:20220212T203000
DTSTAMP:20260421T152445
CREATED:20220210T215612Z
LAST-MODIFIED:20220211T214753Z
UID:10000656-1644685200-1644697800@castrovalleymarketplace.com
SUMMARY:Valentines Dinner by Akemi Sushi
DESCRIPTION:Akemi Sushi and Castro Valley Marketplace proudly presents \nVALENTINES DINNER\nFebruary 11\, 2022 – February 14\, 2022\n5.00 PM – 8.30 PM \nSet Dinner $90 per person \nMiso Soup | Salad\n2 Kusshi Oysters | Fried Calamari\n3 pc chef’s choice Sashimi\n5 pc chef’s choice Nigiri\nAvocado Maki\nLobster Roll: mango\, tuna\, rolled in soy wrap\nPanna cotta\n1 glass of champgne \nAt Lab 200 (Castro Valley Marketplace) \nCall (510) 363-9179 for a reservation \nwww.akemiastrovalley.com
URL:https://castrovalleymarketplace.com/calendar/valentines-dinner-by-akemi-sushi-2022-02-12/
LOCATION:Lab 200\, 3295 Castro Valley Blvd\, Suite 200\, Castro Valley\, 94546
CATEGORIES:Akemi,LAB 200,Marketplace Events
ATTACH;FMTTYPE=image/png:https://castrovalleymarketplace.com/wp-content/uploads/2022/02/IMG_8700.png
END:VEVENT
BEGIN:VEVENT
DTSTART;TZID=America/Los_Angeles:20220213T170000
DTEND;TZID=America/Los_Angeles:20220213T203000
DTSTAMP:20260421T152445
CREATED:20220210T215612Z
LAST-MODIFIED:20220211T223537Z
UID:10000657-1644771600-1644784200@castrovalleymarketplace.com
SUMMARY:Valentines Dinner by Akemi Sushi
DESCRIPTION:Akemi Sushi and Castro Valley Marketplace proudly presents \nVALENTINES DINNER\nFebruary 11\, 2022 – February 14\, 2022\n5.00 PM – 8.30 PM \nSet Dinner $90 per person \nMiso Soup | Salad\n2 Kusshi Oysters | Fried Calamari\n3 pc chef’s choice Sashimi\n5 pc chef’s choice Nigiri\nAvocado Maki\nLobster Roll: mango\, tuna\, rolled in soy wrap\nPanna cotta\n1 glass of champgne \nAt Lab 200 (Castro Valley Marketplace) \nCall (510) 363-9179 for a reservation \nwww.akemiastrovalley.com
URL:https://castrovalleymarketplace.com/calendar/valentines-dinner-by-akemi-sushi-2022-02-13/
LOCATION:Lab 200\, 3295 Castro Valley Blvd\, Suite 200\, Castro Valley\, 94546
CATEGORIES:Akemi,LAB 200,Marketplace Events
ATTACH;FMTTYPE=image/jpeg:https://castrovalleymarketplace.com/wp-content/uploads/2022/02/IMG_8702-scaled.jpg
END:VEVENT
BEGIN:VEVENT
DTSTART;TZID=America/Los_Angeles:20220214T170000
DTEND;TZID=America/Los_Angeles:20220214T203000
DTSTAMP:20260421T152445
CREATED:20220210T215612Z
LAST-MODIFIED:20220211T223600Z
UID:10000658-1644858000-1644870600@castrovalleymarketplace.com
SUMMARY:Valentines Dinner by Akemi Sushi
DESCRIPTION:Akemi Sushi and Castro Valley Marketplace proudly presents \nVALENTINES DINNER\nFebruary 11\, 2022 – February 14\, 2022\n5.00 PM – 8.30 PM \nSet Dinner $90 per person \nMiso Soup | Salad\n2 Kusshi Oysters | Fried Calamari\n3 pc chef’s choice Sashimi\n5 pc chef’s choice Nigiri\nAvocado Maki\nLobster Roll: mango\, tuna\, rolled in soy wrap\nPanna cotta\n1 glass of champgne \nAt Lab 200 (Castro Valley Marketplace) \nCall (510) 363-9179 for a reservation \nwww.akemiastrovalley.com
URL:https://castrovalleymarketplace.com/calendar/valentines-dinner-by-akemi-sushi-2022-02-14/
LOCATION:Lab 200\, 3295 Castro Valley Blvd\, Suite 200\, Castro Valley\, 94546
CATEGORIES:Akemi,LAB 200,Marketplace Events
ATTACH;FMTTYPE=image/jpeg:https://castrovalleymarketplace.com/wp-content/uploads/2022/02/IMG_8732-scaled.jpg
END:VEVENT
END:VCALENDAR