BEGIN:VCALENDAR
VERSION:2.0
PRODID:-//Castro Valley Marketplace - ECPv6.15.18//NONSGML v1.0//EN
CALSCALE:GREGORIAN
METHOD:PUBLISH
X-WR-CALNAME:Castro Valley Marketplace
X-ORIGINAL-URL:https://castrovalleymarketplace.com
X-WR-CALDESC:Events for Castro Valley Marketplace
REFRESH-INTERVAL;VALUE=DURATION:PT1H
X-Robots-Tag:noindex
X-PUBLISHED-TTL:PT1H
BEGIN:VTIMEZONE
TZID:America/Los_Angeles
BEGIN:DAYLIGHT
TZOFFSETFROM:-0800
TZOFFSETTO:-0700
TZNAME:PDT
DTSTART:20210314T100000
END:DAYLIGHT
BEGIN:STANDARD
TZOFFSETFROM:-0700
TZOFFSETTO:-0800
TZNAME:PST
DTSTART:20211107T090000
END:STANDARD
BEGIN:DAYLIGHT
TZOFFSETFROM:-0800
TZOFFSETTO:-0700
TZNAME:PDT
DTSTART:20220313T100000
END:DAYLIGHT
BEGIN:STANDARD
TZOFFSETFROM:-0700
TZOFFSETTO:-0800
TZNAME:PST
DTSTART:20221106T090000
END:STANDARD
BEGIN:DAYLIGHT
TZOFFSETFROM:-0800
TZOFFSETTO:-0700
TZNAME:PDT
DTSTART:20230312T100000
END:DAYLIGHT
BEGIN:STANDARD
TZOFFSETFROM:-0700
TZOFFSETTO:-0800
TZNAME:PST
DTSTART:20231105T090000
END:STANDARD
END:VTIMEZONE
BEGIN:VEVENT
DTSTART;TZID=America/Los_Angeles:20220106T200000
DTEND;TZID=America/Los_Angeles:20220106T213000
DTSTAMP:20260421T171336
CREATED:20220105T224338Z
LAST-MODIFIED:20220105T224338Z
UID:10000535-1641499200-1641504600@castrovalleymarketplace.com
SUMMARY:Plethos Comedy Lab by Plethos Productions
DESCRIPTION:The Plethos Comedy Lab is a monthly stand-up comedy show where up-and-coming comics from around the Bay gather to make you laugh! Upstairs in Lab 200 at the Castro Valley Marketplace.
URL:https://castrovalleymarketplace.com/calendar/plethos-comedy-lab-by-plethos-productions-3/
LOCATION:Lab 200\, 3295 Castro Valley Blvd\, Suite 200\, Castro Valley\, 94546
CATEGORIES:LAB 200
ATTACH;FMTTYPE=image/png:https://castrovalleymarketplace.com/wp-content/uploads/2021/10/9804301562e1707dba306343ea3b9670.png
ORGANIZER;CN="Plethos Productions":MAILTO:Info@plethos.org
END:VEVENT
END:VCALENDAR