BEGIN:VCALENDAR
VERSION:2.0
PRODID:-//Castro Valley Marketplace - ECPv6.15.18//NONSGML v1.0//EN
CALSCALE:GREGORIAN
METHOD:PUBLISH
X-ORIGINAL-URL:https://castrovalleymarketplace.com
X-WR-CALDESC:Events for Castro Valley Marketplace
REFRESH-INTERVAL;VALUE=DURATION:PT1H
X-Robots-Tag:noindex
X-PUBLISHED-TTL:PT1H
BEGIN:VTIMEZONE
TZID:America/Los_Angeles
BEGIN:DAYLIGHT
TZOFFSETFROM:-0800
TZOFFSETTO:-0700
TZNAME:PDT
DTSTART:20200308T100000
END:DAYLIGHT
BEGIN:STANDARD
TZOFFSETFROM:-0700
TZOFFSETTO:-0800
TZNAME:PST
DTSTART:20201101T090000
END:STANDARD
BEGIN:DAYLIGHT
TZOFFSETFROM:-0800
TZOFFSETTO:-0700
TZNAME:PDT
DTSTART:20210314T100000
END:DAYLIGHT
BEGIN:STANDARD
TZOFFSETFROM:-0700
TZOFFSETTO:-0800
TZNAME:PST
DTSTART:20211107T090000
END:STANDARD
BEGIN:DAYLIGHT
TZOFFSETFROM:-0800
TZOFFSETTO:-0700
TZNAME:PDT
DTSTART:20220313T100000
END:DAYLIGHT
BEGIN:STANDARD
TZOFFSETFROM:-0700
TZOFFSETTO:-0800
TZNAME:PST
DTSTART:20221106T090000
END:STANDARD
END:VTIMEZONE
BEGIN:VEVENT
DTSTART;TZID=America/Los_Angeles:20211002T200000
DTEND;TZID=America/Los_Angeles:20211002T220000
DTSTAMP:20260421T214750
CREATED:20211012T231640Z
LAST-MODIFIED:20211012T231640Z
UID:10000088-1633204800-1633212000@castrovalleymarketplace.com
SUMMARY:Joketoberfest by Plethos Productions
DESCRIPTION:A lineup of 5 Bay Area stand-up comics will be bringing the laughs to the Castro Valley Marketplace upstairs in Lab 200. Grab a cold one from Night Owl and ring in the fall with a fun night of laughs! \nFeaturing headliner Ira Summer as seen on World Series of Comedy\, along with host Priya Guyadeen\, and featuring Bay Area comics Lalita Dee\, Arturo Raygoza Jr. and Melissa Mcgillicuddy!
URL:https://castrovalleymarketplace.com/calendar/joketoberfest-by-plethos-productions/
LOCATION:Lab 200\, 3295 Castro Valley Blvd\, Suite 200\, Castro Valley\, 94546
CATEGORIES:LAB 200
ATTACH;FMTTYPE=image/jpeg:https://castrovalleymarketplace.com/wp-content/uploads/2021/10/Plethos.jpg
ORGANIZER;CN="Plethos Productions":MAILTO:Info@plethos.org
END:VEVENT
END:VCALENDAR