BEGIN:VCALENDAR
VERSION:2.0
PRODID:-//Castro Valley Marketplace - ECPv6.15.18//NONSGML v1.0//EN
CALSCALE:GREGORIAN
METHOD:PUBLISH
X-ORIGINAL-URL:https://castrovalleymarketplace.com
X-WR-CALDESC:Events for Castro Valley Marketplace
REFRESH-INTERVAL;VALUE=DURATION:PT1H
X-Robots-Tag:noindex
X-PUBLISHED-TTL:PT1H
BEGIN:VTIMEZONE
TZID:America/Los_Angeles
BEGIN:DAYLIGHT
TZOFFSETFROM:-0800
TZOFFSETTO:-0700
TZNAME:PDT
DTSTART:20200308T100000
END:DAYLIGHT
BEGIN:STANDARD
TZOFFSETFROM:-0700
TZOFFSETTO:-0800
TZNAME:PST
DTSTART:20201101T090000
END:STANDARD
BEGIN:DAYLIGHT
TZOFFSETFROM:-0800
TZOFFSETTO:-0700
TZNAME:PDT
DTSTART:20210314T100000
END:DAYLIGHT
BEGIN:STANDARD
TZOFFSETFROM:-0700
TZOFFSETTO:-0800
TZNAME:PST
DTSTART:20211107T090000
END:STANDARD
BEGIN:DAYLIGHT
TZOFFSETFROM:-0800
TZOFFSETTO:-0700
TZNAME:PDT
DTSTART:20220313T100000
END:DAYLIGHT
BEGIN:STANDARD
TZOFFSETFROM:-0700
TZOFFSETTO:-0800
TZNAME:PST
DTSTART:20221106T090000
END:STANDARD
END:VTIMEZONE
BEGIN:VEVENT
DTSTART;TZID=America/Los_Angeles:20210709T190000
DTEND;TZID=America/Los_Angeles:20210709T200000
DTSTAMP:20260422T022321
CREATED:20210629T215925Z
LAST-MODIFIED:20210701T184212Z
UID:10000390-1625857200-1625860800@castrovalleymarketplace.com
SUMMARY:Appreciation Night
DESCRIPTION:To the sponsors and merchants that have been working hard since the beginning; the Castro Valley Marketplace would like to thank everyone who has made this project a success. \nThis event is a private event- invitation only.
URL:https://castrovalleymarketplace.com/calendar/appreciation-night/
LOCATION:Castro Valley Marketplace\, 3295 Castro Valley Boulevard\, Castro Valley\, CA\, 94546\, United States
CATEGORIES:LAB 200,Private Event
ATTACH;FMTTYPE=image/jpeg:https://castrovalleymarketplace.com/wp-content/uploads/2021/06/Calendar-Image-Appreciation-Night-CVM-7-1-21.jpg
GEO:37.69557;-122.078496
X-APPLE-STRUCTURED-LOCATION;VALUE=URI;X-ADDRESS=Castro Valley Marketplace 3295 Castro Valley Boulevard Castro Valley CA 94546 United States;X-APPLE-RADIUS=500;X-TITLE=3295 Castro Valley Boulevard:geo:-122.078496,37.69557
END:VEVENT
BEGIN:VEVENT
DTSTART;TZID=America/Los_Angeles:20210710T143000
DTEND;TZID=America/Los_Angeles:20210710T173000
DTSTAMP:20260422T022321
CREATED:20210706T171630Z
LAST-MODIFIED:20210706T171733Z
UID:10000402-1625927400-1625938200@castrovalleymarketplace.com
SUMMARY:Amphora Nueva: Cooking Demonstrations and Olive Oil Tasting
DESCRIPTION:Help Amphora Nueva kick off Castro Valley Marketplace’s grand opening weekend with an afternoon filled with cooking demonstrations\, raffle prizes and samples of unique offerings! Join the festivities on July 10th from 2:30 pm to 5:30 pm in Lab 200 on the mezzanine of Castro Valley Marketplace. Absolutely free to the public!
URL:https://castrovalleymarketplace.com/calendar/amphora-nueva-tasting-on-the-paseo-4/
LOCATION:Lab 200\, 3295 Castro Valley Blvd\, Suite 200\, Castro Valley\, 94546
CATEGORIES:Amphora Nueva,LAB 200
ATTACH;FMTTYPE=image/jpeg:https://castrovalleymarketplace.com/wp-content/uploads/2021/06/castro-valley-marketplace-amphora-nueva-tasting-on-the-paseo-1600x900-1.jpg
END:VEVENT
BEGIN:VEVENT
DTSTART;TZID=America/Los_Angeles:20210711T200000
DTEND;TZID=America/Los_Angeles:20210711T211500
DTSTAMP:20260422T022321
CREATED:20210629T204611Z
LAST-MODIFIED:20210706T163316Z
UID:10000453-1626033600-1626038100@castrovalleymarketplace.com
SUMMARY:"Thank You" Concert - Jenny Lin Foundation
DESCRIPTION:The Jenny Lin Foundation would like to thank its donors for supporting them over the past 28 years. As a thank you to their donors\, the Jenny Lin Foundation has partnered with the Castro Valley Marketplace\, The Excellent Cheesecakes and Amphora Nueva featuring the Quartet 4 Jenny to provide a private concert paired with cheesecakes and balsamic vinegar spritzers. \n  \n 
URL:https://castrovalleymarketplace.com/calendar/thank-you-concert-jenny-lin-foundation/
LOCATION:Castro Valley Marketplace\, 3295 Castro Valley Boulevard\, Castro Valley\, CA\, 94546\, United States
CATEGORIES:LAB 200,Marketplace Special Hours,Private Event
ATTACH;FMTTYPE=image/jpeg:https://castrovalleymarketplace.com/wp-content/uploads/2021/06/Calendar-Image-Jenny-Lin-Foundation-concert-CVM-7-1-21.jpg
GEO:37.69557;-122.078496
X-APPLE-STRUCTURED-LOCATION;VALUE=URI;X-ADDRESS=Castro Valley Marketplace 3295 Castro Valley Boulevard Castro Valley CA 94546 United States;X-APPLE-RADIUS=500;X-TITLE=3295 Castro Valley Boulevard:geo:-122.078496,37.69557
END:VEVENT
END:VCALENDAR