BEGIN:VCALENDAR
VERSION:2.0
PRODID:-//Castro Valley Marketplace - ECPv6.15.18//NONSGML v1.0//EN
CALSCALE:GREGORIAN
METHOD:PUBLISH
X-ORIGINAL-URL:https://castrovalleymarketplace.com
X-WR-CALDESC:Events for Castro Valley Marketplace
REFRESH-INTERVAL;VALUE=DURATION:PT1H
X-Robots-Tag:noindex
X-PUBLISHED-TTL:PT1H
BEGIN:VTIMEZONE
TZID:America/Los_Angeles
BEGIN:DAYLIGHT
TZOFFSETFROM:-0800
TZOFFSETTO:-0700
TZNAME:PDT
DTSTART:20200308T100000
END:DAYLIGHT
BEGIN:STANDARD
TZOFFSETFROM:-0700
TZOFFSETTO:-0800
TZNAME:PST
DTSTART:20201101T090000
END:STANDARD
BEGIN:DAYLIGHT
TZOFFSETFROM:-0800
TZOFFSETTO:-0700
TZNAME:PDT
DTSTART:20210314T100000
END:DAYLIGHT
BEGIN:STANDARD
TZOFFSETFROM:-0700
TZOFFSETTO:-0800
TZNAME:PST
DTSTART:20211107T090000
END:STANDARD
BEGIN:DAYLIGHT
TZOFFSETFROM:-0800
TZOFFSETTO:-0700
TZNAME:PDT
DTSTART:20220313T100000
END:DAYLIGHT
BEGIN:STANDARD
TZOFFSETFROM:-0700
TZOFFSETTO:-0800
TZNAME:PST
DTSTART:20221106T090000
END:STANDARD
END:VTIMEZONE
BEGIN:VEVENT
DTSTART;TZID=America/Los_Angeles:20210630T100000
DTEND;TZID=America/Los_Angeles:20210630T150000
DTSTAMP:20260422T034759
CREATED:20210628T195800Z
LAST-MODIFIED:20210628T195935Z
UID:10000442-1625047200-1625065200@castrovalleymarketplace.com
SUMMARY:CV Rock Painting Event
DESCRIPTION:Want to help us decorate rocks for our Grand Opening event? Join us in LAB 200 and paint rocks to give away to the community! \nThis is a free event and is open for the whole community to participate in. All supplies will be provided\, but you are free to bring your own art supplies.
URL:https://castrovalleymarketplace.com/calendar/cv-rock-painting-event/
LOCATION:Castro Valley Marketplace\, 3295 Castro Valley Boulevard\, Castro Valley\, CA\, 94546\, United States
CATEGORIES:LAB 200,Marketplace Events
ATTACH;FMTTYPE=image/jpeg:https://castrovalleymarketplace.com/wp-content/uploads/2021/06/IMG_1509-scaled.jpg
GEO:37.69557;-122.078496
X-APPLE-STRUCTURED-LOCATION;VALUE=URI;X-ADDRESS=Castro Valley Marketplace 3295 Castro Valley Boulevard Castro Valley CA 94546 United States;X-APPLE-RADIUS=500;X-TITLE=3295 Castro Valley Boulevard:geo:-122.078496,37.69557
END:VEVENT
END:VCALENDAR