BEGIN:VCALENDAR
VERSION:2.0
PRODID:-//Castro Valley Marketplace - ECPv6.15.18//NONSGML v1.0//EN
CALSCALE:GREGORIAN
METHOD:PUBLISH
X-WR-CALNAME:Castro Valley Marketplace
X-ORIGINAL-URL:https://castrovalleymarketplace.com
X-WR-CALDESC:Events for Castro Valley Marketplace
REFRESH-INTERVAL;VALUE=DURATION:PT1H
X-Robots-Tag:noindex
X-PUBLISHED-TTL:PT1H
BEGIN:VTIMEZONE
TZID:America/Los_Angeles
BEGIN:DAYLIGHT
TZOFFSETFROM:-0800
TZOFFSETTO:-0700
TZNAME:PDT
DTSTART:20220313T100000
END:DAYLIGHT
BEGIN:STANDARD
TZOFFSETFROM:-0700
TZOFFSETTO:-0800
TZNAME:PST
DTSTART:20221106T090000
END:STANDARD
BEGIN:DAYLIGHT
TZOFFSETFROM:-0800
TZOFFSETTO:-0700
TZNAME:PDT
DTSTART:20230312T100000
END:DAYLIGHT
BEGIN:STANDARD
TZOFFSETFROM:-0700
TZOFFSETTO:-0800
TZNAME:PST
DTSTART:20231105T090000
END:STANDARD
BEGIN:DAYLIGHT
TZOFFSETFROM:-0800
TZOFFSETTO:-0700
TZNAME:PDT
DTSTART:20240310T100000
END:DAYLIGHT
BEGIN:STANDARD
TZOFFSETFROM:-0700
TZOFFSETTO:-0800
TZNAME:PST
DTSTART:20241103T090000
END:STANDARD
END:VTIMEZONE
BEGIN:VEVENT
DTSTART;TZID=America/Los_Angeles:20230930T110000
DTEND;TZID=America/Los_Angeles:20230930T160000
DTSTAMP:20260421T203913
CREATED:20230920T001303Z
LAST-MODIFIED:20230920T001303Z
UID:10000923-1696071600-1696089600@castrovalleymarketplace.com
SUMMARY:Rooftop Honey Harvest
DESCRIPTION:It’s honey harvest time! \nCome by and let the sweet aroma of warm fresh honey lure you in. Taste the rich\, sweet flavor of fresh-from-the-hive honeycomb\, and learn anything you ever wanted to know about honey bees at the Autumn Honey Harvest. \nYour Castro Valley bees have been hard at work\, and have produced an exceptional amount of honey that’s ready to be shared with you. \nIn case you didn’t know\, our hyper-local honey is made in four rooftop hives Castro Valley Natural Grocery keeps atop the Marketplace\, and several other hives they sponsor in the nearby community. \nIf you live within a few miles of the Marketplace maybe you’ve even seen their bees at work. \nThis honey is truly the product of our community and we think that’s super cool. \nSo come celebrate with us\, the magnificent work of your neighborhood bees. \nYou’ll the final steps of the process of fresh honey being made as its extracted\, spun\, and bottled right on site. \nThis harvest we expect over 300 pounds of fresh\, local Castro Valley honey! \nCurious about the bees themselves? Beekeeper\, Mike of The Bee Ranchers\, has got an encyclopedic knowledge of everything honey bee. \nIt’s a great chance to learn all about beekeeping\, bees\, honey\, and any other bee-related questions you’ve got. \nBee there.
URL:https://castrovalleymarketplace.com/calendar/rooftop-honey-harvest/
LOCATION:Castro Valley Marketplace\, 3295 Castro Valley Boulevard\, Castro Valley\, CA\, 94546\, United States
CATEGORIES:Castro Valley Natural Grocery,Honey Bees
ATTACH;FMTTYPE=image/jpeg:https://castrovalleymarketplace.com/wp-content/uploads/2023/09/honey-harvest-event-banner-generic.jpg
ORGANIZER;CN="Castro Valley Natural Grocery":MAILTO:info@eastbaynaturalgrocers.com
GEO:37.69557;-122.078496
X-APPLE-STRUCTURED-LOCATION;VALUE=URI;X-ADDRESS=Castro Valley Marketplace 3295 Castro Valley Boulevard Castro Valley CA 94546 United States;X-APPLE-RADIUS=500;X-TITLE=3295 Castro Valley Boulevard:geo:-122.078496,37.69557
END:VEVENT
END:VCALENDAR